BEGIN:VCALENDAR
VERSION:2.0
PRODID:-//Offshore Rooftop - ECPv6.15.17.1//NONSGML v1.0//EN
CALSCALE:GREGORIAN
METHOD:PUBLISH
X-WR-CALNAME:Offshore Rooftop
X-ORIGINAL-URL:https://www.offshorerooftop.com
X-WR-CALDESC:Events for Offshore Rooftop
REFRESH-INTERVAL;VALUE=DURATION:PT1H
X-Robots-Tag:noindex
X-PUBLISHED-TTL:PT1H
BEGIN:VTIMEZONE
TZID:America/Chicago
BEGIN:DAYLIGHT
TZOFFSETFROM:-0600
TZOFFSETTO:-0500
TZNAME:CDT
DTSTART:20240310T080000
END:DAYLIGHT
BEGIN:STANDARD
TZOFFSETFROM:-0500
TZOFFSETTO:-0600
TZNAME:CST
DTSTART:20241103T070000
END:STANDARD
BEGIN:DAYLIGHT
TZOFFSETFROM:-0600
TZOFFSETTO:-0500
TZNAME:CDT
DTSTART:20250309T080000
END:DAYLIGHT
BEGIN:STANDARD
TZOFFSETFROM:-0500
TZOFFSETTO:-0600
TZNAME:CST
DTSTART:20251102T070000
END:STANDARD
BEGIN:DAYLIGHT
TZOFFSETFROM:-0600
TZOFFSETTO:-0500
TZNAME:CDT
DTSTART:20260308T080000
END:DAYLIGHT
BEGIN:STANDARD
TZOFFSETFROM:-0500
TZOFFSETTO:-0600
TZNAME:CST
DTSTART:20261101T070000
END:STANDARD
BEGIN:DAYLIGHT
TZOFFSETFROM:-0600
TZOFFSETTO:-0500
TZNAME:CDT
DTSTART:20270314T080000
END:DAYLIGHT
BEGIN:STANDARD
TZOFFSETFROM:-0500
TZOFFSETTO:-0600
TZNAME:CST
DTSTART:20271107T070000
END:STANDARD
END:VTIMEZONE
BEGIN:VEVENT
DTSTART;TZID=America/Chicago:20260111T143000
DTEND;TZID=America/Chicago:20260111T173000
DTSTAMP:20260424T091358
CREATED:20260107T164356Z
LAST-MODIFIED:20260107T165745Z
UID:10005172-1768141800-1768152600@www.offshorerooftop.com
SUMMARY:Family Sunday Fundays
DESCRIPTION:After enjoying a fun-filled day at Navy Pier\, refuel and re-energize with us at Family Sunday Funday at Offshore Rooftop ✨🏙️ \nChildren can enjoy one free meal from our kids’ menu with the purchase of an adult meal every Sunday from 2:30pm to 5:30pm.
URL:https://www.offshorerooftop.com/event/family-sunday-fundays-2/2026-01-11/
LOCATION:Offshore Rooftop\, 1000 E. Grand\, Chicago\, IL\, 60611\, United States
ATTACH;FMTTYPE=image/jpeg:https://www.offshorerooftop.com/wp-content/uploads/2026/01/Web_Header-1920x1080-1.jpg
END:VEVENT
BEGIN:VEVENT
DTSTART;VALUE=DATE:20260108
DTEND;VALUE=DATE:20260109
DTSTAMP:20260424T091358
CREATED:20260106T204948Z
LAST-MODIFIED:20260410T215454Z
UID:10005108-1767830400-1767916799@www.offshorerooftop.com
SUMMARY:Wine Down Thursdays
DESCRIPTION:Wine down Offshore with half off bottles of wine all day long 🍷
URL:https://www.offshorerooftop.com/event/wine-down-thursdays/2026-01-08/
LOCATION:Offshore Rooftop\, 1000 E. Grand\, Chicago\, IL\, 60611\, United States
ATTACH;FMTTYPE=image/png:https://www.offshorerooftop.com/wp-content/uploads/2026/01/Web_Header-1920x1080-15.png
END:VEVENT
BEGIN:VEVENT
DTSTART;VALUE=DATE:20251231
DTEND;VALUE=DATE:20260101
DTSTAMP:20260424T091358
CREATED:20251126T164811Z
LAST-MODIFIED:20251126T164818Z
UID:10004845-1767139200-1767225599@www.offshorerooftop.com
SUMMARY:Closed for Private Event
DESCRIPTION:Offshore will be closed to the public on Wednesday\, December 31st\, due to a private event. We apologize for the inconvenience\, but we look forward to welcoming you in soon!
URL:https://www.offshorerooftop.com/event/closed-for-private-event-69/
LOCATION:Offshore Rooftop\, 1000 E. Grand\, Chicago\, IL\, 60611\, United States
CATEGORIES:Offshore Closed
END:VEVENT
BEGIN:VEVENT
DTSTART;VALUE=DATE:20251222
DTEND;VALUE=DATE:20251223
DTSTAMP:20260424T091358
CREATED:20251006T194806Z
LAST-MODIFIED:20251006T194806Z
UID:10004777-1766361600-1766447999@www.offshorerooftop.com
SUMMARY:Closed for Private Event
DESCRIPTION:Offshore will be closed to the public on Monday\, December 22nd due to a private event. We apologize for the inconvenience\, but look forward to welcoming you in soon!
URL:https://www.offshorerooftop.com/event/closed-for-private-event-73/
LOCATION:Offshore Rooftop\, 1000 E. Grand\, Chicago\, IL\, 60611\, United States
CATEGORIES:Offshore Closed
END:VEVENT
BEGIN:VEVENT
DTSTART;VALUE=DATE:20251216
DTEND;VALUE=DATE:20251217
DTSTAMP:20260424T091358
CREATED:20251006T194716Z
LAST-MODIFIED:20251006T194716Z
UID:10004776-1765843200-1765929599@www.offshorerooftop.com
SUMMARY:Closed for Private Event
DESCRIPTION:Offshore will be closed to the public on Tuesday\, December 16th due to a private event. We apologize for the inconvenience\, but look forward to welcoming you in soon!
URL:https://www.offshorerooftop.com/event/closed-for-private-event-72/
LOCATION:Offshore Rooftop\, 1000 E. Grand\, Chicago\, IL\, 60611\, United States
CATEGORIES:Offshore Closed
END:VEVENT
BEGIN:VEVENT
DTSTART;VALUE=DATE:20251211
DTEND;VALUE=DATE:20251212
DTSTAMP:20260424T091358
CREATED:20251006T193114Z
LAST-MODIFIED:20251006T193114Z
UID:10004775-1765411200-1765497599@www.offshorerooftop.com
SUMMARY:Closed for Private Event
DESCRIPTION:Offshore will be closed to the public on Thursday\, December 11th due to a private event. We apologize for the inconvenience\, but look forward to welcoming you in soon!
URL:https://www.offshorerooftop.com/event/closed-for-private-event-71/
LOCATION:Offshore Rooftop\, 1000 E. Grand\, Chicago\, IL\, 60611\, United States
CATEGORIES:Offshore Closed
END:VEVENT
BEGIN:VEVENT
DTSTART;TZID=America/Chicago:20251203T140000
DTEND;TZID=America/Chicago:20260208T200000
DTSTAMP:20260424T091358
CREATED:20251128T205255Z
LAST-MODIFIED:20260130T185911Z
UID:10004848-1764770400-1770580800@www.offshorerooftop.com
SUMMARY:Offshore Arctic Adventure
DESCRIPTION:A new adventure awaits at Offshore Rooftop ⛄❄️🐧 \nEmbark on an unforgettable expedition\, starting at our very own base camp. Wander through snow-laden birch trees\, spot wintery wildlife\, and sip on new\, specialty cocktails as you explore each corner of our new Arctic Adventure pop-up. Book your table and meet us at Base Camp. \nBe sure to pick up your Field Guide\, featuring: \n\nOur seasonal cocktail menu + kid-friendly mocktails\nA fun\, immersive Eye Spy activity inspired by our arctic décor
URL:https://www.offshorerooftop.com/event/offshore-arctic-adventure/
LOCATION:Offshore Rooftop\, 1000 E. Grand\, Chicago\, IL\, 60611\, United States
ATTACH;FMTTYPE=image/png:https://www.offshorerooftop.com/wp-content/uploads/2025/11/Offshore_Arctic-Adventure_Headers-2025-26-1920x1080-3-1.png
END:VEVENT
BEGIN:VEVENT
DTSTART;VALUE=DATE:20251201
DTEND;VALUE=DATE:20251202
DTSTAMP:20260424T091358
CREATED:20251006T192808Z
LAST-MODIFIED:20251006T193024Z
UID:10004774-1764547200-1764633599@www.offshorerooftop.com
SUMMARY:Closed for Private Event
DESCRIPTION:Offshore will be closed to the public on Monday\, December 1st due to a private event. We apologize for the inconvenience\, but look forward to welcoming you in soon!
URL:https://www.offshorerooftop.com/event/closed-for-private-event-70/
LOCATION:Offshore Rooftop\, 1000 E. Grand\, Chicago\, IL\, 60611\, United States
CATEGORIES:Offshore Closed
END:VEVENT
BEGIN:VEVENT
DTSTART;VALUE=DATE:20251121
DTEND;VALUE=DATE:20251122
DTSTAMP:20260424T091358
CREATED:20250904T172054Z
LAST-MODIFIED:20250904T172352Z
UID:10004768-1763683200-1763769599@www.offshorerooftop.com
SUMMARY:Closed for Private Event
DESCRIPTION:Offshore will be closed to the public on Friday\, November 21st due to a private event. We apologize for the inconvenience but look forward to welcoming you in soon!
URL:https://www.offshorerooftop.com/event/closed-for-private-event-68/
LOCATION:Offshore Rooftop\, 1000 E. Grand\, Chicago\, IL\, 60611\, United States
CATEGORIES:Offshore Closed
END:VEVENT
BEGIN:VEVENT
DTSTART;VALUE=DATE:20251118
DTEND;VALUE=DATE:20251119
DTSTAMP:20260424T091358
CREATED:20251031T180050Z
LAST-MODIFIED:20251031T180050Z
UID:10004780-1763424000-1763510399@www.offshorerooftop.com
SUMMARY:Closed for Private Event
DESCRIPTION:Offshore will be closed to the public on Friday\, November 18th\, due to a private event. We apologize for the inconvenience\, but look forward to welcoming you in soon!
URL:https://www.offshorerooftop.com/event/closed-for-private-event-75/
LOCATION:Offshore Rooftop\, 1000 E. Grand\, Chicago\, IL\, 60611\, United States
CATEGORIES:Offshore Closed
END:VEVENT
BEGIN:VEVENT
DTSTART;VALUE=DATE:20251112
DTEND;VALUE=DATE:20251113
DTSTAMP:20260424T091358
CREATED:20251031T175856Z
LAST-MODIFIED:20251031T175856Z
UID:10004769-1762905600-1762991999@www.offshorerooftop.com
SUMMARY:Closed for Private Event
DESCRIPTION:Offshore will be closed to the public on Wednesday\, November 12th\, due to a private event\, but will reopen to the public 5pm-8pm. We apologize for the inconvenience but look forward to welcoming you in soon!
URL:https://www.offshorerooftop.com/event/closed-for-private-event-74/
LOCATION:Offshore Rooftop\, 1000 E. Grand\, Chicago\, IL\, 60611\, United States
CATEGORIES:Offshore Closed
END:VEVENT
BEGIN:VEVENT
DTSTART;VALUE=DATE:20251106
DTEND;VALUE=DATE:20251107
DTSTAMP:20260424T091358
CREATED:20250904T170455Z
LAST-MODIFIED:20250904T171003Z
UID:10004767-1762387200-1762473599@www.offshorerooftop.com
SUMMARY:Closed for Private Event
DESCRIPTION:Offshore will be closed to the public on Thursday\, November 6th due to a private event. We apologize for the inconvenience but look forward to welcoming you in soon!
URL:https://www.offshorerooftop.com/event/closed-for-private-event-67/
LOCATION:Offshore Rooftop\, 1000 E. Grand\, Chicago\, IL\, 60611\, United States
CATEGORIES:Offshore Closed
END:VEVENT
BEGIN:VEVENT
DTSTART;VALUE=DATE:20251105
DTEND;VALUE=DATE:20251106
DTSTAMP:20260424T091358
CREATED:20250904T170132Z
LAST-MODIFIED:20250904T170132Z
UID:10004766-1762300800-1762387199@www.offshorerooftop.com
SUMMARY:Closed for Private Event
DESCRIPTION:Offshore will be closed to the public on Wednesday\, November 5th due to a private event. We apologize for the inconvenience but look forward to welcoming you in soon!
URL:https://www.offshorerooftop.com/event/closed-for-private-event-66/
LOCATION:Offshore Rooftop\, 1000 E. Grand\, Chicago\, IL\, 60611\, United States
CATEGORIES:Offshore Closed
END:VEVENT
BEGIN:VEVENT
DTSTART;TZID=America/Chicago:20251104T180000
DTEND;TZID=America/Chicago:20251104T200000
DTSTAMP:20260424T091358
CREATED:20250908T180347Z
LAST-MODIFIED:20250909T204336Z
UID:10004771-1762279200-1762286400@www.offshorerooftop.com
SUMMARY:Bingo Night at Offshore Rooftop
DESCRIPTION:Press play on a different kind of night out and bring your competitive spirit to Offshore for Bingo Night on the world’s largest rooftop! Get your crew together for a night of bingo\, craft cocktails\, and 360 skyline views. \nDate: 11/4 | Time: 6PM-8PM | ADMISSION: $10 including one free cocktail\, wine\, or beer of your choice \nPrizes Include: \n\n$50 Gift Certificate to Offshore Rooftop\n$100 Gift Certificate to Offshore Rooftop\n\nGET TICKETS \nDiscounted valet parking rate of $20 for up to 4 hours will be available at Navy Pier’s Entrance #2 on a first-come\, first-served basis (restaurant validation required) \nSECURITY NOTE: All guests are subject to a bag check and wanding prior to entry. \nVALID PHOTO ID REQUIRED FOR ENTRY (21+)
URL:https://www.offshorerooftop.com/event/bingo-night-at-offshore-rooftop/
LOCATION:Offshore Rooftop\, 1000 E. Grand\, Chicago\, IL\, 60611\, United States
CATEGORIES:Featured
ATTACH;FMTTYPE=image/png:https://www.offshorerooftop.com/wp-content/uploads/2025/09/Offshore_Trivia-Night-2025-header_6-3-25.png
ORGANIZER;CN="Offshore Rooftop":MAILTO:info@offshorerooftop.com
END:VEVENT
BEGIN:VEVENT
DTSTART;TZID=America/Chicago:20251031T170000
DTEND;TZID=America/Chicago:20251031T210000
DTSTAMP:20260424T091358
CREATED:20250917T170536Z
LAST-MODIFIED:20251006T191832Z
UID:10004772-1761930000-1761944400@www.offshorerooftop.com
SUMMARY:Halloween at Offshore Rooftop
DESCRIPTION:Calling all witches! Get vamped up for a night of thrills\, chills\, and drinks to die for 👻 \nStart Hallo-weekend off with a scary good start at the world’s largest rooftop. Don your spookiest garb for a chance to win our costume content\, imbibe in Halloween-themed potions + bites\, and snap your pic for the ‘gram against the skyline. \nDon’t miss our new witchy brews\, available 10/31 and 11/1. \n🌙 Midnight Fog—Dark\, dreamy\, and a little daring. Raspberry vodka meets Sichuan Baijiu\, softened with violette\, lavender\, and lemon. \n👻 Spooky Splash\, a hauntingly good mix of Santa Theresa Solera Rum\, passion fruit\, banana liqueur\, rhubarb liqueur\, and a bright twist of lemon. \n🎃 Jack O’ Margarita\, our spooky spin on a classic with Blanco Tequila\, triple sec\, orange juice\, and a splash of lime. \nRSVP
URL:https://www.offshorerooftop.com/event/halloween-at-offshore-rooftop/
LOCATION:Offshore Rooftop\, 1000 E. Grand\, Chicago\, IL\, 60611\, United States
ATTACH;FMTTYPE=image/png:https://www.offshorerooftop.com/wp-content/uploads/2025/09/Web_Header-1920x1080-7.png
ORGANIZER;CN="Offshore Rooftop":MAILTO:info@offshorerooftop.com
END:VEVENT
BEGIN:VEVENT
DTSTART;VALUE=DATE:20251029
DTEND;VALUE=DATE:20251030
DTSTAMP:20260424T091358
CREATED:20250904T165419Z
LAST-MODIFIED:20250904T165419Z
UID:10004765-1761696000-1761782399@www.offshorerooftop.com
SUMMARY:Closed for Private Event
DESCRIPTION:Offshore will be closed to the public on Wednesday\, October 29th due to a private event. We apologize for the inconvenience but look forward to welcoming you in soon!
URL:https://www.offshorerooftop.com/event/closed-for-private-event-65/
LOCATION:Offshore Rooftop\, 1000 E. Grand\, Chicago\, IL\, 60611\, United States
CATEGORIES:Offshore Closed
END:VEVENT
BEGIN:VEVENT
DTSTART;VALUE=DATE:20251028
DTEND;VALUE=DATE:20251029
DTSTAMP:20260424T091358
CREATED:20250904T165137Z
LAST-MODIFIED:20250904T165137Z
UID:10004764-1761609600-1761695999@www.offshorerooftop.com
SUMMARY:Closed for Private Event
DESCRIPTION:Offshore will be closed to the public on Tuesday\, October 28th due to a private event. We apologize for the inconvenience but look forward to welcoming you in soon!
URL:https://www.offshorerooftop.com/event/closed-for-private-event-64/
LOCATION:Offshore Rooftop\, 1000 E. Grand\, Chicago\, IL\, 60611\, United States
CATEGORIES:Offshore Closed
END:VEVENT
BEGIN:VEVENT
DTSTART;VALUE=DATE:20251027
DTEND;VALUE=DATE:20251028
DTSTAMP:20260424T091358
CREATED:20250904T165027Z
LAST-MODIFIED:20250904T165027Z
UID:10004763-1761523200-1761609599@www.offshorerooftop.com
SUMMARY:Closed for Private Event
DESCRIPTION:Offshore will be closed to the public on Monday\, October 27th due to a private event. We apologize for the inconvenience but look forward to welcoming you in soon!
URL:https://www.offshorerooftop.com/event/closed-for-private-event-63/
LOCATION:Offshore Rooftop\, 1000 E. Grand\, Chicago\, IL\, 60611\, United States
CATEGORIES:Offshore Closed
END:VEVENT
BEGIN:VEVENT
DTSTART;VALUE=DATE:20251016
DTEND;VALUE=DATE:20251017
DTSTAMP:20260424T091358
CREATED:20250904T164620Z
LAST-MODIFIED:20250904T164620Z
UID:10004762-1760572800-1760659199@www.offshorerooftop.com
SUMMARY:Closed for Private Event
DESCRIPTION:Offshore will be closed to the public on Thursday\, October 16th due to a private event. We apologize for the inconvenience but look forward to welcoming you in soon!
URL:https://www.offshorerooftop.com/event/closed-for-private-event-62/
LOCATION:Offshore Rooftop\, 1000 E. Grand\, Chicago\, IL\, 60611\, United States
CATEGORIES:Offshore Closed
END:VEVENT
BEGIN:VEVENT
DTSTART;VALUE=DATE:20251015
DTEND;VALUE=DATE:20251016
DTSTAMP:20260424T091358
CREATED:20250904T160503Z
LAST-MODIFIED:20250904T160503Z
UID:10004761-1760486400-1760572799@www.offshorerooftop.com
SUMMARY:Closed for Private Event
DESCRIPTION:Offshore will be closed to the public on Wednesday\, October 15th due to a private event. We apologize for the inconvenience but look forward to welcoming you in soon!
URL:https://www.offshorerooftop.com/event/closed-for-private-event-60/
LOCATION:Offshore Rooftop\, 1000 E. Grand\, Chicago\, IL\, 60611\, United States
CATEGORIES:Offshore Closed
END:VEVENT
BEGIN:VEVENT
DTSTART;VALUE=DATE:20251014
DTEND;VALUE=DATE:20251015
DTSTAMP:20260424T091358
CREATED:20250904T153251Z
LAST-MODIFIED:20250904T153251Z
UID:10004759-1760400000-1760486399@www.offshorerooftop.com
SUMMARY:Closed for Private Event
DESCRIPTION:Offshore will be closed to the public on Tuesday\, October 14th due to a private event. We apologize for the inconvenience but look forward to welcoming you in soon!
URL:https://www.offshorerooftop.com/event/closed-for-private-event-61/
LOCATION:Offshore Rooftop\, 1000 E. Grand\, Chicago\, IL\, 60611\, United States
CATEGORIES:Offshore Closed
END:VEVENT
BEGIN:VEVENT
DTSTART;VALUE=DATE:20251008
DTEND;VALUE=DATE:20251009
DTSTAMP:20260424T091358
CREATED:20250710T185059Z
LAST-MODIFIED:20250710T185059Z
UID:10004752-1759881600-1759967999@www.offshorerooftop.com
SUMMARY:Closed for Private Event
DESCRIPTION:Offshore will be closed to the public on Wednesday\, October 8th due to a private event. We apologize for the inconvenience but look forward to welcoming you in soon!
URL:https://www.offshorerooftop.com/event/closed-for-private-event-59/
LOCATION:Offshore Rooftop\, 1000 E. Grand\, Chicago\, IL\, 60611\, United States
CATEGORIES:Offshore Closed
END:VEVENT
BEGIN:VEVENT
DTSTART;VALUE=DATE:20250929
DTEND;VALUE=DATE:20250930
DTSTAMP:20260424T091358
CREATED:20250710T185000Z
LAST-MODIFIED:20250710T185000Z
UID:10004751-1759104000-1759190399@www.offshorerooftop.com
SUMMARY:Closed for Private Event
DESCRIPTION:Offshore will be closed to the public on Monday\, September 29th due to a private event. We apologize for the inconvenience but look forward to welcoming you in soon!
URL:https://www.offshorerooftop.com/event/closed-for-private-event-58/
LOCATION:Offshore Rooftop\, 1000 E. Grand\, Chicago\, IL\, 60611\, United States
CATEGORIES:Offshore Closed
END:VEVENT
BEGIN:VEVENT
DTSTART;VALUE=DATE:20250928
DTEND;VALUE=DATE:20250929
DTSTAMP:20260424T091358
CREATED:20250710T184914Z
LAST-MODIFIED:20250710T184914Z
UID:10004750-1759017600-1759103999@www.offshorerooftop.com
SUMMARY:Closed for Private Event
DESCRIPTION:Offshore will be closed to the public on Sunday\, September 28th due to a private event. We apologize for the inconvenience but look forward to welcoming you in soon!
URL:https://www.offshorerooftop.com/event/closed-for-private-event-57/
LOCATION:Offshore Rooftop\, 1000 E. Grand\, Chicago\, IL\, 60611\, United States
CATEGORIES:Offshore Closed
END:VEVENT
BEGIN:VEVENT
DTSTART;VALUE=DATE:20250927
DTEND;VALUE=DATE:20250928
DTSTAMP:20260424T091358
CREATED:20250710T184849Z
LAST-MODIFIED:20250710T184849Z
UID:10004749-1758931200-1759017599@www.offshorerooftop.com
SUMMARY:Closed for Private Event
DESCRIPTION:Offshore will be closed to the public on Saturday\, September 27th due to a private event. We apologize for the inconvenience but look forward to welcoming you in soon!
URL:https://www.offshorerooftop.com/event/closed-for-private-event-56/
LOCATION:Offshore Rooftop\, 1000 E. Grand\, Chicago\, IL\, 60611\, United States
CATEGORIES:Offshore Closed
END:VEVENT
BEGIN:VEVENT
DTSTART;VALUE=DATE:20250926
DTEND;VALUE=DATE:20250927
DTSTAMP:20260424T091358
CREATED:20250710T184703Z
LAST-MODIFIED:20250710T184703Z
UID:10004748-1758844800-1758931199@www.offshorerooftop.com
SUMMARY:Closed for Private Event
DESCRIPTION:Offshore will be closed to the public on Friday\, September 26th due to a private event. We apologize for the inconvenience but look forward to welcoming you in soon!
URL:https://www.offshorerooftop.com/event/closed-for-private-event-55/
LOCATION:Offshore Rooftop\, 1000 E. Grand\, Chicago\, IL\, 60611\, United States
CATEGORIES:Offshore Closed
END:VEVENT
BEGIN:VEVENT
DTSTART;TZID=America/Chicago:20250925T160000
DTEND;TZID=America/Chicago:20250925T200000
DTSTAMP:20260424T091358
CREATED:20250612T183400Z
LAST-MODIFIED:20250613T150428Z
UID:10004732-1758816000-1758830400@www.offshorerooftop.com
SUMMARY:Bi-Weekly Summer Beats
DESCRIPTION:Clock out and meet us at Offshore Rooftop to soak up the sun\, sip on specialty cocktails\, and groove to high-energy beats by Lexmo. 🍹✨ \nOffshore offers unmatched\, panoramic views as well as a Navy Pier location that is both iconic and nostalgic\, perfect for starting your weekend early and getting your pic for the ‘gram. Plus\, get a taste of our new summer menu\, featuring new flatbreads\, sushi rolls\, and more\, paired with classic and specialty summer cocktails\, like our twist on an espresso martini\, a Blood Orange Mezcal Margarita\, and the Lavender Lemon Haze. Thursday evening can’t come soon enough. 😎 \nDate: 9/25 | Time: 4PM-8PM | Admission: FREE
URL:https://www.offshorerooftop.com/event/bi-weekly-summer-beats/2025-09-25/
LOCATION:Offshore Rooftop\, 1000 E. Grand\, Chicago\, IL\, 60611\, United States
ATTACH;FMTTYPE=image/png:https://www.offshorerooftop.com/wp-content/uploads/2025/06/Web_Header-1920x1080-4.png
END:VEVENT
BEGIN:VEVENT
DTSTART;VALUE=DATE:20250923
DTEND;VALUE=DATE:20250924
DTSTAMP:20260424T091358
CREATED:20250826T155048Z
LAST-MODIFIED:20250826T155048Z
UID:10004756-1758585600-1758671999@www.offshorerooftop.com
SUMMARY:Closed for Private Event
DESCRIPTION:Offshore will be closed to the public on Tuesday\, September 23rd due to a private event. We apologize for the inconvenience\, but look forward to welcoming you in soon!
URL:https://www.offshorerooftop.com/event/closed-for-private-event-42/
LOCATION:Offshore Rooftop\, 1000 E. Grand\, Chicago\, IL\, 60611\, United States
CATEGORIES:Offshore Closed
END:VEVENT
BEGIN:VEVENT
DTSTART;VALUE=DATE:20250920
DTEND;VALUE=DATE:20250921
DTSTAMP:20260424T091358
CREATED:20250710T184546Z
LAST-MODIFIED:20250710T184546Z
UID:10004747-1758326400-1758412799@www.offshorerooftop.com
SUMMARY:Closed for Private Event
DESCRIPTION:Offshore will be closed to the public on Saturday\, September 20th due to a private event. We apologize for the inconvenience but look forward to welcoming you in soon!
URL:https://www.offshorerooftop.com/event/closed-for-private-event-54/
LOCATION:Offshore Rooftop\, 1000 E. Grand\, Chicago\, IL\, 60611\, United States
CATEGORIES:Offshore Closed
END:VEVENT
BEGIN:VEVENT
DTSTART;VALUE=DATE:20250919
DTEND;VALUE=DATE:20250920
DTSTAMP:20260424T091358
CREATED:20250710T184521Z
LAST-MODIFIED:20250710T184521Z
UID:10004746-1758240000-1758326399@www.offshorerooftop.com
SUMMARY:Closed for Private Event
DESCRIPTION:Offshore will be closed to the public on Friday\, September 19th due to a private event. We apologize for the inconvenience but look forward to welcoming you in soon!
URL:https://www.offshorerooftop.com/event/closed-for-private-event-53/
LOCATION:Offshore Rooftop\, 1000 E. Grand\, Chicago\, IL\, 60611\, United States
CATEGORIES:Offshore Closed
END:VEVENT
END:VCALENDAR