BEGIN:VCALENDAR
VERSION:2.0
PRODID:-//Offshore Rooftop - ECPv6.15.17.1//NONSGML v1.0//EN
CALSCALE:GREGORIAN
METHOD:PUBLISH
X-WR-CALNAME:Offshore Rooftop
X-ORIGINAL-URL:https://www.offshorerooftop.com
X-WR-CALDESC:Events for Offshore Rooftop
REFRESH-INTERVAL;VALUE=DURATION:PT1H
X-Robots-Tag:noindex
X-PUBLISHED-TTL:PT1H
BEGIN:VTIMEZONE
TZID:America/Chicago
BEGIN:DAYLIGHT
TZOFFSETFROM:-0600
TZOFFSETTO:-0500
TZNAME:CDT
DTSTART:20260308T080000
END:DAYLIGHT
BEGIN:STANDARD
TZOFFSETFROM:-0500
TZOFFSETTO:-0600
TZNAME:CST
DTSTART:20261101T070000
END:STANDARD
BEGIN:DAYLIGHT
TZOFFSETFROM:-0600
TZOFFSETTO:-0500
TZNAME:CDT
DTSTART:20270314T080000
END:DAYLIGHT
BEGIN:STANDARD
TZOFFSETFROM:-0500
TZOFFSETTO:-0600
TZNAME:CST
DTSTART:20271107T070000
END:STANDARD
BEGIN:DAYLIGHT
TZOFFSETFROM:-0600
TZOFFSETTO:-0500
TZNAME:CDT
DTSTART:20280312T080000
END:DAYLIGHT
BEGIN:STANDARD
TZOFFSETFROM:-0500
TZOFFSETTO:-0600
TZNAME:CST
DTSTART:20281105T070000
END:STANDARD
END:VTIMEZONE
BEGIN:VEVENT
DTSTART;TZID=America/Chicago:20270103T143000
DTEND;TZID=America/Chicago:20270103T173000
DTSTAMP:20260424T161326
CREATED:20260410T155949Z
LAST-MODIFIED:20260421T163624Z
UID:10005309-1798986600-1798997400@www.offshorerooftop.com
SUMMARY:Family Sunday Fundays
DESCRIPTION:After enjoying a fun-filled day at Navy Pier\, refuel and re-energize with us at Family Sunday Funday at Offshore Rooftop ✨🏙️ \nChildren can enjoy one free meal from our kids’ menu with the purchase of an adult meal every Sunday from 2:30pm to 5:30pm.
URL:https://www.offshorerooftop.com/event/family-sunday-fundays-2-2/2027-01-03/
LOCATION:Offshore Rooftop\, 1000 E. Grand\, Chicago\, IL\, 60611\, United States
ATTACH;FMTTYPE=image/jpeg:https://www.offshorerooftop.com/wp-content/uploads/2026/01/Web_Header-1920x1080-1.jpg
END:VEVENT
BEGIN:VEVENT
DTSTART;VALUE=DATE:20270107
DTEND;VALUE=DATE:20270108
DTSTAMP:20260424T161326
CREATED:20260106T204948Z
LAST-MODIFIED:20260410T215454Z
UID:10005160-1799280000-1799366399@www.offshorerooftop.com
SUMMARY:Wine Down Thursdays
DESCRIPTION:Wine down Offshore with half off bottles of wine all day long 🍷
URL:https://www.offshorerooftop.com/event/wine-down-thursdays/2027-01-07/
LOCATION:Offshore Rooftop\, 1000 E. Grand\, Chicago\, IL\, 60611\, United States
ATTACH;FMTTYPE=image/png:https://www.offshorerooftop.com/wp-content/uploads/2026/01/Web_Header-1920x1080-15.png
END:VEVENT
BEGIN:VEVENT
DTSTART;TZID=America/Chicago:20270110T143000
DTEND;TZID=America/Chicago:20270110T173000
DTSTAMP:20260424T161326
CREATED:20260410T155949Z
LAST-MODIFIED:20260421T163624Z
UID:10005310-1799591400-1799602200@www.offshorerooftop.com
SUMMARY:Family Sunday Fundays
DESCRIPTION:After enjoying a fun-filled day at Navy Pier\, refuel and re-energize with us at Family Sunday Funday at Offshore Rooftop ✨🏙️ \nChildren can enjoy one free meal from our kids’ menu with the purchase of an adult meal every Sunday from 2:30pm to 5:30pm.
URL:https://www.offshorerooftop.com/event/family-sunday-fundays-2-2/2027-01-10/
LOCATION:Offshore Rooftop\, 1000 E. Grand\, Chicago\, IL\, 60611\, United States
ATTACH;FMTTYPE=image/jpeg:https://www.offshorerooftop.com/wp-content/uploads/2026/01/Web_Header-1920x1080-1.jpg
END:VEVENT
BEGIN:VEVENT
DTSTART;VALUE=DATE:20270114
DTEND;VALUE=DATE:20270115
DTSTAMP:20260424T161326
CREATED:20260106T204948Z
LAST-MODIFIED:20260410T215454Z
UID:10005161-1799884800-1799971199@www.offshorerooftop.com
SUMMARY:Wine Down Thursdays
DESCRIPTION:Wine down Offshore with half off bottles of wine all day long 🍷
URL:https://www.offshorerooftop.com/event/wine-down-thursdays/2027-01-14/
LOCATION:Offshore Rooftop\, 1000 E. Grand\, Chicago\, IL\, 60611\, United States
ATTACH;FMTTYPE=image/png:https://www.offshorerooftop.com/wp-content/uploads/2026/01/Web_Header-1920x1080-15.png
END:VEVENT
BEGIN:VEVENT
DTSTART;TZID=America/Chicago:20270117T143000
DTEND;TZID=America/Chicago:20270117T173000
DTSTAMP:20260424T161326
CREATED:20260410T155949Z
LAST-MODIFIED:20260421T163624Z
UID:10005311-1800196200-1800207000@www.offshorerooftop.com
SUMMARY:Family Sunday Fundays
DESCRIPTION:After enjoying a fun-filled day at Navy Pier\, refuel and re-energize with us at Family Sunday Funday at Offshore Rooftop ✨🏙️ \nChildren can enjoy one free meal from our kids’ menu with the purchase of an adult meal every Sunday from 2:30pm to 5:30pm.
URL:https://www.offshorerooftop.com/event/family-sunday-fundays-2-2/2027-01-17/
LOCATION:Offshore Rooftop\, 1000 E. Grand\, Chicago\, IL\, 60611\, United States
ATTACH;FMTTYPE=image/jpeg:https://www.offshorerooftop.com/wp-content/uploads/2026/01/Web_Header-1920x1080-1.jpg
END:VEVENT
BEGIN:VEVENT
DTSTART;VALUE=DATE:20270121
DTEND;VALUE=DATE:20270122
DTSTAMP:20260424T161326
CREATED:20260106T204948Z
LAST-MODIFIED:20260410T215454Z
UID:10005162-1800489600-1800575999@www.offshorerooftop.com
SUMMARY:Wine Down Thursdays
DESCRIPTION:Wine down Offshore with half off bottles of wine all day long 🍷
URL:https://www.offshorerooftop.com/event/wine-down-thursdays/2027-01-21/
LOCATION:Offshore Rooftop\, 1000 E. Grand\, Chicago\, IL\, 60611\, United States
ATTACH;FMTTYPE=image/png:https://www.offshorerooftop.com/wp-content/uploads/2026/01/Web_Header-1920x1080-15.png
END:VEVENT
BEGIN:VEVENT
DTSTART;TZID=America/Chicago:20270124T143000
DTEND;TZID=America/Chicago:20270124T173000
DTSTAMP:20260424T161326
CREATED:20260410T155949Z
LAST-MODIFIED:20260421T163624Z
UID:10005312-1800801000-1800811800@www.offshorerooftop.com
SUMMARY:Family Sunday Fundays
DESCRIPTION:After enjoying a fun-filled day at Navy Pier\, refuel and re-energize with us at Family Sunday Funday at Offshore Rooftop ✨🏙️ \nChildren can enjoy one free meal from our kids’ menu with the purchase of an adult meal every Sunday from 2:30pm to 5:30pm.
URL:https://www.offshorerooftop.com/event/family-sunday-fundays-2-2/2027-01-24/
LOCATION:Offshore Rooftop\, 1000 E. Grand\, Chicago\, IL\, 60611\, United States
ATTACH;FMTTYPE=image/jpeg:https://www.offshorerooftop.com/wp-content/uploads/2026/01/Web_Header-1920x1080-1.jpg
END:VEVENT
BEGIN:VEVENT
DTSTART;VALUE=DATE:20270128
DTEND;VALUE=DATE:20270129
DTSTAMP:20260424T161326
CREATED:20260106T204948Z
LAST-MODIFIED:20260410T215454Z
UID:10005163-1801094400-1801180799@www.offshorerooftop.com
SUMMARY:Wine Down Thursdays
DESCRIPTION:Wine down Offshore with half off bottles of wine all day long 🍷
URL:https://www.offshorerooftop.com/event/wine-down-thursdays/2027-01-28/
LOCATION:Offshore Rooftop\, 1000 E. Grand\, Chicago\, IL\, 60611\, United States
ATTACH;FMTTYPE=image/png:https://www.offshorerooftop.com/wp-content/uploads/2026/01/Web_Header-1920x1080-15.png
END:VEVENT
BEGIN:VEVENT
DTSTART;TZID=America/Chicago:20270131T143000
DTEND;TZID=America/Chicago:20270131T173000
DTSTAMP:20260424T161326
CREATED:20260410T155949Z
LAST-MODIFIED:20260421T163624Z
UID:10005313-1801405800-1801416600@www.offshorerooftop.com
SUMMARY:Family Sunday Fundays
DESCRIPTION:After enjoying a fun-filled day at Navy Pier\, refuel and re-energize with us at Family Sunday Funday at Offshore Rooftop ✨🏙️ \nChildren can enjoy one free meal from our kids’ menu with the purchase of an adult meal every Sunday from 2:30pm to 5:30pm.
URL:https://www.offshorerooftop.com/event/family-sunday-fundays-2-2/2027-01-31/
LOCATION:Offshore Rooftop\, 1000 E. Grand\, Chicago\, IL\, 60611\, United States
ATTACH;FMTTYPE=image/jpeg:https://www.offshorerooftop.com/wp-content/uploads/2026/01/Web_Header-1920x1080-1.jpg
END:VEVENT
END:VCALENDAR