BEGIN:VCALENDAR
VERSION:2.0
PRODID:-//Offshore Rooftop - ECPv6.15.17.1//NONSGML v1.0//EN
CALSCALE:GREGORIAN
METHOD:PUBLISH
X-ORIGINAL-URL:https://www.offshorerooftop.com
X-WR-CALDESC:Events for Offshore Rooftop
REFRESH-INTERVAL;VALUE=DURATION:PT1H
X-Robots-Tag:noindex
X-PUBLISHED-TTL:PT1H
BEGIN:VTIMEZONE
TZID:America/Chicago
BEGIN:DAYLIGHT
TZOFFSETFROM:-0600
TZOFFSETTO:-0500
TZNAME:CDT
DTSTART:20240310T080000
END:DAYLIGHT
BEGIN:STANDARD
TZOFFSETFROM:-0500
TZOFFSETTO:-0600
TZNAME:CST
DTSTART:20241103T070000
END:STANDARD
BEGIN:DAYLIGHT
TZOFFSETFROM:-0600
TZOFFSETTO:-0500
TZNAME:CDT
DTSTART:20250309T080000
END:DAYLIGHT
BEGIN:STANDARD
TZOFFSETFROM:-0500
TZOFFSETTO:-0600
TZNAME:CST
DTSTART:20251102T070000
END:STANDARD
BEGIN:DAYLIGHT
TZOFFSETFROM:-0600
TZOFFSETTO:-0500
TZNAME:CDT
DTSTART:20260308T080000
END:DAYLIGHT
BEGIN:STANDARD
TZOFFSETFROM:-0500
TZOFFSETTO:-0600
TZNAME:CST
DTSTART:20261101T070000
END:STANDARD
END:VTIMEZONE
BEGIN:VEVENT
DTSTART;TZID=America/Chicago:20250327T110000
DTEND;TZID=America/Chicago:20250524T210000
DTSTAMP:20260419T092544
CREATED:20250326T214000Z
LAST-MODIFIED:20250327T192135Z
UID:10001809-1743073200-1748120400@www.offshorerooftop.com
SUMMARY:Fondue with a View with Chicago Bucketlisters
DESCRIPTION:Dip into this indulgent experience by Offshore Rooftop x Chicago Bucketlisters featuring your choice of sweet chocolate or savory cheese dip for two and one beer\, wine\, or cocktail per person. Whether you’re craving sweet decadence or cheesy perfection\, this rooftop rendezvous is the ultimate treat. Dip in and sip up while taking in Chicago’s best Lake Michigan and city skyline views! \nChocolate Lovers: Dive into a rich\, velvety dip perfectly paired with strawberries\, pineapple chunks\, jumbo marshmallows\, pretzels\, and honey graham crackers. \nCheese Enthusiasts: Savor a warm\, gooey cheese dip with rustic white bread\, soft pita\, crisp celery\, and fresh carrots – ideal for that irresistible dunk. \nBOOK VIA BUCKETLISTERS \nWhen: Multiple days and times | Admission: $65 for two
URL:https://www.offshorerooftop.com/event/fondue-with-a-view-with-chicago-bucketlisters/
LOCATION:Offshore Rooftop\, 1000 E. Grand\, Chicago\, IL\, 60611\, United States
CATEGORIES:Featured
ATTACH;FMTTYPE=image/png:https://www.offshorerooftop.com/wp-content/uploads/2025/03/Web_Header-1920x1080-1.png
ORGANIZER;CN="Offshore Rooftop":MAILTO:info@offshorerooftop.com
END:VEVENT
BEGIN:VEVENT
DTSTART;TZID=America/Chicago:20250503T140000
DTEND;TZID=America/Chicago:20250507T235900
DTSTAMP:20260419T092544
CREATED:20250327T192252Z
LAST-MODIFIED:20250415T170306Z
UID:10002112-1746280800-1746662340@www.offshorerooftop.com
SUMMARY:Closed for Private Event
DESCRIPTION:Offshore will be closed to the public Saturday\, May 3rd starting at 2pm to Wednesday\, May 7 due to private events. We apologize for the inconvenience but look forward to welcoming you in soon!
URL:https://www.offshorerooftop.com/event/closed-for-private-event-12/
CATEGORIES:Offshore Closed
END:VEVENT
BEGIN:VEVENT
DTSTART;TZID=America/Chicago:20250511T110000
DTEND;TZID=America/Chicago:20250511T160000
DTSTAMP:20260419T092544
CREATED:20250225T160346Z
LAST-MODIFIED:20250502T211419Z
UID:10000761-1746961200-1746979200@www.offshorerooftop.com
SUMMARY:Mother's Day 2025 Rooftop Brunch at Offshore Rooftop
DESCRIPTION:Treat mom to a vibrant brunch buffet (and maybe bottomless mimosas? 🥂) with a side of stunning\, panoramic views from the world’s largest rooftop. \nIndulge in a variety of savory & sweet breakfast\, lunch\, kids\, & dessert stations curated by Executive Chef\, Timoleon Letsos. Plus\, moms & mom-figures will receive a complimentary long-stem rose from our team🌹 \nDate: Sunday\, 5/11 | First Seating: 11AM-1PM | Second Seating: 1:30-3:30PM \nMake this Mother’s Day one to remember with good food\, great company\, and a beautiful setting atop Chicago’s iconic Navy Pier. \nSECURE YOUR SPOT \nDon’t see availability for your party of 8+? We welcome you to get in touch with our team at info@offshorerooftop.com to explore how we can accommodate you. \n* Admission and add-ons are non-refundable and non-transferable. \nBREAKFAST STATIONS \n\nBREAKFAST PASTRIES\, butter & jams (VG)\nFRESH SEASONAL FRUITS (VEG)\nLOX & BAGELS\, chive\, berry & plain cream cheese\nSCRAMBLED EGGS WITH CHIVES (VG)\nTORTILLA ESPAÑOLA\, eggs\, chorizo español\, potatoes & onions (GF)\nROASTED COUNTRY POTATOES\, bell peppers & red onions (VG\, VEG\, GF)\nMAPLE FRENCH TOAST\, wild berry sauce & vanilla cream (VG)\nAPPLEWOOD SMOKED BACON\, PORK SAUSAGE LINKS & TURKEY SAUSAGE PATTIES (GF)\n\nLUNCH STATIONS \n\nMAKE YOUR OWN SALAD BAR\, choice of greens\, toppings\, & dressings (VG\, VEG\, GF)\nPRIME RIB & TURKEY BREAST (GF)\, horseradish cream & au jus & ground mustard aïoli (VG\, VEG\, GF)\nROASTED CHICKEN\, herb-citrus gremolata (GF)\nPLANT-BASED SHREDDED FAJITAS (VG\, VEG\, GF)\nHERB-ROASTED YUKON POTATOES (VG)\nTRUFFLE GRILLED ASPARAGUS (VG\, VEG)\nGRILLED SEASONAL VEGETABLES (VG\, VEG)\n\nKID’S STATION \n\nCHICKEN TENDERS\nPOTATO TOTS (GF)\nMINI HOT DOGS\nCELERY\, CUCUMBER\, & CARROT STICKS (VG\, VEG\, GF)\n\nDESSERT STATION \n\nASSORTED PETITE CHEF’S CHOICE DESSERTS\, vegan & gluten-free options available\n\nBEVERAGE ADD-ONS \n\nBOTTOMLESS MIMOSAS\, La Gioiosa Prosecco with choice of Orange Juice\, Cranberry Juice\, or Grapefruit Juice +$35/PERSON\nBUILD-YOUR-OWN BLOODY\, House Bloody Mix & Lime with choice of Mary (Tito’s)\, Maria (Casamigos)\, MaryAnne (Jim Beam)\, or Red Snapper (Bombay) +$15 EACH
URL:https://www.offshorerooftop.com/event/mothers-day-2025-rooftop-brunch-at-offshore-rooftop/
LOCATION:Offshore Rooftop\, 1000 E. Grand\, Chicago\, IL\, 60611\, United States
CATEGORIES:Featured
ATTACH;FMTTYPE=image/jpeg:https://www.offshorerooftop.com/wp-content/uploads/2025/02/2023-08-10-Cocktail_Mimosa_Offshore_6606-resize.jpg
ORGANIZER;CN="Offshore Rooftop":MAILTO:info@offshorerooftop.com
END:VEVENT
BEGIN:VEVENT
DTSTART;VALUE=DATE:20250513
DTEND;VALUE=DATE:20250516
DTSTAMP:20260419T092544
CREATED:20250327T192737Z
LAST-MODIFIED:20250327T192737Z
UID:10002113-1747094400-1747353599@www.offshorerooftop.com
SUMMARY:Closed for Private Event
DESCRIPTION:Offshore will be closed to the public Tuesday\, May 13th to Thursday\, May 15th due to private events. We apologize for the inconvenience but look forward to welcoming you in soon!
URL:https://www.offshorerooftop.com/event/closed-for-private-event-10/
LOCATION:Offshore Rooftop\, 1000 E. Grand\, Chicago\, IL\, 60611\, United States
CATEGORIES:Offshore Closed
END:VEVENT
BEGIN:VEVENT
DTSTART;VALUE=DATE:20250520
DTEND;VALUE=DATE:20250521
DTSTAMP:20260419T092544
CREATED:20250327T192950Z
LAST-MODIFIED:20250327T192950Z
UID:10002114-1747699200-1747785599@www.offshorerooftop.com
SUMMARY:Closed for Private Event
DESCRIPTION:Offshore will be closed to the public Tuesday\, May 20th due to a private event. We apologize for the inconvenience but look forward to welcoming you in soon!
URL:https://www.offshorerooftop.com/event/closed-for-private-event-13/
LOCATION:Offshore Rooftop\, 1000 E. Grand\, Chicago\, IL\, 60611\, United States
CATEGORIES:Offshore Closed
END:VEVENT
BEGIN:VEVENT
DTSTART;TZID=America/Chicago:20250530T140000
DTEND;TZID=America/Chicago:20250530T235900
DTSTAMP:20260419T092544
CREATED:20250415T170501Z
LAST-MODIFIED:20250415T170518Z
UID:10004669-1748613600-1748649540@www.offshorerooftop.com
SUMMARY:Closed for Private Event
DESCRIPTION:Offshore will be closed to the public Friday\, May 30th starting at 2pm due to a private event. We apologize for the inconvenience but look forward to welcoming you in soon!
URL:https://www.offshorerooftop.com/event/closed-for-private-event-14/
LOCATION:Offshore Rooftop\, 1000 E. Grand\, Chicago\, IL\, 60611\, United States
CATEGORIES:Offshore Closed
END:VEVENT
END:VCALENDAR