BEGIN:VCALENDAR
VERSION:2.0
PRODID:-//Offshore Rooftop - ECPv6.15.17.1//NONSGML v1.0//EN
CALSCALE:GREGORIAN
METHOD:PUBLISH
X-WR-CALNAME:Offshore Rooftop
X-ORIGINAL-URL:https://www.offshorerooftop.com
X-WR-CALDESC:Events for Offshore Rooftop
REFRESH-INTERVAL;VALUE=DURATION:PT1H
X-Robots-Tag:noindex
X-PUBLISHED-TTL:PT1H
BEGIN:VTIMEZONE
TZID:America/Chicago
BEGIN:DAYLIGHT
TZOFFSETFROM:-0600
TZOFFSETTO:-0500
TZNAME:CDT
DTSTART:20240310T080000
END:DAYLIGHT
BEGIN:STANDARD
TZOFFSETFROM:-0500
TZOFFSETTO:-0600
TZNAME:CST
DTSTART:20241103T070000
END:STANDARD
BEGIN:DAYLIGHT
TZOFFSETFROM:-0600
TZOFFSETTO:-0500
TZNAME:CDT
DTSTART:20250309T080000
END:DAYLIGHT
BEGIN:STANDARD
TZOFFSETFROM:-0500
TZOFFSETTO:-0600
TZNAME:CST
DTSTART:20251102T070000
END:STANDARD
BEGIN:DAYLIGHT
TZOFFSETFROM:-0600
TZOFFSETTO:-0500
TZNAME:CDT
DTSTART:20260308T080000
END:DAYLIGHT
BEGIN:STANDARD
TZOFFSETFROM:-0500
TZOFFSETTO:-0600
TZNAME:CST
DTSTART:20261101T070000
END:STANDARD
END:VTIMEZONE
BEGIN:VEVENT
DTSTART;TZID=America/Chicago:20250327T110000
DTEND;TZID=America/Chicago:20250524T210000
DTSTAMP:20260419T090624
CREATED:20250326T214000Z
LAST-MODIFIED:20250327T192135Z
UID:10001809-1743073200-1748120400@www.offshorerooftop.com
SUMMARY:Fondue with a View with Chicago Bucketlisters
DESCRIPTION:Dip into this indulgent experience by Offshore Rooftop x Chicago Bucketlisters featuring your choice of sweet chocolate or savory cheese dip for two and one beer\, wine\, or cocktail per person. Whether you’re craving sweet decadence or cheesy perfection\, this rooftop rendezvous is the ultimate treat. Dip in and sip up while taking in Chicago’s best Lake Michigan and city skyline views! \nChocolate Lovers: Dive into a rich\, velvety dip perfectly paired with strawberries\, pineapple chunks\, jumbo marshmallows\, pretzels\, and honey graham crackers. \nCheese Enthusiasts: Savor a warm\, gooey cheese dip with rustic white bread\, soft pita\, crisp celery\, and fresh carrots – ideal for that irresistible dunk. \nBOOK VIA BUCKETLISTERS \nWhen: Multiple days and times | Admission: $65 for two
URL:https://www.offshorerooftop.com/event/fondue-with-a-view-with-chicago-bucketlisters/
LOCATION:Offshore Rooftop\, 1000 E. Grand\, Chicago\, IL\, 60611\, United States
CATEGORIES:Featured
ATTACH;FMTTYPE=image/png:https://www.offshorerooftop.com/wp-content/uploads/2025/03/Web_Header-1920x1080-1.png
ORGANIZER;CN="Offshore Rooftop":MAILTO:info@offshorerooftop.com
END:VEVENT
BEGIN:VEVENT
DTSTART;TZID=America/Chicago:20250413T110000
DTEND;TZID=America/Chicago:20250413T140000
DTSTAMP:20260419T090624
CREATED:20250226T213722Z
LAST-MODIFIED:20250226T213840Z
UID:10000763-1744542000-1744552800@www.offshorerooftop.com
SUMMARY:Big Dock Energy DRAG BRUNCH at Offshore Rooftop
DESCRIPTION:Drag your crew to Offshore Rooftop on Chicago’s iconic Navy Pier for our Big Dock Energy DRAG BRUNCH Sunday\, April 13th. \nGet ready for a fabulous day filled with fierce performances\, DJ beats\, bottomless food and drink*\, and Chicago’s best views at the world’s largest rooftop. Bring your energy and come to kiki with our with our talented cast of queens 💃 \nDate: Sunday\, 4/13 | Brunch Buffet: 11AM-2PM | Performances: 11:30AM-1PM \nIncludes: \n\nPerformances by Icons Mimi Marks (host)\, Maya Douglas\, & Serena Fiierce\nBeats by DJ Ca$h Era\n*Bottomless Brunch Buffet\n*Bottomless Signature Cocktail + Additional Sips for Purchase\nChicago’s Most Instagrammable Skyline & Lake Views\n\nSECURE YOUR SPOT \nBrunch Buffet: \n\nFresh\, Seasonal Fruit Trays\nYogurt Parfaits\nAvocado Toast\nScrambled Eggs with Chives\nBreakfast Potatoes\nMaple Chicken Sausage\nApplewood Smoked Bacon\nFrench Toast\, with berries\, vanilla cream & maple syrup\nCoffee & Tea Station\n\n#MeetMeOffshore #DragMeOffshore #DrinkOffshore \n* Admission and add-ons are non-refundable and non-transferable.
URL:https://www.offshorerooftop.com/event/big-dock-energy-drag-brunch/
LOCATION:Offshore Rooftop\, 1000 E. Grand\, Chicago\, IL\, 60611\, United States
CATEGORIES:Featured
ATTACH;FMTTYPE=image/jpeg:https://www.offshorerooftop.com/wp-content/uploads/2025/01/Indoor-Atrium-Sunset-View-scaled.jpg
ORGANIZER;CN="Offshore Rooftop":MAILTO:info@offshorerooftop.com
END:VEVENT
BEGIN:VEVENT
DTSTART;TZID=America/Chicago:20250417T180000
DTEND;TZID=America/Chicago:20250417T200000
DTSTAMP:20260419T090624
CREATED:20250219T152333Z
LAST-MODIFIED:20250219T162859Z
UID:10000760-1744912800-1744920000@www.offshorerooftop.com
SUMMARY:Trivia Night at Offshore Rooftop
DESCRIPTION:Bring your trivia team and competitive spirit to Offshore for a night of mind-bending questions! When it comes to #TriviaNight on Thursday\, 4/17 at the world’s largest rooftop\, the easy answer is “yes”. Put your knowledge to the test and take home a victory! \nDate: 4/17 | Time: 6PM-8PM | ADMISSION: FREE with purchase of food or beverage \nPrizes Include: \n\n$50 Gift Certificate to Offshore Rooftop\nOvernight Stay Certificate to Sable Hotel\n\nRSVP \n  \nDiscounted valet parking rate of $20 for up to 4 hours will be available at Navy Pier’s Entrance #2 on a first-come\, first-served basis (restaurant validation required) \nSECURITY NOTE: All guests are subject to a bag check and wanding prior to entry. \nVALID PHOTO ID REQUIRED FOR ENTRY (21+)
URL:https://www.offshorerooftop.com/event/trivia-night-at-offshore-rooftop/
LOCATION:Offshore Rooftop\, 1000 E. Grand\, Chicago\, IL\, 60611\, United States
CATEGORIES:Featured
ATTACH;FMTTYPE=image/png:https://www.offshorerooftop.com/wp-content/uploads/2025/02/Offshore_Trivia-Night-2025-header_4-17-25.png
ORGANIZER;CN="Offshore Rooftop":MAILTO:info@offshorerooftop.com
END:VEVENT
BEGIN:VEVENT
DTSTART;TZID=America/Chicago:20250420T110000
DTEND;TZID=America/Chicago:20250420T200000
DTSTAMP:20260419T090624
CREATED:20250110T212306Z
LAST-MODIFIED:20250220T024702Z
UID:10000758-1745146800-1745179200@www.offshorerooftop.com
SUMMARY:Easter 2025 BOUNCE BRUNCH & DAY PARTY at Offshore Rooftop
DESCRIPTION:Celebrate Easter 2025 at Offshore Rooftop! \nThe hunt ends here. Crack into Easter fun this 4/20 at the world’s largest rooftop! Enjoy a hopping good time with high-energy tunes as well as sweet views of the lake and skyline from iconic Navy Pier. \nDate: 4/20 | Time: 11AM-8PM | Ticket Price: $10 \nIncludes: \n\nDJ\nPhotobooth\, 11AM-3PM\nCash Bar & Bites for Purchase\nViews of the Chicago Skyline\n\nGET TICKETS \n  \nSECURITY NOTE: All guests are subject to a bag check and wanding prior to entry. \nVALID PHOTO ID REQUIRED FOR ENTRY (21+) \n* Tickets are non-refundable and non-transferable.
URL:https://www.offshorerooftop.com/event/easter-2025-bounce-brunch-day-party-at-offshore-rooftop/
LOCATION:Offshore Rooftop\, 1000 E. Grand\, Chicago\, IL\, 60611\, United States
CATEGORIES:Featured
ATTACH;FMTTYPE=image/png:https://www.offshorerooftop.com/wp-content/uploads/2025/01/Offshore_Easter-Bounce-2025-header-draft.png
ORGANIZER;CN="Offshore Rooftop":MAILTO:info@offshorerooftop.com
END:VEVENT
BEGIN:VEVENT
DTSTART;VALUE=DATE:20250429
DTEND;VALUE=DATE:20250430
DTSTAMP:20260419T090624
CREATED:20250327T191012Z
LAST-MODIFIED:20250327T191823Z
UID:10002111-1745884800-1745971199@www.offshorerooftop.com
SUMMARY:Closed for Private Event
DESCRIPTION:Offshore will be closed to the public Tuesday\, April 29th due to a private event. We apologize for the inconvenience but look forward to welcoming you in soon!
URL:https://www.offshorerooftop.com/event/closed-for-private-event-11/
CATEGORIES:Offshore Closed
END:VEVENT
END:VCALENDAR