BEGIN:VCALENDAR
VERSION:2.0
PRODID:-//Offshore Rooftop - ECPv6.15.17.1//NONSGML v1.0//EN
CALSCALE:GREGORIAN
METHOD:PUBLISH
X-WR-CALNAME:Offshore Rooftop
X-ORIGINAL-URL:https://www.offshorerooftop.com
X-WR-CALDESC:Events for Offshore Rooftop
REFRESH-INTERVAL;VALUE=DURATION:PT1H
X-Robots-Tag:noindex
X-PUBLISHED-TTL:PT1H
BEGIN:VTIMEZONE
TZID:America/Chicago
BEGIN:DAYLIGHT
TZOFFSETFROM:-0600
TZOFFSETTO:-0500
TZNAME:CDT
DTSTART:20240310T080000
END:DAYLIGHT
BEGIN:STANDARD
TZOFFSETFROM:-0500
TZOFFSETTO:-0600
TZNAME:CST
DTSTART:20241103T070000
END:STANDARD
BEGIN:DAYLIGHT
TZOFFSETFROM:-0600
TZOFFSETTO:-0500
TZNAME:CDT
DTSTART:20250309T080000
END:DAYLIGHT
BEGIN:STANDARD
TZOFFSETFROM:-0500
TZOFFSETTO:-0600
TZNAME:CST
DTSTART:20251102T070000
END:STANDARD
BEGIN:DAYLIGHT
TZOFFSETFROM:-0600
TZOFFSETTO:-0500
TZNAME:CDT
DTSTART:20260308T080000
END:DAYLIGHT
BEGIN:STANDARD
TZOFFSETFROM:-0500
TZOFFSETTO:-0600
TZNAME:CST
DTSTART:20261101T070000
END:STANDARD
END:VTIMEZONE
BEGIN:VEVENT
DTSTART;TZID=America/Chicago:20250124T110000
DTEND;TZID=America/Chicago:20250209T200000
DTSTAMP:20260419T111629
CREATED:20250103T203946Z
LAST-MODIFIED:20250103T204048Z
UID:10000752-1737716400-1739131200@www.offshorerooftop.com
SUMMARY:Chicago Restaurant Week 2025 at Offshore Rooftop
DESCRIPTION:Join us at Offshore Rooftop for our inaugural year of Chicago Restaurant Week! Executive Chef Tim Letsos and our culinary team are delivering major flavor with a side of stunning lake and skyline views. \nYour choice of Lobster Bisque Soup or Up Gathered Salad starter\, a Seared Faroe Salmon\, Filet Mignon\, or Seasonal Fettucine Pasta main course\, plus indulgent\, Chicago-based Eli’s Cheesecake dessert make this one of our best dining specials of the year. Dig in! \nSEE THE MENU  \nMAKE A RESERVATION
URL:https://www.offshorerooftop.com/event/chicago-restaurant-week-2025-at-offshore-rooftop/
LOCATION:Offshore Rooftop\, 1000 E. Grand\, Chicago\, IL\, 60611\, United States
CATEGORIES:Featured
ATTACH;FMTTYPE=image/jpeg:https://www.offshorerooftop.com/wp-content/uploads/2025/01/Indoor-Atrium-Sunset-View-scaled.jpg
END:VEVENT
BEGIN:VEVENT
DTSTART;VALUE=DATE:20250204
DTEND;VALUE=DATE:20250205
DTSTAMP:20260419T111629
CREATED:20241203T205751Z
LAST-MODIFIED:20241203T205751Z
UID:10000745-1738627200-1738713599@www.offshorerooftop.com
SUMMARY:Closed for Private Events
DESCRIPTION:Offshore will be closed to the public Tuesday\, February 4th due to private events. We apologize for the inconvenience but look forward to welcoming you in soon!
URL:https://www.offshorerooftop.com/event/closed-for-private-events-162/
END:VEVENT
BEGIN:VEVENT
DTSTART;VALUE=DATE:20250205
DTEND;VALUE=DATE:20250206
DTSTAMP:20260419T111629
CREATED:20241203T205836Z
LAST-MODIFIED:20241203T205836Z
UID:10000746-1738713600-1738799999@www.offshorerooftop.com
SUMMARY:Closed for Private Events
DESCRIPTION:Offshore will be closed to the public Wednesday\, February 5th due to private events. We apologize for the inconvenience but look forward to welcoming you in soon!
URL:https://www.offshorerooftop.com/event/closed-for-private-events-163/
END:VEVENT
BEGIN:VEVENT
DTSTART;TZID=America/Chicago:20250206T183000
DTEND;TZID=America/Chicago:20250206T203000
DTSTAMP:20260419T111629
CREATED:20241231T203330Z
LAST-MODIFIED:20241231T203544Z
UID:10000751-1738866600-1738873800@www.offshorerooftop.com
SUMMARY:Rooftop Paint & Sip with Pinot's Palette
DESCRIPTION:Paint the perfect date night! \nOffshore and Pinot’s Palette are teaming up to bring you a special Couples’ Painting Party on Thursday\, February 6th. In this unique class\, you and your sweetheart will paint two halves of a whole painting that come together to create one masterpiece. Led by a talented local artist from Pinot’s Palette\, you’ll enjoy a beer or wine of your choice\, provided by Offshore\, as you create lasting memories together! \nDate: 2/6 | Time: 6:30PM-8:30PM | Ticket Price: $65 \nTickets Include: \n\nPaint supplies\nCanvas\nAprons\n2 glasses of draft beer or house wine (red\, white\, or rosé)\n\nThis event will take place indoors in Offshore Rooftop’s expansive glass atrium\, featuring 360 floor-to-ceiling views of Lake Michigan and the Chicago skyline. \nGET TICKETS \n  \nAdditional drinks and food will be available for purchase. PLEASE ARRIVE 15 MINUTES EARLY TO SETTLE IN PRIOR TO CLASS STARTING. \n* Tickets are non-refundable and non-transferable.
URL:https://www.offshorerooftop.com/event/rooftop-paint-sip-with-pinots-palette/
LOCATION:Offshore Rooftop\, 1000 E. Grand\, Chicago\, IL\, 60611\, United States
CATEGORIES:Featured
ATTACH;FMTTYPE=image/png:https://www.offshorerooftop.com/wp-content/uploads/2024/12/Untitled-design-40.png
ORGANIZER;CN="Offshore Rooftop":MAILTO:info@offshorerooftop.com
END:VEVENT
BEGIN:VEVENT
DTSTART;VALUE=DATE:20250213
DTEND;VALUE=DATE:20250214
DTSTAMP:20260419T111629
CREATED:20250108T191959Z
LAST-MODIFIED:20250108T191959Z
UID:10000755-1739404800-1739491199@www.offshorerooftop.com
SUMMARY:Closed for Private Events
DESCRIPTION:Offshore will be closed to the public Thursday\, February 13th due to private events. We apologize for the inconvenience but look forward to welcoming you in soon!
URL:https://www.offshorerooftop.com/event/closed-for-private-events-164/
END:VEVENT
BEGIN:VEVENT
DTSTART;TZID=America/Chicago:20250227T180000
DTEND;TZID=America/Chicago:20250227T213000
DTSTAMP:20260419T111629
CREATED:20250110T003248Z
LAST-MODIFIED:20250110T003248Z
UID:10000756-1740679200-1740691800@www.offshorerooftop.com
SUMMARY:Rooftop Social Hour - Speed Dating Event
DESCRIPTION:Tired of endless swiping? It’s time to skip the apps and meet like-minded singles\, ages 25-35\, face-to-face! Offshore is partnering with City Social to bring you Social Hour\, a speed dating event crafted for meaningful interactions and unforgettable experiences. Enjoy a series of four-minute mini-dates in a fun and relaxed atmosphere\, complete with conversation prompts to break the ice and let your personality shine. \nSet against the stunning backdrop of Lake Michigan and the Chicago skyline\, this is your chance to spark something special! \nDate: 2/27 | Time: 6PM-9:30PM | Tickets:$35 \nGET TICKETS \nNotes: \n\n21+ with physical ID required\nFood & drink not included in ticket price\, but available for purchase\nDiscounted valet parking rate of $20 for up to 4 hours will be available at Navy Pier’s Entrance #2 on a first-come\, first-served basis (restaurant validation required)
URL:https://www.offshorerooftop.com/event/rooftop-social-hour-speed-dating-event/
LOCATION:Offshore Rooftop\, 1000 E. Grand\, Chicago\, IL\, 60611\, United States
CATEGORIES:Featured
ATTACH;FMTTYPE=image/png:https://www.offshorerooftop.com/wp-content/uploads/2025/01/Untitled-design-50.png
END:VEVENT
END:VCALENDAR