BEGIN:VCALENDAR
VERSION:2.0
PRODID:-//Offshore Rooftop - ECPv6.15.17.1//NONSGML v1.0//EN
CALSCALE:GREGORIAN
METHOD:PUBLISH
X-WR-CALNAME:Offshore Rooftop
X-ORIGINAL-URL:https://www.offshorerooftop.com
X-WR-CALDESC:Events for Offshore Rooftop
REFRESH-INTERVAL;VALUE=DURATION:PT1H
X-Robots-Tag:noindex
X-PUBLISHED-TTL:PT1H
BEGIN:VTIMEZONE
TZID:America/Chicago
BEGIN:DAYLIGHT
TZOFFSETFROM:-0600
TZOFFSETTO:-0500
TZNAME:CDT
DTSTART:20230312T080000
END:DAYLIGHT
BEGIN:STANDARD
TZOFFSETFROM:-0500
TZOFFSETTO:-0600
TZNAME:CST
DTSTART:20231105T070000
END:STANDARD
BEGIN:DAYLIGHT
TZOFFSETFROM:-0600
TZOFFSETTO:-0500
TZNAME:CDT
DTSTART:20240310T080000
END:DAYLIGHT
BEGIN:STANDARD
TZOFFSETFROM:-0500
TZOFFSETTO:-0600
TZNAME:CST
DTSTART:20241103T070000
END:STANDARD
BEGIN:DAYLIGHT
TZOFFSETFROM:-0600
TZOFFSETTO:-0500
TZNAME:CDT
DTSTART:20250309T080000
END:DAYLIGHT
BEGIN:STANDARD
TZOFFSETFROM:-0500
TZOFFSETTO:-0600
TZNAME:CST
DTSTART:20251102T070000
END:STANDARD
END:VTIMEZONE
BEGIN:VEVENT
DTSTART;VALUE=DATE:20240711
DTEND;VALUE=DATE:20240712
DTSTAMP:20260420T073435
CREATED:20240612T182039Z
LAST-MODIFIED:20240612T182039Z
UID:10000257-1720656000-1720742399@www.offshorerooftop.com
SUMMARY:Closed for Private Events
DESCRIPTION:Offshore will be closed to the public Thursday\, July 11th due to private events. We apologize for the inconvenience but look forward to welcoming you in soon!
URL:https://www.offshorerooftop.com/event/closed-for-private-events-118/
END:VEVENT
BEGIN:VEVENT
DTSTART;VALUE=DATE:20240712
DTEND;VALUE=DATE:20240713
DTSTAMP:20260420T073435
CREATED:20240612T182206Z
LAST-MODIFIED:20240612T182206Z
UID:10000259-1720742400-1720828799@www.offshorerooftop.com
SUMMARY:Closed for Private Events
DESCRIPTION:Offshore will be closed to the public Friday\, July 12th due to private events. We apologize for the inconvenience but look forward to welcoming you in soon!
URL:https://www.offshorerooftop.com/event/closed-for-private-events-120/
END:VEVENT
BEGIN:VEVENT
DTSTART;VALUE=DATE:20240713
DTEND;VALUE=DATE:20240714
DTSTAMP:20260420T073435
CREATED:20240612T182337Z
LAST-MODIFIED:20240612T182337Z
UID:10000261-1720828800-1720915199@www.offshorerooftop.com
SUMMARY:Closed for Private Events
DESCRIPTION:Offshore will be closed to the public Saturday\, July 13th due to private events. We apologize for the inconvenience but look forward to welcoming you in soon!
URL:https://www.offshorerooftop.com/event/closed-for-private-events-122/
END:VEVENT
BEGIN:VEVENT
DTSTART;VALUE=DATE:20240715
DTEND;VALUE=DATE:20240716
DTSTAMP:20260420T073435
CREATED:20240612T182551Z
LAST-MODIFIED:20240612T182551Z
UID:10000264-1721001600-1721087999@www.offshorerooftop.com
SUMMARY:Closed for Private Events
DESCRIPTION:Offshore will be closed to the public Monday\, July 15th due to private events. We apologize for the inconvenience but look forward to welcoming you in soon!
URL:https://www.offshorerooftop.com/event/closed-for-private-events-125/
END:VEVENT
BEGIN:VEVENT
DTSTART;VALUE=DATE:20240717
DTEND;VALUE=DATE:20240718
DTSTAMP:20260420T073435
CREATED:20240612T182633Z
LAST-MODIFIED:20240612T182633Z
UID:10000265-1721174400-1721260799@www.offshorerooftop.com
SUMMARY:Closed for Private Events
DESCRIPTION:Offshore will be closed to the public Wednesday\, July 17th due to private events. We apologize for the inconvenience but look forward to welcoming you in soon!
URL:https://www.offshorerooftop.com/event/closed-for-private-events-126/
END:VEVENT
BEGIN:VEVENT
DTSTART;VALUE=DATE:20240719
DTEND;VALUE=DATE:20240720
DTSTAMP:20260420T073435
CREATED:20240612T182251Z
LAST-MODIFIED:20240612T182251Z
UID:10000260-1721347200-1721433599@www.offshorerooftop.com
SUMMARY:Closed for Private Events
DESCRIPTION:Offshore will be closed to the public Friday\, July 19th due to private events. We apologize for the inconvenience but look forward to welcoming you in soon!
URL:https://www.offshorerooftop.com/event/closed-for-private-events-121/
END:VEVENT
BEGIN:VEVENT
DTSTART;VALUE=DATE:20240720
DTEND;VALUE=DATE:20240721
DTSTAMP:20260420T073435
CREATED:20240612T182416Z
LAST-MODIFIED:20240612T182416Z
UID:10000262-1721433600-1721519999@www.offshorerooftop.com
SUMMARY:Closed for Private Events
DESCRIPTION:Offshore will be closed to the public Saturday\, July 20th due to private events. We apologize for the inconvenience but look forward to welcoming you in soon!
URL:https://www.offshorerooftop.com/event/closed-for-private-events-123/
END:VEVENT
BEGIN:VEVENT
DTSTART;VALUE=DATE:20240725
DTEND;VALUE=DATE:20240726
DTSTAMP:20260420T073435
CREATED:20240612T182125Z
LAST-MODIFIED:20240612T182125Z
UID:10000258-1721865600-1721951999@www.offshorerooftop.com
SUMMARY:Closed for Private Events
DESCRIPTION:Offshore will be closed to the public Thursday\, July 25th due to private events. We apologize for the inconvenience but look forward to welcoming you in soon!
URL:https://www.offshorerooftop.com/event/closed-for-private-events-119/
END:VEVENT
BEGIN:VEVENT
DTSTART;VALUE=DATE:20240727
DTEND;VALUE=DATE:20240728
DTSTAMP:20260420T073435
CREATED:20240612T182506Z
LAST-MODIFIED:20240612T182506Z
UID:10000263-1722038400-1722124799@www.offshorerooftop.com
SUMMARY:Closed for Private Events
DESCRIPTION:Offshore will be closed to the public Saturday\, July 27th due to private events. We apologize for the inconvenience but look forward to welcoming you in soon!
URL:https://www.offshorerooftop.com/event/closed-for-private-events-124/
END:VEVENT
BEGIN:VEVENT
DTSTART;VALUE=DATE:20240731
DTEND;VALUE=DATE:20240801
DTSTAMP:20260420T073435
CREATED:20240612T182718Z
LAST-MODIFIED:20240612T182718Z
UID:10000266-1722384000-1722470399@www.offshorerooftop.com
SUMMARY:Closed for Private Events
DESCRIPTION:Offshore will be closed to the public Wednesday\, July 31st due to private events. We apologize for the inconvenience but look forward to welcoming you in soon!
URL:https://www.offshorerooftop.com/event/closed-for-private-events-127/
END:VEVENT
END:VCALENDAR