BEGIN:VCALENDAR
VERSION:2.0
PRODID:-//Offshore Rooftop - ECPv6.15.17.1//NONSGML v1.0//EN
CALSCALE:GREGORIAN
METHOD:PUBLISH
X-ORIGINAL-URL:https://www.offshorerooftop.com
X-WR-CALDESC:Events for Offshore Rooftop
REFRESH-INTERVAL;VALUE=DURATION:PT1H
X-Robots-Tag:noindex
X-PUBLISHED-TTL:PT1H
BEGIN:VTIMEZONE
TZID:America/Chicago
BEGIN:DAYLIGHT
TZOFFSETFROM:-0600
TZOFFSETTO:-0500
TZNAME:CDT
DTSTART:20220313T080000
END:DAYLIGHT
BEGIN:STANDARD
TZOFFSETFROM:-0500
TZOFFSETTO:-0600
TZNAME:CST
DTSTART:20221106T070000
END:STANDARD
BEGIN:DAYLIGHT
TZOFFSETFROM:-0600
TZOFFSETTO:-0500
TZNAME:CDT
DTSTART:20230312T080000
END:DAYLIGHT
BEGIN:STANDARD
TZOFFSETFROM:-0500
TZOFFSETTO:-0600
TZNAME:CST
DTSTART:20231105T070000
END:STANDARD
BEGIN:DAYLIGHT
TZOFFSETFROM:-0600
TZOFFSETTO:-0500
TZNAME:CDT
DTSTART:20240310T080000
END:DAYLIGHT
BEGIN:STANDARD
TZOFFSETFROM:-0500
TZOFFSETTO:-0600
TZNAME:CST
DTSTART:20241103T070000
END:STANDARD
BEGIN:DAYLIGHT
TZOFFSETFROM:-0600
TZOFFSETTO:-0500
TZNAME:CDT
DTSTART:20250309T080000
END:DAYLIGHT
BEGIN:STANDARD
TZOFFSETFROM:-0500
TZOFFSETTO:-0600
TZNAME:CST
DTSTART:20251102T070000
END:STANDARD
END:VTIMEZONE
BEGIN:VEVENT
DTSTART;VALUE=DATE:20231202
DTEND;VALUE=DATE:20231203
DTSTAMP:20260419T103826
CREATED:20231116T225254Z
LAST-MODIFIED:20231116T225254Z
UID:10000176-1701475200-1701561599@www.offshorerooftop.com
SUMMARY:Closed for Private Events
DESCRIPTION:Offshore will be closed to the public Saturday\, December 2nd due to private events. We apologize for the inconvenience but look forward to welcoming you in soon!
URL:https://www.offshorerooftop.com/event/closed-for-private-events-70/
END:VEVENT
BEGIN:VEVENT
DTSTART;TZID=America/Chicago:20231202T210000
DTEND;TZID=America/Chicago:20231202T220000
DTSTAMP:20260419T103826
CREATED:20231116T224953Z
LAST-MODIFIED:20231116T224953Z
UID:10000172-1701550800-1701554400@www.offshorerooftop.com
SUMMARY:Navy Pier Fireworks
DESCRIPTION:Navy Pier hosts their Winter Fireworks Show on Saturday nights. Come join us for the best view in Chicago! \nMake a reservation
URL:https://www.offshorerooftop.com/event/navy-pier-fireworks-4/
END:VEVENT
BEGIN:VEVENT
DTSTART;VALUE=DATE:20231207
DTEND;VALUE=DATE:20231208
DTSTAMP:20260419T103826
CREATED:20231116T225334Z
LAST-MODIFIED:20231116T225334Z
UID:10000177-1701907200-1701993599@www.offshorerooftop.com
SUMMARY:Closed for Private Events
DESCRIPTION:Offshore will be closed to the public Thursday\, December 7th due to private events. We apologize for the inconvenience but look forward to welcoming you in soon!
URL:https://www.offshorerooftop.com/event/closed-for-private-events-71/
END:VEVENT
BEGIN:VEVENT
DTSTART;VALUE=DATE:20231208
DTEND;VALUE=DATE:20231209
DTSTAMP:20260419T103826
CREATED:20231116T225412Z
LAST-MODIFIED:20231116T225412Z
UID:10000178-1701993600-1702079999@www.offshorerooftop.com
SUMMARY:Closed for Private Events
DESCRIPTION:Offshore will be closed to the public Friday\, December 8th due to private events. We apologize for the inconvenience but look forward to welcoming you in soon!
URL:https://www.offshorerooftop.com/event/closed-for-private-events-72/
END:VEVENT
BEGIN:VEVENT
DTSTART;TZID=America/Chicago:20231209T210000
DTEND;TZID=America/Chicago:20231209T220000
DTSTAMP:20260419T103826
CREATED:20231116T225020Z
LAST-MODIFIED:20231116T225020Z
UID:10000173-1702155600-1702159200@www.offshorerooftop.com
SUMMARY:Navy Pier Fireworks
DESCRIPTION:Navy Pier hosts their Winter Fireworks Show on Saturday nights. Come join us for the best view in Chicago! \nMake a reservation
URL:https://www.offshorerooftop.com/event/navy-pier-fireworks-5/
END:VEVENT
BEGIN:VEVENT
DTSTART;TZID=America/Chicago:20231210T100000
DTEND;TZID=America/Chicago:20231210T140000
DTSTAMP:20260419T103826
CREATED:20231101T200554Z
LAST-MODIFIED:20231128T175211Z
UID:10000170-1702202400-1702216800@www.offshorerooftop.com
SUMMARY:Santa Brunch at Offshore Rooftop
DESCRIPTION:Get your Christmas lists ready…Santa Claus is coming to town and he’s stopping by Offshore Rooftop to check in on all the good girls and boys! \nCome meet “The Man in Red\,” take pictures\, and enjoy brunch in our panoramic atrium – a perfect reverse Snow Globe of Chicago and iconic Navy Pier. \nFOR CHILDREN (12 and under): \n\n 1 kids brunch ticket (includes juice or milk)\nPicture with Santa\nTickets are non-refundable. Brunch and cocktails will be available for adults for an additional charge.\n\nGET YOUR TICKETS \n  \n  \n 
URL:https://www.offshorerooftop.com/event/santa-brunch-at-offshore-rooftop/
END:VEVENT
BEGIN:VEVENT
DTSTART;VALUE=DATE:20231214
DTEND;VALUE=DATE:20231215
DTSTAMP:20260419T103826
CREATED:20231116T225444Z
LAST-MODIFIED:20231116T225444Z
UID:10000179-1702512000-1702598399@www.offshorerooftop.com
SUMMARY:Closed for Private Events
DESCRIPTION:Offshore will be closed to the public Thursday\, December 14th due to private events. We apologize for the inconvenience but look forward to welcoming you in soon!
URL:https://www.offshorerooftop.com/event/closed-for-private-events-73/
END:VEVENT
BEGIN:VEVENT
DTSTART;TZID=America/Chicago:20231216T210000
DTEND;TZID=America/Chicago:20231216T220000
DTSTAMP:20260419T103826
CREATED:20231116T225041Z
LAST-MODIFIED:20231116T225041Z
UID:10000174-1702760400-1702764000@www.offshorerooftop.com
SUMMARY:Navy Pier Fireworks
DESCRIPTION:Navy Pier hosts their Winter Fireworks Show on Saturday nights. Come join us for the best view in Chicago! \nMake a reservation
URL:https://www.offshorerooftop.com/event/navy-pier-fireworks-6/
END:VEVENT
BEGIN:VEVENT
DTSTART;TZID=America/Chicago:20231223T210000
DTEND;TZID=America/Chicago:20231223T220000
DTSTAMP:20260419T103826
CREATED:20231116T225120Z
LAST-MODIFIED:20231116T225120Z
UID:10000175-1703365200-1703368800@www.offshorerooftop.com
SUMMARY:Navy Pier Fireworks
DESCRIPTION:Navy Pier hosts their Winter Fireworks Show on Saturday nights. Come join us for the best view in Chicago! \nMake a reservation
URL:https://www.offshorerooftop.com/event/navy-pier-fireworks-7/
END:VEVENT
BEGIN:VEVENT
DTSTART;VALUE=DATE:20231224
DTEND;VALUE=DATE:20231227
DTSTAMP:20260419T103826
CREATED:20231221T222756Z
LAST-MODIFIED:20231221T222756Z
UID:10000189-1703376000-1703635199@www.offshorerooftop.com
SUMMARY:Closed for Holidays
DESCRIPTION:Offshore will be closed to the public Saturday\, December 24 – Tuesday\, December 26. We look forward to welcoming you in soon!
URL:https://www.offshorerooftop.com/event/closed-for-holidays/
END:VEVENT
BEGIN:VEVENT
DTSTART;TZID=America/Chicago:20231231T210000
DTEND;TZID=America/Chicago:20240101T010000
DTSTAMP:20260419T103826
CREATED:20231013T161315Z
LAST-MODIFIED:20231229T180353Z
UID:10000166-1704056400-1704070800@www.offshorerooftop.com
SUMMARY:NYE 2024 at Offshore Rooftop
DESCRIPTION:Celebrate the start of 2024 with a Firework Show at Offshore Rooftop! \nThis exclusive event will be the place to celebrate as we ring in the New Year. Enjoy a spectacular evening with amazing views of Chicago’s skyline and the spectacular Navy Pier fireworks show. \nTickets include a 4-hour premium bar\, heavy passed bites\, midnight fireworks show and champagne toast\, and more! \nAll-Inclusive Event \n\nNavy Pier Firework Show at Midnight\n4-hour Premium Open Bar\nHeavy Passed Appetizers\nDJ\nMidnight Ball Drop on TV Screens\nChampagne Toast at Midnight\nViews of the Chicago Skyline\nComplimentary Coat Check Available\n\nDress Code: Cocktail Attire \nVALID PHOTO ID REQUIRED FOR ENTRY (21+) \nGET YOUR TICKETS \n  \n  \n 
URL:https://www.offshorerooftop.com/event/nye-2024-at-offshore-rooftop/
END:VEVENT
END:VCALENDAR