BEGIN:VCALENDAR
VERSION:2.0
PRODID:-//Offshore Rooftop - ECPv6.15.17.1//NONSGML v1.0//EN
CALSCALE:GREGORIAN
METHOD:PUBLISH
X-WR-CALNAME:Offshore Rooftop
X-ORIGINAL-URL:https://www.offshorerooftop.com
X-WR-CALDESC:Events for Offshore Rooftop
REFRESH-INTERVAL;VALUE=DURATION:PT1H
X-Robots-Tag:noindex
X-PUBLISHED-TTL:PT1H
BEGIN:VTIMEZONE
TZID:America/Chicago
BEGIN:DAYLIGHT
TZOFFSETFROM:-0600
TZOFFSETTO:-0500
TZNAME:CDT
DTSTART:20220313T080000
END:DAYLIGHT
BEGIN:STANDARD
TZOFFSETFROM:-0500
TZOFFSETTO:-0600
TZNAME:CST
DTSTART:20221106T070000
END:STANDARD
BEGIN:DAYLIGHT
TZOFFSETFROM:-0600
TZOFFSETTO:-0500
TZNAME:CDT
DTSTART:20230312T080000
END:DAYLIGHT
BEGIN:STANDARD
TZOFFSETFROM:-0500
TZOFFSETTO:-0600
TZNAME:CST
DTSTART:20231105T070000
END:STANDARD
BEGIN:DAYLIGHT
TZOFFSETFROM:-0600
TZOFFSETTO:-0500
TZNAME:CDT
DTSTART:20240310T080000
END:DAYLIGHT
BEGIN:STANDARD
TZOFFSETFROM:-0500
TZOFFSETTO:-0600
TZNAME:CST
DTSTART:20241103T070000
END:STANDARD
END:VTIMEZONE
BEGIN:VEVENT
DTSTART;VALUE=DATE:20230507
DTEND;VALUE=DATE:20230508
DTSTAMP:20260420T070740
CREATED:20230322T220936Z
LAST-MODIFIED:20230425T192507Z
UID:10000083-1683417600-1683503999@www.offshorerooftop.com
SUMMARY:WELLNESS ON THE WATER: Group Fitness and Brunch
DESCRIPTION:Offshore Rooftop is starting the new year strong with Wellness on the Water! G﻿roup fitness and brunch is the best way to kick off 2023! \nCHECK OUT THE LINEUP: \nS﻿UNDAY\, MAY 7 | Presence and Flow with Nikki Snow (Cultiv8 + CAC)\nS﻿ATURDAY\, MAY 20 | Bodyweight Bootcamp with Kelly Amshoff (I’m With Kelly)\nS﻿UNDAY\, JUNE 3 | Total Body Hit With Audrey Smith (East Bank Club/Kinema Fitness)\nS﻿UNDAY\, JUNE 10 | Vinyasa Flow With Guinn Peace (Fly Chicago) \nSCHEDULE:\n1﻿0:00 – 10:50 am: Fitness Class\nBrunch to follow \nTICKETS INCLUDE:\nGroup Fitness Class\nHampton Water Rosé Y﻿oga Mat\nChoice of Hampton Water Rosé or Mimosa\nSelection of Coffee & Tea\nBrunch Food Stations with Avocado Toast\, Yogurt & Granola Parfaits\, Salmon Board with Bagels\, Scrambled Eggs\, Bacon\, and more \n**Please email info@offshorerooftop.com for any dietary restriction accommodations \nYoga mats will be provided!\n*﻿18% gratuity is included in the ticket price\n*﻿Tickets are non-refundable and non-transferable \n$50
URL:https://www.offshorerooftop.com/event/wellness-on-the-water-group-fitness-and-brunch-9/
END:VEVENT
BEGIN:VEVENT
DTSTART;VALUE=DATE:20230510
DTEND;VALUE=DATE:20230511
DTSTAMP:20260420T070740
CREATED:20230401T150438Z
LAST-MODIFIED:20230401T150438Z
UID:10000085-1683676800-1683763199@www.offshorerooftop.com
SUMMARY:Closed for Private Events
DESCRIPTION:Offshore will be closed to the public Wednesday\, May 10th due to private events. We apologize for the inconvenience but look forward to welcoming you in soon!
URL:https://www.offshorerooftop.com/event/closed-for-private-events-23/
END:VEVENT
BEGIN:VEVENT
DTSTART;VALUE=DATE:20230511
DTEND;VALUE=DATE:20230512
DTSTAMP:20260420T070740
CREATED:20230401T150522Z
LAST-MODIFIED:20230401T150542Z
UID:10000086-1683763200-1683849599@www.offshorerooftop.com
SUMMARY:Closed for Private Events
DESCRIPTION:Offshore will be closed to the public Thursday\, May 11th due to private events. We apologize for the inconvenience but look forward to welcoming you in soon!
URL:https://www.offshorerooftop.com/event/closed-for-private-events-24/
END:VEVENT
BEGIN:VEVENT
DTSTART;TZID=America/Chicago:20230514T110000
DTEND;TZID=America/Chicago:20230514T143000
DTSTAMP:20260420T070740
CREATED:20230417T145815Z
LAST-MODIFIED:20230417T145815Z
UID:10000100-1684062000-1684074600@www.offshorerooftop.com
SUMMARY:Offshore Rooftop's Mother's Day Brunch!
DESCRIPTION:Treat the world’s greatest mom to brunch at the world’s largest rooftop bar! \nLeave the florals to us! \nSt. Germain will be providing flower bouquets for all moms who dine with us for Mother’s Day brunch. In addition to our brunch menu\, we will be offering specialty items just for Mother’s Day. \nWe will also be offering specialty cocktails featuring St. Germain! \n  \nDate: 5/14 | Time: 11am-2:30pm  \n \nBook Now
URL:https://www.offshorerooftop.com/event/offshore-rooftops-mothers-day-brunch/
LOCATION:Offshore Rooftop\, 1000 E. Grand\, Chicago\, IL\, 60611\, United States
END:VEVENT
BEGIN:VEVENT
DTSTART;VALUE=DATE:20230518
DTEND;VALUE=DATE:20230519
DTSTAMP:20260420T070740
CREATED:20230401T150625Z
LAST-MODIFIED:20230401T150625Z
UID:10000087-1684368000-1684454399@www.offshorerooftop.com
SUMMARY:Closed for Private Events
DESCRIPTION:Offshore will be closed to the public Thursday\, May 18th due to private events. We apologize for the inconvenience but look forward to welcoming you in soon!
URL:https://www.offshorerooftop.com/event/closed-for-private-events-25/
END:VEVENT
BEGIN:VEVENT
DTSTART;VALUE=DATE:20230520
DTEND;VALUE=DATE:20230521
DTSTAMP:20260420T070740
CREATED:20230401T150700Z
LAST-MODIFIED:20230401T150700Z
UID:10000088-1684540800-1684627199@www.offshorerooftop.com
SUMMARY:Closed for Private Events
DESCRIPTION:Offshore will be closed to the public Saturday\, May 20th due to private events. We apologize for the inconvenience but look forward to welcoming you in soon!
URL:https://www.offshorerooftop.com/event/closed-for-private-events-26/
END:VEVENT
BEGIN:VEVENT
DTSTART;VALUE=DATE:20230520
DTEND;VALUE=DATE:20230521
DTSTAMP:20260420T070740
CREATED:20230420T014147Z
LAST-MODIFIED:20230518T165536Z
UID:10000101-1684540800-1684627199@www.offshorerooftop.com
SUMMARY:WELLNESS ON THE WATER: Group Fitness and Brunch
DESCRIPTION:Offshore Rooftop is starting the new year strong with Wellness on the Water! G﻿roup fitness and brunch is the best way to kick off 2023! \nCHECK OUT THE LINEUP: \nS﻿ATURDAY\, MAY 20 | Bodyweight Bootcamp with Kelly Amshoff (I’m With Kelly)\nS﻿ATURDAY\, JUNE 3 | Total Body Hit With Audrey Smith (East Bank Club/Kinema Fitness)\nS﻿ATURDAY\, JUNE 10 | Vinyasa Flow With Guinn Peace (Fly Chicago) \nSCHEDULE:\n1﻿0:00 – 10:50 am: Fitness Class\nBrunch to follow \nTICKETS INCLUDE:\nGroup Fitness Class\nHampton Water Rosé Y﻿oga Mat\nChoice of Hampton Water Rosé or Mimosa\nSelection of Coffee & Tea\nBrunch Food Stations with Avocado Toast\, Yogurt & Granola Parfaits\, Salmon Board with Bagels\, Scrambled Eggs\, Bacon\, and more \n**Please email info@offshorerooftop.com for any dietary restriction accommodations \nYoga mats will be provided!\n*﻿18% gratuity is included in the ticket price\n*﻿Tickets are non-refundable and non-transferable \n$50
URL:https://www.offshorerooftop.com/event/wellness-on-the-water-group-fitness-and-brunch-10/
END:VEVENT
BEGIN:VEVENT
DTSTART;VALUE=DATE:20230525
DTEND;VALUE=DATE:20230526
DTSTAMP:20260420T070740
CREATED:20230401T150743Z
LAST-MODIFIED:20230401T150743Z
UID:10000089-1684972800-1685059199@www.offshorerooftop.com
SUMMARY:Closed for Private Events
DESCRIPTION:Offshore will be closed to the public Thursday\, May 25th due to private events. We apologize for the inconvenience but look forward to welcoming you in soon!
URL:https://www.offshorerooftop.com/event/closed-for-private-events-27/
END:VEVENT
BEGIN:VEVENT
DTSTART;VALUE=DATE:20230527
DTEND;VALUE=DATE:20230528
DTSTAMP:20260420T070740
CREATED:20230401T151103Z
LAST-MODIFIED:20230401T151103Z
UID:10000091-1685145600-1685231999@www.offshorerooftop.com
SUMMARY:Closed for Private Events
DESCRIPTION:Offshore will be closed to the public Saturday\, May 27th due to private events. We apologize for the inconvenience but look forward to welcoming you in soon!
URL:https://www.offshorerooftop.com/event/closed-for-private-events-29/
END:VEVENT
BEGIN:VEVENT
DTSTART;VALUE=DATE:20230528
DTEND;VALUE=DATE:20230529
DTSTAMP:20260420T070740
CREATED:20230428T185335Z
LAST-MODIFIED:20230503T175732Z
UID:10000102-1685232000-1685318399@www.offshorerooftop.com
SUMMARY:Offshore Rooftop's Memorial Day Weekend!
DESCRIPTION:Summer is finally here\, and there is no better way to kick off rooftop season than at Offshore Rooftop! \nIn addition to our regular brunch and all-day menus\, we will be sampling food and cocktails from our new summer menu. \nMake the most of your day on Navy Pier and enjoy giveaways from some of your favorite spirits brands! \n  \nDate: 5/28-5/29  \n \nBook Now
URL:https://www.offshorerooftop.com/event/offshore-rooftops-memorial-day-weekend/
END:VEVENT
BEGIN:VEVENT
DTSTART;VALUE=DATE:20230529
DTEND;VALUE=DATE:20230530
DTSTAMP:20260420T070740
CREATED:20230503T175650Z
LAST-MODIFIED:20230503T175650Z
UID:10000103-1685318400-1685404799@www.offshorerooftop.com
SUMMARY:Offshore Rooftop's Memorial Day Weekend!
DESCRIPTION:Summer is finally here\, and there is no better way to kick off rooftop season than at Offshore Rooftop! \nIn addition to our regular brunch and all-day menus\, we will be sampling food and cocktails from our new summer menu. \nMake the most of your day on Navy Pier and enjoy giveaways from some of your favorite spirits brands! \n  \nDate: 5/28-5/29  \n \nBook Now
URL:https://www.offshorerooftop.com/event/offshore-rooftops-memorial-day-weekend-2/
END:VEVENT
BEGIN:VEVENT
DTSTART;VALUE=DATE:20230530
DTEND;VALUE=DATE:20230531
DTSTAMP:20260420T070740
CREATED:20230401T150816Z
LAST-MODIFIED:20230401T150904Z
UID:10000090-1685404800-1685491199@www.offshorerooftop.com
SUMMARY:Closed for Private Events
DESCRIPTION:Offshore will be closed to the public Tuesday\, May 30th due to private events. We apologize for the inconvenience but look forward to welcoming you in soon!
URL:https://www.offshorerooftop.com/event/closed-for-private-events-28/
END:VEVENT
END:VCALENDAR