BEGIN:VCALENDAR
VERSION:2.0
PRODID:-//Offshore Rooftop - ECPv6.15.17.1//NONSGML v1.0//EN
CALSCALE:GREGORIAN
METHOD:PUBLISH
X-ORIGINAL-URL:https://www.offshorerooftop.com
X-WR-CALDESC:Events for Offshore Rooftop
REFRESH-INTERVAL;VALUE=DURATION:PT1H
X-Robots-Tag:noindex
X-PUBLISHED-TTL:PT1H
BEGIN:VTIMEZONE
TZID:America/Chicago
BEGIN:DAYLIGHT
TZOFFSETFROM:-0600
TZOFFSETTO:-0500
TZNAME:CDT
DTSTART:20220313T080000
END:DAYLIGHT
BEGIN:STANDARD
TZOFFSETFROM:-0500
TZOFFSETTO:-0600
TZNAME:CST
DTSTART:20221106T070000
END:STANDARD
BEGIN:DAYLIGHT
TZOFFSETFROM:-0600
TZOFFSETTO:-0500
TZNAME:CDT
DTSTART:20230312T080000
END:DAYLIGHT
BEGIN:STANDARD
TZOFFSETFROM:-0500
TZOFFSETTO:-0600
TZNAME:CST
DTSTART:20231105T070000
END:STANDARD
BEGIN:DAYLIGHT
TZOFFSETFROM:-0600
TZOFFSETTO:-0500
TZNAME:CDT
DTSTART:20240310T080000
END:DAYLIGHT
BEGIN:STANDARD
TZOFFSETFROM:-0500
TZOFFSETTO:-0600
TZNAME:CST
DTSTART:20241103T070000
END:STANDARD
END:VTIMEZONE
BEGIN:VEVENT
DTSTART;VALUE=DATE:20230402
DTEND;VALUE=DATE:20230403
DTSTAMP:20260420T053635
CREATED:20230322T214748Z
LAST-MODIFIED:20230323T140159Z
UID:10000020-1680393600-1680479999@www.offshorerooftop.com
SUMMARY:WELLNESS ON THE WATER: Group Fitness and Brunch
DESCRIPTION:Offshore Rooftop is starting the new year strong with Wellness on the Water! G﻿roup fitness and brunch is the best way to kick off 2023! \nCHECK OUT THE LINEUP: \nS﻿UNDAY\, APRIL 2 | Bodyweight Yoga Sculpt with Jordan Borkan (The Arrow Methid/Life Time)\nS﻿UNDAY\, APRIL 16 | Boxing Bootcamp with Angie May (Angie’s Boxing Garage)\nS﻿UNDAY\, APRIL 30 | Kickboxing with David Robertson (Chicago Athletic Clubs/Fitness Formula Clubs) \nSCHEDULE:\n1﻿0:00 – 10:50 am: Fitness Class\nBrunch to follow \nTICKETS INCLUDE:\nGroup Fitness Class\nHampton Water Rosé Y﻿oga Mat\nChoice of Hampton Water Rosé or Mimosa\nSelection of Coffee & Tea\nBrunch Food Stations with Avocado Toast\, Yogurt & Granola Parfaits\, Salmon Board with Bagels\, Scrambled Eggs\, Bacon\, and more \n**Please email info@offshorerooftop.com for any dietary restriction accommodations \nYoga mats will be provided!\n*﻿18% gratuity is included in the ticket price\n*﻿Tickets are non-refundable and non-transferable \n$50
URL:https://www.offshorerooftop.com/event/wellness-on-the-water-group-fitness-and-brunch-6/
END:VEVENT
BEGIN:VEVENT
DTSTART;VALUE=DATE:20230415
DTEND;VALUE=DATE:20230416
DTSTAMP:20260420T053635
CREATED:20230314T202329Z
LAST-MODIFIED:20230314T202329Z
UID:10000013-1681516800-1681603199@www.offshorerooftop.com
SUMMARY:Closed for Private Events
DESCRIPTION:Offshore will be closed to the public Saturday\, April 15th due to private events. We apologize for the inconvenience but look forward to welcoming you in soon!
URL:https://www.offshorerooftop.com/event/closed-for-private-events-16/
END:VEVENT
BEGIN:VEVENT
DTSTART;VALUE=DATE:20230416
DTEND;VALUE=DATE:20230417
DTSTAMP:20260420T053635
CREATED:20230322T220632Z
LAST-MODIFIED:20230323T140147Z
UID:10000081-1681603200-1681689599@www.offshorerooftop.com
SUMMARY:WELLNESS ON THE WATER: Group Fitness and Brunch
DESCRIPTION:Offshore Rooftop is starting the new year strong with Wellness on the Water! G﻿roup fitness and brunch is the best way to kick off 2023! \nCHECK OUT THE LINEUP: \nS﻿UNDAY\, APRIL 16 | Boxing Bootcamp with Angie May (Angie’s Boxing Garage)\nS﻿UNDAY\, APRIL 30 | Kickboxing with David Robertson (Chicago Athletic Clubs/Fitness Formula Clubs)\nS﻿UNDAY\, MAY 7 | Presence and Flow with Nikki Snow (Cultiv8 + CAC) \nSCHEDULE:\n1﻿0:00 – 10:50 am: Fitness Class\nBrunch to follow \nTICKETS INCLUDE:\nGroup Fitness Class\nHampton Water Rosé Y﻿oga Mat\nChoice of Hampton Water Rosé or Mimosa\nSelection of Coffee & Tea\nBrunch Food Stations with Avocado Toast\, Yogurt & Granola Parfaits\, Salmon Board with Bagels\, Scrambled Eggs\, Bacon\, and more \n**Please email info@offshorerooftop.com for any dietary restriction accommodations \nYoga mats will be provided!\n*﻿18% gratuity is included in the ticket price\n*﻿Tickets are non-refundable and non-transferable \n$50
URL:https://www.offshorerooftop.com/event/wellness-on-the-water-group-fitness-and-brunch-7/
END:VEVENT
BEGIN:VEVENT
DTSTART;VALUE=DATE:20230417
DTEND;VALUE=DATE:20230418
DTSTAMP:20260420T053635
CREATED:20230314T202426Z
LAST-MODIFIED:20230314T202426Z
UID:10000014-1681689600-1681775999@www.offshorerooftop.com
SUMMARY:Closed for Private Events
DESCRIPTION:Offshore will be closed to the public Monday\, April 17th due to private events. We apologize for the inconvenience but look forward to welcoming you in soon!
URL:https://www.offshorerooftop.com/event/closed-for-private-events-17/
END:VEVENT
BEGIN:VEVENT
DTSTART;VALUE=DATE:20230418
DTEND;VALUE=DATE:20230419
DTSTAMP:20260420T053635
CREATED:20230314T202508Z
LAST-MODIFIED:20230314T202508Z
UID:10000015-1681776000-1681862399@www.offshorerooftop.com
SUMMARY:Closed for Private Events
DESCRIPTION:Offshore will be closed to the public Tuesday\, April 18th due to private events. We apologize for the inconvenience but look forward to welcoming you in soon!
URL:https://www.offshorerooftop.com/event/closed-for-private-events-18/
END:VEVENT
BEGIN:VEVENT
DTSTART;VALUE=DATE:20230419
DTEND;VALUE=DATE:20230420
DTSTAMP:20260420T053635
CREATED:20230314T202553Z
LAST-MODIFIED:20230314T202553Z
UID:10000016-1681862400-1681948799@www.offshorerooftop.com
SUMMARY:Closed for Private Events
DESCRIPTION:Offshore will be closed to the public Wednesday\, April 19th due to private events. We apologize for the inconvenience but look forward to welcoming you in soon!
URL:https://www.offshorerooftop.com/event/closed-for-private-events-19/
END:VEVENT
BEGIN:VEVENT
DTSTART;VALUE=DATE:20230421
DTEND;VALUE=DATE:20230422
DTSTAMP:20260420T053635
CREATED:20230314T202637Z
LAST-MODIFIED:20230314T202637Z
UID:10000017-1682035200-1682121599@www.offshorerooftop.com
SUMMARY:Closed for Private Events
DESCRIPTION:Offshore will be closed to the public Friday\, April 21st due to private events. We apologize for the inconvenience but look forward to welcoming you in soon!
URL:https://www.offshorerooftop.com/event/closed-for-private-events-20/
END:VEVENT
BEGIN:VEVENT
DTSTART;VALUE=DATE:20230430
DTEND;VALUE=DATE:20230501
DTSTAMP:20260420T053635
CREATED:20230322T220743Z
LAST-MODIFIED:20230425T192436Z
UID:10000082-1682812800-1682899199@www.offshorerooftop.com
SUMMARY:WELLNESS ON THE WATER: Group Fitness and Brunch
DESCRIPTION:Offshore Rooftop is starting the new year strong with Wellness on the Water! G﻿roup fitness and brunch is the best way to kick off 2023! \nCHECK OUT THE LINEUP: \nS﻿UNDAY\, APRIL 30 | Kickboxing with David Robertson (Chicago Athletic Clubs/Fitness Formula Clubs)\nS﻿UNDAY\, MAY 7 | Presence and Flow with Nikki Snow (Cultiv8 + CAC)\nSATURDAY\, MAY 20 | Bodyweight Bootcamp with Kelly Amshoff (I’m With Kelly)\nS﻿UNDAY\, JUNE 3 | Total Body Hit With Audrey Smith (East Bank Club/Kinema Fitness)\nS﻿UNDAY\, JUNE 10 | Vinyasa Flow With Guinn Peace (Fly Chicago) \nSCHEDULE:\n1﻿0:00 – 10:50 am: Fitness Class\nBrunch to follow \nTICKETS INCLUDE:\nGroup Fitness Class\nHampton Water Rosé Y﻿oga Mat\nChoice of Hampton Water Rosé or Mimosa\nSelection of Coffee & Tea\nBrunch Food Stations with Avocado Toast\, Yogurt & Granola Parfaits\, Salmon Board with Bagels\, Scrambled Eggs\, Bacon\, and more \n**Please email info@offshorerooftop.com for any dietary restriction accommodations \nYoga mats will be provided!\n*﻿18% gratuity is included in the ticket price\n*﻿Tickets are non-refundable and non-transferable \n$50
URL:https://www.offshorerooftop.com/event/wellness-on-the-water-group-fitness-and-brunch-8/
END:VEVENT
END:VCALENDAR