BEGIN:VCALENDAR
VERSION:2.0
PRODID:-//Offshore Rooftop - ECPv6.15.17.1//NONSGML v1.0//EN
CALSCALE:GREGORIAN
METHOD:PUBLISH
X-WR-CALNAME:Offshore Rooftop
X-ORIGINAL-URL:https://www.offshorerooftop.com
X-WR-CALDESC:Events for Offshore Rooftop
REFRESH-INTERVAL;VALUE=DURATION:PT1H
X-Robots-Tag:noindex
X-PUBLISHED-TTL:PT1H
BEGIN:VTIMEZONE
TZID:America/Chicago
BEGIN:DAYLIGHT
TZOFFSETFROM:-0600
TZOFFSETTO:-0500
TZNAME:CDT
DTSTART:20290311T080000
END:DAYLIGHT
BEGIN:STANDARD
TZOFFSETFROM:-0500
TZOFFSETTO:-0600
TZNAME:CST
DTSTART:20291104T070000
END:STANDARD
BEGIN:DAYLIGHT
TZOFFSETFROM:-0600
TZOFFSETTO:-0500
TZNAME:CDT
DTSTART:20300310T080000
END:DAYLIGHT
BEGIN:STANDARD
TZOFFSETFROM:-0500
TZOFFSETTO:-0600
TZNAME:CST
DTSTART:20301103T070000
END:STANDARD
BEGIN:DAYLIGHT
TZOFFSETFROM:-0600
TZOFFSETTO:-0500
TZNAME:CDT
DTSTART:20310309T080000
END:DAYLIGHT
BEGIN:STANDARD
TZOFFSETFROM:-0500
TZOFFSETTO:-0600
TZNAME:CST
DTSTART:20311102T070000
END:STANDARD
END:VTIMEZONE
BEGIN:VEVENT
DTSTART;TZID=America/Chicago:20300331T143000
DTEND;TZID=America/Chicago:20300331T173000
DTSTAMP:20260421T125005
CREATED:20260410T155949Z
LAST-MODIFIED:20260421T163624Z
UID:10005478-1901197800-1901208600@www.offshorerooftop.com
SUMMARY:Family Sunday Fundays
DESCRIPTION:After enjoying a fun-filled day at Navy Pier\, refuel and re-energize with us at Family Sunday Funday at Offshore Rooftop ✨🏙️ \nChildren can enjoy one free meal from our kids’ menu with the purchase of an adult meal every Sunday from 2:30pm to 5:30pm.
URL:https://www.offshorerooftop.com/event/family-sunday-fundays-2-2/2030-03-31/
LOCATION:Offshore Rooftop\, 1000 E. Grand\, Chicago\, IL\, 60611\, United States
ATTACH;FMTTYPE=image/jpeg:https://www.offshorerooftop.com/wp-content/uploads/2026/01/Web_Header-1920x1080-1.jpg
END:VEVENT
BEGIN:VEVENT
DTSTART;TZID=America/Chicago:20300407T143000
DTEND;TZID=America/Chicago:20300407T173000
DTSTAMP:20260421T125005
CREATED:20260410T155949Z
LAST-MODIFIED:20260421T163624Z
UID:10005479-1901802600-1901813400@www.offshorerooftop.com
SUMMARY:Family Sunday Fundays
DESCRIPTION:After enjoying a fun-filled day at Navy Pier\, refuel and re-energize with us at Family Sunday Funday at Offshore Rooftop ✨🏙️ \nChildren can enjoy one free meal from our kids’ menu with the purchase of an adult meal every Sunday from 2:30pm to 5:30pm.
URL:https://www.offshorerooftop.com/event/family-sunday-fundays-2-2/2030-04-07/
LOCATION:Offshore Rooftop\, 1000 E. Grand\, Chicago\, IL\, 60611\, United States
ATTACH;FMTTYPE=image/jpeg:https://www.offshorerooftop.com/wp-content/uploads/2026/01/Web_Header-1920x1080-1.jpg
END:VEVENT
BEGIN:VEVENT
DTSTART;TZID=America/Chicago:20300414T143000
DTEND;TZID=America/Chicago:20300414T173000
DTSTAMP:20260421T125005
CREATED:20260410T155949Z
LAST-MODIFIED:20260421T163624Z
UID:10005480-1902407400-1902418200@www.offshorerooftop.com
SUMMARY:Family Sunday Fundays
DESCRIPTION:After enjoying a fun-filled day at Navy Pier\, refuel and re-energize with us at Family Sunday Funday at Offshore Rooftop ✨🏙️ \nChildren can enjoy one free meal from our kids’ menu with the purchase of an adult meal every Sunday from 2:30pm to 5:30pm.
URL:https://www.offshorerooftop.com/event/family-sunday-fundays-2-2/2030-04-14/
LOCATION:Offshore Rooftop\, 1000 E. Grand\, Chicago\, IL\, 60611\, United States
ATTACH;FMTTYPE=image/jpeg:https://www.offshorerooftop.com/wp-content/uploads/2026/01/Web_Header-1920x1080-1.jpg
END:VEVENT
BEGIN:VEVENT
DTSTART;TZID=America/Chicago:20300421T143000
DTEND;TZID=America/Chicago:20300421T173000
DTSTAMP:20260421T125005
CREATED:20260410T155949Z
LAST-MODIFIED:20260421T163624Z
UID:10005481-1903012200-1903023000@www.offshorerooftop.com
SUMMARY:Family Sunday Fundays
DESCRIPTION:After enjoying a fun-filled day at Navy Pier\, refuel and re-energize with us at Family Sunday Funday at Offshore Rooftop ✨🏙️ \nChildren can enjoy one free meal from our kids’ menu with the purchase of an adult meal every Sunday from 2:30pm to 5:30pm.
URL:https://www.offshorerooftop.com/event/family-sunday-fundays-2-2/2030-04-21/
LOCATION:Offshore Rooftop\, 1000 E. Grand\, Chicago\, IL\, 60611\, United States
ATTACH;FMTTYPE=image/jpeg:https://www.offshorerooftop.com/wp-content/uploads/2026/01/Web_Header-1920x1080-1.jpg
END:VEVENT
BEGIN:VEVENT
DTSTART;TZID=America/Chicago:20300428T143000
DTEND;TZID=America/Chicago:20300428T173000
DTSTAMP:20260421T125005
CREATED:20260410T155949Z
LAST-MODIFIED:20260421T163624Z
UID:10005482-1903617000-1903627800@www.offshorerooftop.com
SUMMARY:Family Sunday Fundays
DESCRIPTION:After enjoying a fun-filled day at Navy Pier\, refuel and re-energize with us at Family Sunday Funday at Offshore Rooftop ✨🏙️ \nChildren can enjoy one free meal from our kids’ menu with the purchase of an adult meal every Sunday from 2:30pm to 5:30pm.
URL:https://www.offshorerooftop.com/event/family-sunday-fundays-2-2/2030-04-28/
LOCATION:Offshore Rooftop\, 1000 E. Grand\, Chicago\, IL\, 60611\, United States
ATTACH;FMTTYPE=image/jpeg:https://www.offshorerooftop.com/wp-content/uploads/2026/01/Web_Header-1920x1080-1.jpg
END:VEVENT
BEGIN:VEVENT
DTSTART;TZID=America/Chicago:20300505T143000
DTEND;TZID=America/Chicago:20300505T173000
DTSTAMP:20260421T125005
CREATED:20260410T155949Z
LAST-MODIFIED:20260421T163624Z
UID:10005483-1904221800-1904232600@www.offshorerooftop.com
SUMMARY:Family Sunday Fundays
DESCRIPTION:After enjoying a fun-filled day at Navy Pier\, refuel and re-energize with us at Family Sunday Funday at Offshore Rooftop ✨🏙️ \nChildren can enjoy one free meal from our kids’ menu with the purchase of an adult meal every Sunday from 2:30pm to 5:30pm.
URL:https://www.offshorerooftop.com/event/family-sunday-fundays-2-2/2030-05-05/
LOCATION:Offshore Rooftop\, 1000 E. Grand\, Chicago\, IL\, 60611\, United States
ATTACH;FMTTYPE=image/jpeg:https://www.offshorerooftop.com/wp-content/uploads/2026/01/Web_Header-1920x1080-1.jpg
END:VEVENT
BEGIN:VEVENT
DTSTART;TZID=America/Chicago:20300512T143000
DTEND;TZID=America/Chicago:20300512T173000
DTSTAMP:20260421T125005
CREATED:20260410T155949Z
LAST-MODIFIED:20260421T163624Z
UID:10005484-1904826600-1904837400@www.offshorerooftop.com
SUMMARY:Family Sunday Fundays
DESCRIPTION:After enjoying a fun-filled day at Navy Pier\, refuel and re-energize with us at Family Sunday Funday at Offshore Rooftop ✨🏙️ \nChildren can enjoy one free meal from our kids’ menu with the purchase of an adult meal every Sunday from 2:30pm to 5:30pm.
URL:https://www.offshorerooftop.com/event/family-sunday-fundays-2-2/2030-05-12/
LOCATION:Offshore Rooftop\, 1000 E. Grand\, Chicago\, IL\, 60611\, United States
ATTACH;FMTTYPE=image/jpeg:https://www.offshorerooftop.com/wp-content/uploads/2026/01/Web_Header-1920x1080-1.jpg
END:VEVENT
BEGIN:VEVENT
DTSTART;TZID=America/Chicago:20300519T143000
DTEND;TZID=America/Chicago:20300519T173000
DTSTAMP:20260421T125005
CREATED:20260410T155949Z
LAST-MODIFIED:20260421T163624Z
UID:10005485-1905431400-1905442200@www.offshorerooftop.com
SUMMARY:Family Sunday Fundays
DESCRIPTION:After enjoying a fun-filled day at Navy Pier\, refuel and re-energize with us at Family Sunday Funday at Offshore Rooftop ✨🏙️ \nChildren can enjoy one free meal from our kids’ menu with the purchase of an adult meal every Sunday from 2:30pm to 5:30pm.
URL:https://www.offshorerooftop.com/event/family-sunday-fundays-2-2/2030-05-19/
LOCATION:Offshore Rooftop\, 1000 E. Grand\, Chicago\, IL\, 60611\, United States
ATTACH;FMTTYPE=image/jpeg:https://www.offshorerooftop.com/wp-content/uploads/2026/01/Web_Header-1920x1080-1.jpg
END:VEVENT
BEGIN:VEVENT
DTSTART;TZID=America/Chicago:20300526T143000
DTEND;TZID=America/Chicago:20300526T173000
DTSTAMP:20260421T125005
CREATED:20260410T155949Z
LAST-MODIFIED:20260421T163624Z
UID:10005486-1906036200-1906047000@www.offshorerooftop.com
SUMMARY:Family Sunday Fundays
DESCRIPTION:After enjoying a fun-filled day at Navy Pier\, refuel and re-energize with us at Family Sunday Funday at Offshore Rooftop ✨🏙️ \nChildren can enjoy one free meal from our kids’ menu with the purchase of an adult meal every Sunday from 2:30pm to 5:30pm.
URL:https://www.offshorerooftop.com/event/family-sunday-fundays-2-2/2030-05-26/
LOCATION:Offshore Rooftop\, 1000 E. Grand\, Chicago\, IL\, 60611\, United States
ATTACH;FMTTYPE=image/jpeg:https://www.offshorerooftop.com/wp-content/uploads/2026/01/Web_Header-1920x1080-1.jpg
END:VEVENT
BEGIN:VEVENT
DTSTART;TZID=America/Chicago:20300602T143000
DTEND;TZID=America/Chicago:20300602T173000
DTSTAMP:20260421T125005
CREATED:20260410T155949Z
LAST-MODIFIED:20260421T163624Z
UID:10005487-1906641000-1906651800@www.offshorerooftop.com
SUMMARY:Family Sunday Fundays
DESCRIPTION:After enjoying a fun-filled day at Navy Pier\, refuel and re-energize with us at Family Sunday Funday at Offshore Rooftop ✨🏙️ \nChildren can enjoy one free meal from our kids’ menu with the purchase of an adult meal every Sunday from 2:30pm to 5:30pm.
URL:https://www.offshorerooftop.com/event/family-sunday-fundays-2-2/2030-06-02/
LOCATION:Offshore Rooftop\, 1000 E. Grand\, Chicago\, IL\, 60611\, United States
ATTACH;FMTTYPE=image/jpeg:https://www.offshorerooftop.com/wp-content/uploads/2026/01/Web_Header-1920x1080-1.jpg
END:VEVENT
BEGIN:VEVENT
DTSTART;TZID=America/Chicago:20300609T143000
DTEND;TZID=America/Chicago:20300609T173000
DTSTAMP:20260421T125005
CREATED:20260410T155949Z
LAST-MODIFIED:20260421T163624Z
UID:10005488-1907245800-1907256600@www.offshorerooftop.com
SUMMARY:Family Sunday Fundays
DESCRIPTION:After enjoying a fun-filled day at Navy Pier\, refuel and re-energize with us at Family Sunday Funday at Offshore Rooftop ✨🏙️ \nChildren can enjoy one free meal from our kids’ menu with the purchase of an adult meal every Sunday from 2:30pm to 5:30pm.
URL:https://www.offshorerooftop.com/event/family-sunday-fundays-2-2/2030-06-09/
LOCATION:Offshore Rooftop\, 1000 E. Grand\, Chicago\, IL\, 60611\, United States
ATTACH;FMTTYPE=image/jpeg:https://www.offshorerooftop.com/wp-content/uploads/2026/01/Web_Header-1920x1080-1.jpg
END:VEVENT
BEGIN:VEVENT
DTSTART;TZID=America/Chicago:20300616T143000
DTEND;TZID=America/Chicago:20300616T173000
DTSTAMP:20260421T125005
CREATED:20260410T155949Z
LAST-MODIFIED:20260421T163624Z
UID:10005489-1907850600-1907861400@www.offshorerooftop.com
SUMMARY:Family Sunday Fundays
DESCRIPTION:After enjoying a fun-filled day at Navy Pier\, refuel and re-energize with us at Family Sunday Funday at Offshore Rooftop ✨🏙️ \nChildren can enjoy one free meal from our kids’ menu with the purchase of an adult meal every Sunday from 2:30pm to 5:30pm.
URL:https://www.offshorerooftop.com/event/family-sunday-fundays-2-2/2030-06-16/
LOCATION:Offshore Rooftop\, 1000 E. Grand\, Chicago\, IL\, 60611\, United States
ATTACH;FMTTYPE=image/jpeg:https://www.offshorerooftop.com/wp-content/uploads/2026/01/Web_Header-1920x1080-1.jpg
END:VEVENT
BEGIN:VEVENT
DTSTART;TZID=America/Chicago:20300623T143000
DTEND;TZID=America/Chicago:20300623T173000
DTSTAMP:20260421T125005
CREATED:20260410T155949Z
LAST-MODIFIED:20260421T163624Z
UID:10005490-1908455400-1908466200@www.offshorerooftop.com
SUMMARY:Family Sunday Fundays
DESCRIPTION:After enjoying a fun-filled day at Navy Pier\, refuel and re-energize with us at Family Sunday Funday at Offshore Rooftop ✨🏙️ \nChildren can enjoy one free meal from our kids’ menu with the purchase of an adult meal every Sunday from 2:30pm to 5:30pm.
URL:https://www.offshorerooftop.com/event/family-sunday-fundays-2-2/2030-06-23/
LOCATION:Offshore Rooftop\, 1000 E. Grand\, Chicago\, IL\, 60611\, United States
ATTACH;FMTTYPE=image/jpeg:https://www.offshorerooftop.com/wp-content/uploads/2026/01/Web_Header-1920x1080-1.jpg
END:VEVENT
BEGIN:VEVENT
DTSTART;TZID=America/Chicago:20300630T143000
DTEND;TZID=America/Chicago:20300630T173000
DTSTAMP:20260421T125005
CREATED:20260410T155949Z
LAST-MODIFIED:20260421T163624Z
UID:10005491-1909060200-1909071000@www.offshorerooftop.com
SUMMARY:Family Sunday Fundays
DESCRIPTION:After enjoying a fun-filled day at Navy Pier\, refuel and re-energize with us at Family Sunday Funday at Offshore Rooftop ✨🏙️ \nChildren can enjoy one free meal from our kids’ menu with the purchase of an adult meal every Sunday from 2:30pm to 5:30pm.
URL:https://www.offshorerooftop.com/event/family-sunday-fundays-2-2/2030-06-30/
LOCATION:Offshore Rooftop\, 1000 E. Grand\, Chicago\, IL\, 60611\, United States
ATTACH;FMTTYPE=image/jpeg:https://www.offshorerooftop.com/wp-content/uploads/2026/01/Web_Header-1920x1080-1.jpg
END:VEVENT
BEGIN:VEVENT
DTSTART;TZID=America/Chicago:20300707T143000
DTEND;TZID=America/Chicago:20300707T173000
DTSTAMP:20260421T125005
CREATED:20260410T155949Z
LAST-MODIFIED:20260421T163624Z
UID:10005492-1909665000-1909675800@www.offshorerooftop.com
SUMMARY:Family Sunday Fundays
DESCRIPTION:After enjoying a fun-filled day at Navy Pier\, refuel and re-energize with us at Family Sunday Funday at Offshore Rooftop ✨🏙️ \nChildren can enjoy one free meal from our kids’ menu with the purchase of an adult meal every Sunday from 2:30pm to 5:30pm.
URL:https://www.offshorerooftop.com/event/family-sunday-fundays-2-2/2030-07-07/
LOCATION:Offshore Rooftop\, 1000 E. Grand\, Chicago\, IL\, 60611\, United States
ATTACH;FMTTYPE=image/jpeg:https://www.offshorerooftop.com/wp-content/uploads/2026/01/Web_Header-1920x1080-1.jpg
END:VEVENT
BEGIN:VEVENT
DTSTART;TZID=America/Chicago:20300714T143000
DTEND;TZID=America/Chicago:20300714T173000
DTSTAMP:20260421T125005
CREATED:20260410T155949Z
LAST-MODIFIED:20260421T163624Z
UID:10005493-1910269800-1910280600@www.offshorerooftop.com
SUMMARY:Family Sunday Fundays
DESCRIPTION:After enjoying a fun-filled day at Navy Pier\, refuel and re-energize with us at Family Sunday Funday at Offshore Rooftop ✨🏙️ \nChildren can enjoy one free meal from our kids’ menu with the purchase of an adult meal every Sunday from 2:30pm to 5:30pm.
URL:https://www.offshorerooftop.com/event/family-sunday-fundays-2-2/2030-07-14/
LOCATION:Offshore Rooftop\, 1000 E. Grand\, Chicago\, IL\, 60611\, United States
ATTACH;FMTTYPE=image/jpeg:https://www.offshorerooftop.com/wp-content/uploads/2026/01/Web_Header-1920x1080-1.jpg
END:VEVENT
BEGIN:VEVENT
DTSTART;TZID=America/Chicago:20300721T143000
DTEND;TZID=America/Chicago:20300721T173000
DTSTAMP:20260421T125005
CREATED:20260410T155949Z
LAST-MODIFIED:20260421T163624Z
UID:10005494-1910874600-1910885400@www.offshorerooftop.com
SUMMARY:Family Sunday Fundays
DESCRIPTION:After enjoying a fun-filled day at Navy Pier\, refuel and re-energize with us at Family Sunday Funday at Offshore Rooftop ✨🏙️ \nChildren can enjoy one free meal from our kids’ menu with the purchase of an adult meal every Sunday from 2:30pm to 5:30pm.
URL:https://www.offshorerooftop.com/event/family-sunday-fundays-2-2/2030-07-21/
LOCATION:Offshore Rooftop\, 1000 E. Grand\, Chicago\, IL\, 60611\, United States
ATTACH;FMTTYPE=image/jpeg:https://www.offshorerooftop.com/wp-content/uploads/2026/01/Web_Header-1920x1080-1.jpg
END:VEVENT
BEGIN:VEVENT
DTSTART;TZID=America/Chicago:20300728T143000
DTEND;TZID=America/Chicago:20300728T173000
DTSTAMP:20260421T125005
CREATED:20260410T155949Z
LAST-MODIFIED:20260421T163624Z
UID:10005495-1911479400-1911490200@www.offshorerooftop.com
SUMMARY:Family Sunday Fundays
DESCRIPTION:After enjoying a fun-filled day at Navy Pier\, refuel and re-energize with us at Family Sunday Funday at Offshore Rooftop ✨🏙️ \nChildren can enjoy one free meal from our kids’ menu with the purchase of an adult meal every Sunday from 2:30pm to 5:30pm.
URL:https://www.offshorerooftop.com/event/family-sunday-fundays-2-2/2030-07-28/
LOCATION:Offshore Rooftop\, 1000 E. Grand\, Chicago\, IL\, 60611\, United States
ATTACH;FMTTYPE=image/jpeg:https://www.offshorerooftop.com/wp-content/uploads/2026/01/Web_Header-1920x1080-1.jpg
END:VEVENT
BEGIN:VEVENT
DTSTART;TZID=America/Chicago:20300804T143000
DTEND;TZID=America/Chicago:20300804T173000
DTSTAMP:20260421T125005
CREATED:20260410T155949Z
LAST-MODIFIED:20260421T163624Z
UID:10005496-1912084200-1912095000@www.offshorerooftop.com
SUMMARY:Family Sunday Fundays
DESCRIPTION:After enjoying a fun-filled day at Navy Pier\, refuel and re-energize with us at Family Sunday Funday at Offshore Rooftop ✨🏙️ \nChildren can enjoy one free meal from our kids’ menu with the purchase of an adult meal every Sunday from 2:30pm to 5:30pm.
URL:https://www.offshorerooftop.com/event/family-sunday-fundays-2-2/2030-08-04/
LOCATION:Offshore Rooftop\, 1000 E. Grand\, Chicago\, IL\, 60611\, United States
ATTACH;FMTTYPE=image/jpeg:https://www.offshorerooftop.com/wp-content/uploads/2026/01/Web_Header-1920x1080-1.jpg
END:VEVENT
BEGIN:VEVENT
DTSTART;TZID=America/Chicago:20300811T143000
DTEND;TZID=America/Chicago:20300811T173000
DTSTAMP:20260421T125005
CREATED:20260410T155949Z
LAST-MODIFIED:20260421T163624Z
UID:10005497-1912689000-1912699800@www.offshorerooftop.com
SUMMARY:Family Sunday Fundays
DESCRIPTION:After enjoying a fun-filled day at Navy Pier\, refuel and re-energize with us at Family Sunday Funday at Offshore Rooftop ✨🏙️ \nChildren can enjoy one free meal from our kids’ menu with the purchase of an adult meal every Sunday from 2:30pm to 5:30pm.
URL:https://www.offshorerooftop.com/event/family-sunday-fundays-2-2/2030-08-11/
LOCATION:Offshore Rooftop\, 1000 E. Grand\, Chicago\, IL\, 60611\, United States
ATTACH;FMTTYPE=image/jpeg:https://www.offshorerooftop.com/wp-content/uploads/2026/01/Web_Header-1920x1080-1.jpg
END:VEVENT
BEGIN:VEVENT
DTSTART;TZID=America/Chicago:20300818T143000
DTEND;TZID=America/Chicago:20300818T173000
DTSTAMP:20260421T125005
CREATED:20260410T155949Z
LAST-MODIFIED:20260421T163624Z
UID:10005498-1913293800-1913304600@www.offshorerooftop.com
SUMMARY:Family Sunday Fundays
DESCRIPTION:After enjoying a fun-filled day at Navy Pier\, refuel and re-energize with us at Family Sunday Funday at Offshore Rooftop ✨🏙️ \nChildren can enjoy one free meal from our kids’ menu with the purchase of an adult meal every Sunday from 2:30pm to 5:30pm.
URL:https://www.offshorerooftop.com/event/family-sunday-fundays-2-2/2030-08-18/
LOCATION:Offshore Rooftop\, 1000 E. Grand\, Chicago\, IL\, 60611\, United States
ATTACH;FMTTYPE=image/jpeg:https://www.offshorerooftop.com/wp-content/uploads/2026/01/Web_Header-1920x1080-1.jpg
END:VEVENT
BEGIN:VEVENT
DTSTART;TZID=America/Chicago:20300825T143000
DTEND;TZID=America/Chicago:20300825T173000
DTSTAMP:20260421T125005
CREATED:20260410T155949Z
LAST-MODIFIED:20260421T163624Z
UID:10005499-1913898600-1913909400@www.offshorerooftop.com
SUMMARY:Family Sunday Fundays
DESCRIPTION:After enjoying a fun-filled day at Navy Pier\, refuel and re-energize with us at Family Sunday Funday at Offshore Rooftop ✨🏙️ \nChildren can enjoy one free meal from our kids’ menu with the purchase of an adult meal every Sunday from 2:30pm to 5:30pm.
URL:https://www.offshorerooftop.com/event/family-sunday-fundays-2-2/2030-08-25/
LOCATION:Offshore Rooftop\, 1000 E. Grand\, Chicago\, IL\, 60611\, United States
ATTACH;FMTTYPE=image/jpeg:https://www.offshorerooftop.com/wp-content/uploads/2026/01/Web_Header-1920x1080-1.jpg
END:VEVENT
BEGIN:VEVENT
DTSTART;TZID=America/Chicago:20300901T143000
DTEND;TZID=America/Chicago:20300901T173000
DTSTAMP:20260421T125005
CREATED:20260410T155949Z
LAST-MODIFIED:20260421T163624Z
UID:10005500-1914503400-1914514200@www.offshorerooftop.com
SUMMARY:Family Sunday Fundays
DESCRIPTION:After enjoying a fun-filled day at Navy Pier\, refuel and re-energize with us at Family Sunday Funday at Offshore Rooftop ✨🏙️ \nChildren can enjoy one free meal from our kids’ menu with the purchase of an adult meal every Sunday from 2:30pm to 5:30pm.
URL:https://www.offshorerooftop.com/event/family-sunday-fundays-2-2/2030-09-01/
LOCATION:Offshore Rooftop\, 1000 E. Grand\, Chicago\, IL\, 60611\, United States
ATTACH;FMTTYPE=image/jpeg:https://www.offshorerooftop.com/wp-content/uploads/2026/01/Web_Header-1920x1080-1.jpg
END:VEVENT
BEGIN:VEVENT
DTSTART;TZID=America/Chicago:20300908T143000
DTEND;TZID=America/Chicago:20300908T173000
DTSTAMP:20260421T125005
CREATED:20260410T155949Z
LAST-MODIFIED:20260421T163624Z
UID:10005501-1915108200-1915119000@www.offshorerooftop.com
SUMMARY:Family Sunday Fundays
DESCRIPTION:After enjoying a fun-filled day at Navy Pier\, refuel and re-energize with us at Family Sunday Funday at Offshore Rooftop ✨🏙️ \nChildren can enjoy one free meal from our kids’ menu with the purchase of an adult meal every Sunday from 2:30pm to 5:30pm.
URL:https://www.offshorerooftop.com/event/family-sunday-fundays-2-2/2030-09-08/
LOCATION:Offshore Rooftop\, 1000 E. Grand\, Chicago\, IL\, 60611\, United States
ATTACH;FMTTYPE=image/jpeg:https://www.offshorerooftop.com/wp-content/uploads/2026/01/Web_Header-1920x1080-1.jpg
END:VEVENT
BEGIN:VEVENT
DTSTART;TZID=America/Chicago:20300915T143000
DTEND;TZID=America/Chicago:20300915T173000
DTSTAMP:20260421T125005
CREATED:20260410T155949Z
LAST-MODIFIED:20260421T163624Z
UID:10005502-1915713000-1915723800@www.offshorerooftop.com
SUMMARY:Family Sunday Fundays
DESCRIPTION:After enjoying a fun-filled day at Navy Pier\, refuel and re-energize with us at Family Sunday Funday at Offshore Rooftop ✨🏙️ \nChildren can enjoy one free meal from our kids’ menu with the purchase of an adult meal every Sunday from 2:30pm to 5:30pm.
URL:https://www.offshorerooftop.com/event/family-sunday-fundays-2-2/2030-09-15/
LOCATION:Offshore Rooftop\, 1000 E. Grand\, Chicago\, IL\, 60611\, United States
ATTACH;FMTTYPE=image/jpeg:https://www.offshorerooftop.com/wp-content/uploads/2026/01/Web_Header-1920x1080-1.jpg
END:VEVENT
BEGIN:VEVENT
DTSTART;TZID=America/Chicago:20300922T143000
DTEND;TZID=America/Chicago:20300922T173000
DTSTAMP:20260421T125005
CREATED:20260410T155949Z
LAST-MODIFIED:20260421T163624Z
UID:10005503-1916317800-1916328600@www.offshorerooftop.com
SUMMARY:Family Sunday Fundays
DESCRIPTION:After enjoying a fun-filled day at Navy Pier\, refuel and re-energize with us at Family Sunday Funday at Offshore Rooftop ✨🏙️ \nChildren can enjoy one free meal from our kids’ menu with the purchase of an adult meal every Sunday from 2:30pm to 5:30pm.
URL:https://www.offshorerooftop.com/event/family-sunday-fundays-2-2/2030-09-22/
LOCATION:Offshore Rooftop\, 1000 E. Grand\, Chicago\, IL\, 60611\, United States
ATTACH;FMTTYPE=image/jpeg:https://www.offshorerooftop.com/wp-content/uploads/2026/01/Web_Header-1920x1080-1.jpg
END:VEVENT
BEGIN:VEVENT
DTSTART;TZID=America/Chicago:20300929T143000
DTEND;TZID=America/Chicago:20300929T173000
DTSTAMP:20260421T125005
CREATED:20260410T155949Z
LAST-MODIFIED:20260421T163624Z
UID:10005504-1916922600-1916933400@www.offshorerooftop.com
SUMMARY:Family Sunday Fundays
DESCRIPTION:After enjoying a fun-filled day at Navy Pier\, refuel and re-energize with us at Family Sunday Funday at Offshore Rooftop ✨🏙️ \nChildren can enjoy one free meal from our kids’ menu with the purchase of an adult meal every Sunday from 2:30pm to 5:30pm.
URL:https://www.offshorerooftop.com/event/family-sunday-fundays-2-2/2030-09-29/
LOCATION:Offshore Rooftop\, 1000 E. Grand\, Chicago\, IL\, 60611\, United States
ATTACH;FMTTYPE=image/jpeg:https://www.offshorerooftop.com/wp-content/uploads/2026/01/Web_Header-1920x1080-1.jpg
END:VEVENT
BEGIN:VEVENT
DTSTART;TZID=America/Chicago:20301006T143000
DTEND;TZID=America/Chicago:20301006T173000
DTSTAMP:20260421T125005
CREATED:20260410T155949Z
LAST-MODIFIED:20260421T163624Z
UID:10005505-1917527400-1917538200@www.offshorerooftop.com
SUMMARY:Family Sunday Fundays
DESCRIPTION:After enjoying a fun-filled day at Navy Pier\, refuel and re-energize with us at Family Sunday Funday at Offshore Rooftop ✨🏙️ \nChildren can enjoy one free meal from our kids’ menu with the purchase of an adult meal every Sunday from 2:30pm to 5:30pm.
URL:https://www.offshorerooftop.com/event/family-sunday-fundays-2-2/2030-10-06/
LOCATION:Offshore Rooftop\, 1000 E. Grand\, Chicago\, IL\, 60611\, United States
ATTACH;FMTTYPE=image/jpeg:https://www.offshorerooftop.com/wp-content/uploads/2026/01/Web_Header-1920x1080-1.jpg
END:VEVENT
BEGIN:VEVENT
DTSTART;TZID=America/Chicago:20301013T143000
DTEND;TZID=America/Chicago:20301013T173000
DTSTAMP:20260421T125005
CREATED:20260410T155949Z
LAST-MODIFIED:20260421T163624Z
UID:10005506-1918132200-1918143000@www.offshorerooftop.com
SUMMARY:Family Sunday Fundays
DESCRIPTION:After enjoying a fun-filled day at Navy Pier\, refuel and re-energize with us at Family Sunday Funday at Offshore Rooftop ✨🏙️ \nChildren can enjoy one free meal from our kids’ menu with the purchase of an adult meal every Sunday from 2:30pm to 5:30pm.
URL:https://www.offshorerooftop.com/event/family-sunday-fundays-2-2/2030-10-13/
LOCATION:Offshore Rooftop\, 1000 E. Grand\, Chicago\, IL\, 60611\, United States
ATTACH;FMTTYPE=image/jpeg:https://www.offshorerooftop.com/wp-content/uploads/2026/01/Web_Header-1920x1080-1.jpg
END:VEVENT
BEGIN:VEVENT
DTSTART;TZID=America/Chicago:20301020T143000
DTEND;TZID=America/Chicago:20301020T173000
DTSTAMP:20260421T125005
CREATED:20260410T155949Z
LAST-MODIFIED:20260421T163624Z
UID:10005507-1918737000-1918747800@www.offshorerooftop.com
SUMMARY:Family Sunday Fundays
DESCRIPTION:After enjoying a fun-filled day at Navy Pier\, refuel and re-energize with us at Family Sunday Funday at Offshore Rooftop ✨🏙️ \nChildren can enjoy one free meal from our kids’ menu with the purchase of an adult meal every Sunday from 2:30pm to 5:30pm.
URL:https://www.offshorerooftop.com/event/family-sunday-fundays-2-2/2030-10-20/
LOCATION:Offshore Rooftop\, 1000 E. Grand\, Chicago\, IL\, 60611\, United States
ATTACH;FMTTYPE=image/jpeg:https://www.offshorerooftop.com/wp-content/uploads/2026/01/Web_Header-1920x1080-1.jpg
END:VEVENT
END:VCALENDAR