BEGIN:VCALENDAR
VERSION:2.0
PRODID:-//Offshore Rooftop - ECPv6.15.17.1//NONSGML v1.0//EN
CALSCALE:GREGORIAN
METHOD:PUBLISH
X-ORIGINAL-URL:https://www.offshorerooftop.com
X-WR-CALDESC:Events for Offshore Rooftop
REFRESH-INTERVAL;VALUE=DURATION:PT1H
X-Robots-Tag:noindex
X-PUBLISHED-TTL:PT1H
BEGIN:VTIMEZONE
TZID:America/Chicago
BEGIN:DAYLIGHT
TZOFFSETFROM:-0600
TZOFFSETTO:-0500
TZNAME:CDT
DTSTART:20290311T080000
END:DAYLIGHT
BEGIN:STANDARD
TZOFFSETFROM:-0500
TZOFFSETTO:-0600
TZNAME:CST
DTSTART:20291104T070000
END:STANDARD
BEGIN:DAYLIGHT
TZOFFSETFROM:-0600
TZOFFSETTO:-0500
TZNAME:CDT
DTSTART:20300310T080000
END:DAYLIGHT
BEGIN:STANDARD
TZOFFSETFROM:-0500
TZOFFSETTO:-0600
TZNAME:CST
DTSTART:20301103T070000
END:STANDARD
BEGIN:DAYLIGHT
TZOFFSETFROM:-0600
TZOFFSETTO:-0500
TZNAME:CDT
DTSTART:20310309T080000
END:DAYLIGHT
BEGIN:STANDARD
TZOFFSETFROM:-0500
TZOFFSETTO:-0600
TZNAME:CST
DTSTART:20311102T070000
END:STANDARD
BEGIN:DAYLIGHT
TZOFFSETFROM:-0600
TZOFFSETTO:-0500
TZNAME:CDT
DTSTART:20320314T080000
END:DAYLIGHT
BEGIN:STANDARD
TZOFFSETFROM:-0500
TZOFFSETTO:-0600
TZNAME:CST
DTSTART:20321107T070000
END:STANDARD
END:VTIMEZONE
BEGIN:VEVENT
DTSTART;TZID=America/Chicago:20300811T143000
DTEND;TZID=America/Chicago:20300811T173000
DTSTAMP:20260421T162058
CREATED:20260410T155949Z
LAST-MODIFIED:20260421T163624Z
UID:10005497-1912689000-1912699800@www.offshorerooftop.com
SUMMARY:Family Sunday Fundays
DESCRIPTION:After enjoying a fun-filled day at Navy Pier\, refuel and re-energize with us at Family Sunday Funday at Offshore Rooftop ✨🏙️ \nChildren can enjoy one free meal from our kids’ menu with the purchase of an adult meal every Sunday from 2:30pm to 5:30pm.
URL:https://www.offshorerooftop.com/event/family-sunday-fundays-2-2/2030-08-11/
LOCATION:Offshore Rooftop\, 1000 E. Grand\, Chicago\, IL\, 60611\, United States
ATTACH;FMTTYPE=image/jpeg:https://www.offshorerooftop.com/wp-content/uploads/2026/01/Web_Header-1920x1080-1.jpg
END:VEVENT
BEGIN:VEVENT
DTSTART;TZID=America/Chicago:20300818T143000
DTEND;TZID=America/Chicago:20300818T173000
DTSTAMP:20260421T162058
CREATED:20260410T155949Z
LAST-MODIFIED:20260421T163624Z
UID:10005498-1913293800-1913304600@www.offshorerooftop.com
SUMMARY:Family Sunday Fundays
DESCRIPTION:After enjoying a fun-filled day at Navy Pier\, refuel and re-energize with us at Family Sunday Funday at Offshore Rooftop ✨🏙️ \nChildren can enjoy one free meal from our kids’ menu with the purchase of an adult meal every Sunday from 2:30pm to 5:30pm.
URL:https://www.offshorerooftop.com/event/family-sunday-fundays-2-2/2030-08-18/
LOCATION:Offshore Rooftop\, 1000 E. Grand\, Chicago\, IL\, 60611\, United States
ATTACH;FMTTYPE=image/jpeg:https://www.offshorerooftop.com/wp-content/uploads/2026/01/Web_Header-1920x1080-1.jpg
END:VEVENT
BEGIN:VEVENT
DTSTART;TZID=America/Chicago:20300825T143000
DTEND;TZID=America/Chicago:20300825T173000
DTSTAMP:20260421T162058
CREATED:20260410T155949Z
LAST-MODIFIED:20260421T163624Z
UID:10005499-1913898600-1913909400@www.offshorerooftop.com
SUMMARY:Family Sunday Fundays
DESCRIPTION:After enjoying a fun-filled day at Navy Pier\, refuel and re-energize with us at Family Sunday Funday at Offshore Rooftop ✨🏙️ \nChildren can enjoy one free meal from our kids’ menu with the purchase of an adult meal every Sunday from 2:30pm to 5:30pm.
URL:https://www.offshorerooftop.com/event/family-sunday-fundays-2-2/2030-08-25/
LOCATION:Offshore Rooftop\, 1000 E. Grand\, Chicago\, IL\, 60611\, United States
ATTACH;FMTTYPE=image/jpeg:https://www.offshorerooftop.com/wp-content/uploads/2026/01/Web_Header-1920x1080-1.jpg
END:VEVENT
BEGIN:VEVENT
DTSTART;TZID=America/Chicago:20300901T143000
DTEND;TZID=America/Chicago:20300901T173000
DTSTAMP:20260421T162058
CREATED:20260410T155949Z
LAST-MODIFIED:20260421T163624Z
UID:10005500-1914503400-1914514200@www.offshorerooftop.com
SUMMARY:Family Sunday Fundays
DESCRIPTION:After enjoying a fun-filled day at Navy Pier\, refuel and re-energize with us at Family Sunday Funday at Offshore Rooftop ✨🏙️ \nChildren can enjoy one free meal from our kids’ menu with the purchase of an adult meal every Sunday from 2:30pm to 5:30pm.
URL:https://www.offshorerooftop.com/event/family-sunday-fundays-2-2/2030-09-01/
LOCATION:Offshore Rooftop\, 1000 E. Grand\, Chicago\, IL\, 60611\, United States
ATTACH;FMTTYPE=image/jpeg:https://www.offshorerooftop.com/wp-content/uploads/2026/01/Web_Header-1920x1080-1.jpg
END:VEVENT
BEGIN:VEVENT
DTSTART;TZID=America/Chicago:20300908T143000
DTEND;TZID=America/Chicago:20300908T173000
DTSTAMP:20260421T162058
CREATED:20260410T155949Z
LAST-MODIFIED:20260421T163624Z
UID:10005501-1915108200-1915119000@www.offshorerooftop.com
SUMMARY:Family Sunday Fundays
DESCRIPTION:After enjoying a fun-filled day at Navy Pier\, refuel and re-energize with us at Family Sunday Funday at Offshore Rooftop ✨🏙️ \nChildren can enjoy one free meal from our kids’ menu with the purchase of an adult meal every Sunday from 2:30pm to 5:30pm.
URL:https://www.offshorerooftop.com/event/family-sunday-fundays-2-2/2030-09-08/
LOCATION:Offshore Rooftop\, 1000 E. Grand\, Chicago\, IL\, 60611\, United States
ATTACH;FMTTYPE=image/jpeg:https://www.offshorerooftop.com/wp-content/uploads/2026/01/Web_Header-1920x1080-1.jpg
END:VEVENT
BEGIN:VEVENT
DTSTART;TZID=America/Chicago:20300915T143000
DTEND;TZID=America/Chicago:20300915T173000
DTSTAMP:20260421T162058
CREATED:20260410T155949Z
LAST-MODIFIED:20260421T163624Z
UID:10005502-1915713000-1915723800@www.offshorerooftop.com
SUMMARY:Family Sunday Fundays
DESCRIPTION:After enjoying a fun-filled day at Navy Pier\, refuel and re-energize with us at Family Sunday Funday at Offshore Rooftop ✨🏙️ \nChildren can enjoy one free meal from our kids’ menu with the purchase of an adult meal every Sunday from 2:30pm to 5:30pm.
URL:https://www.offshorerooftop.com/event/family-sunday-fundays-2-2/2030-09-15/
LOCATION:Offshore Rooftop\, 1000 E. Grand\, Chicago\, IL\, 60611\, United States
ATTACH;FMTTYPE=image/jpeg:https://www.offshorerooftop.com/wp-content/uploads/2026/01/Web_Header-1920x1080-1.jpg
END:VEVENT
BEGIN:VEVENT
DTSTART;TZID=America/Chicago:20300922T143000
DTEND;TZID=America/Chicago:20300922T173000
DTSTAMP:20260421T162058
CREATED:20260410T155949Z
LAST-MODIFIED:20260421T163624Z
UID:10005503-1916317800-1916328600@www.offshorerooftop.com
SUMMARY:Family Sunday Fundays
DESCRIPTION:After enjoying a fun-filled day at Navy Pier\, refuel and re-energize with us at Family Sunday Funday at Offshore Rooftop ✨🏙️ \nChildren can enjoy one free meal from our kids’ menu with the purchase of an adult meal every Sunday from 2:30pm to 5:30pm.
URL:https://www.offshorerooftop.com/event/family-sunday-fundays-2-2/2030-09-22/
LOCATION:Offshore Rooftop\, 1000 E. Grand\, Chicago\, IL\, 60611\, United States
ATTACH;FMTTYPE=image/jpeg:https://www.offshorerooftop.com/wp-content/uploads/2026/01/Web_Header-1920x1080-1.jpg
END:VEVENT
BEGIN:VEVENT
DTSTART;TZID=America/Chicago:20300929T143000
DTEND;TZID=America/Chicago:20300929T173000
DTSTAMP:20260421T162058
CREATED:20260410T155949Z
LAST-MODIFIED:20260421T163624Z
UID:10005504-1916922600-1916933400@www.offshorerooftop.com
SUMMARY:Family Sunday Fundays
DESCRIPTION:After enjoying a fun-filled day at Navy Pier\, refuel and re-energize with us at Family Sunday Funday at Offshore Rooftop ✨🏙️ \nChildren can enjoy one free meal from our kids’ menu with the purchase of an adult meal every Sunday from 2:30pm to 5:30pm.
URL:https://www.offshorerooftop.com/event/family-sunday-fundays-2-2/2030-09-29/
LOCATION:Offshore Rooftop\, 1000 E. Grand\, Chicago\, IL\, 60611\, United States
ATTACH;FMTTYPE=image/jpeg:https://www.offshorerooftop.com/wp-content/uploads/2026/01/Web_Header-1920x1080-1.jpg
END:VEVENT
BEGIN:VEVENT
DTSTART;TZID=America/Chicago:20301006T143000
DTEND;TZID=America/Chicago:20301006T173000
DTSTAMP:20260421T162058
CREATED:20260410T155949Z
LAST-MODIFIED:20260421T163624Z
UID:10005505-1917527400-1917538200@www.offshorerooftop.com
SUMMARY:Family Sunday Fundays
DESCRIPTION:After enjoying a fun-filled day at Navy Pier\, refuel and re-energize with us at Family Sunday Funday at Offshore Rooftop ✨🏙️ \nChildren can enjoy one free meal from our kids’ menu with the purchase of an adult meal every Sunday from 2:30pm to 5:30pm.
URL:https://www.offshorerooftop.com/event/family-sunday-fundays-2-2/2030-10-06/
LOCATION:Offshore Rooftop\, 1000 E. Grand\, Chicago\, IL\, 60611\, United States
ATTACH;FMTTYPE=image/jpeg:https://www.offshorerooftop.com/wp-content/uploads/2026/01/Web_Header-1920x1080-1.jpg
END:VEVENT
BEGIN:VEVENT
DTSTART;TZID=America/Chicago:20301013T143000
DTEND;TZID=America/Chicago:20301013T173000
DTSTAMP:20260421T162058
CREATED:20260410T155949Z
LAST-MODIFIED:20260421T163624Z
UID:10005506-1918132200-1918143000@www.offshorerooftop.com
SUMMARY:Family Sunday Fundays
DESCRIPTION:After enjoying a fun-filled day at Navy Pier\, refuel and re-energize with us at Family Sunday Funday at Offshore Rooftop ✨🏙️ \nChildren can enjoy one free meal from our kids’ menu with the purchase of an adult meal every Sunday from 2:30pm to 5:30pm.
URL:https://www.offshorerooftop.com/event/family-sunday-fundays-2-2/2030-10-13/
LOCATION:Offshore Rooftop\, 1000 E. Grand\, Chicago\, IL\, 60611\, United States
ATTACH;FMTTYPE=image/jpeg:https://www.offshorerooftop.com/wp-content/uploads/2026/01/Web_Header-1920x1080-1.jpg
END:VEVENT
BEGIN:VEVENT
DTSTART;TZID=America/Chicago:20301020T143000
DTEND;TZID=America/Chicago:20301020T173000
DTSTAMP:20260421T162058
CREATED:20260410T155949Z
LAST-MODIFIED:20260421T163624Z
UID:10005507-1918737000-1918747800@www.offshorerooftop.com
SUMMARY:Family Sunday Fundays
DESCRIPTION:After enjoying a fun-filled day at Navy Pier\, refuel and re-energize with us at Family Sunday Funday at Offshore Rooftop ✨🏙️ \nChildren can enjoy one free meal from our kids’ menu with the purchase of an adult meal every Sunday from 2:30pm to 5:30pm.
URL:https://www.offshorerooftop.com/event/family-sunday-fundays-2-2/2030-10-20/
LOCATION:Offshore Rooftop\, 1000 E. Grand\, Chicago\, IL\, 60611\, United States
ATTACH;FMTTYPE=image/jpeg:https://www.offshorerooftop.com/wp-content/uploads/2026/01/Web_Header-1920x1080-1.jpg
END:VEVENT
BEGIN:VEVENT
DTSTART;TZID=America/Chicago:20301027T143000
DTEND;TZID=America/Chicago:20301027T173000
DTSTAMP:20260421T162058
CREATED:20260410T155949Z
LAST-MODIFIED:20260421T163624Z
UID:10005508-1919341800-1919352600@www.offshorerooftop.com
SUMMARY:Family Sunday Fundays
DESCRIPTION:After enjoying a fun-filled day at Navy Pier\, refuel and re-energize with us at Family Sunday Funday at Offshore Rooftop ✨🏙️ \nChildren can enjoy one free meal from our kids’ menu with the purchase of an adult meal every Sunday from 2:30pm to 5:30pm.
URL:https://www.offshorerooftop.com/event/family-sunday-fundays-2-2/2030-10-27/
LOCATION:Offshore Rooftop\, 1000 E. Grand\, Chicago\, IL\, 60611\, United States
ATTACH;FMTTYPE=image/jpeg:https://www.offshorerooftop.com/wp-content/uploads/2026/01/Web_Header-1920x1080-1.jpg
END:VEVENT
BEGIN:VEVENT
DTSTART;TZID=America/Chicago:20301103T143000
DTEND;TZID=America/Chicago:20301103T173000
DTSTAMP:20260421T162058
CREATED:20260410T155949Z
LAST-MODIFIED:20260421T163624Z
UID:10005509-1919946600-1919957400@www.offshorerooftop.com
SUMMARY:Family Sunday Fundays
DESCRIPTION:After enjoying a fun-filled day at Navy Pier\, refuel and re-energize with us at Family Sunday Funday at Offshore Rooftop ✨🏙️ \nChildren can enjoy one free meal from our kids’ menu with the purchase of an adult meal every Sunday from 2:30pm to 5:30pm.
URL:https://www.offshorerooftop.com/event/family-sunday-fundays-2-2/2030-11-03/
LOCATION:Offshore Rooftop\, 1000 E. Grand\, Chicago\, IL\, 60611\, United States
ATTACH;FMTTYPE=image/jpeg:https://www.offshorerooftop.com/wp-content/uploads/2026/01/Web_Header-1920x1080-1.jpg
END:VEVENT
BEGIN:VEVENT
DTSTART;TZID=America/Chicago:20301110T143000
DTEND;TZID=America/Chicago:20301110T173000
DTSTAMP:20260421T162058
CREATED:20260410T155949Z
LAST-MODIFIED:20260421T163624Z
UID:10005510-1920551400-1920562200@www.offshorerooftop.com
SUMMARY:Family Sunday Fundays
DESCRIPTION:After enjoying a fun-filled day at Navy Pier\, refuel and re-energize with us at Family Sunday Funday at Offshore Rooftop ✨🏙️ \nChildren can enjoy one free meal from our kids’ menu with the purchase of an adult meal every Sunday from 2:30pm to 5:30pm.
URL:https://www.offshorerooftop.com/event/family-sunday-fundays-2-2/2030-11-10/
LOCATION:Offshore Rooftop\, 1000 E. Grand\, Chicago\, IL\, 60611\, United States
ATTACH;FMTTYPE=image/jpeg:https://www.offshorerooftop.com/wp-content/uploads/2026/01/Web_Header-1920x1080-1.jpg
END:VEVENT
BEGIN:VEVENT
DTSTART;TZID=America/Chicago:20301117T143000
DTEND;TZID=America/Chicago:20301117T173000
DTSTAMP:20260421T162058
CREATED:20260410T155949Z
LAST-MODIFIED:20260421T163624Z
UID:10005511-1921156200-1921167000@www.offshorerooftop.com
SUMMARY:Family Sunday Fundays
DESCRIPTION:After enjoying a fun-filled day at Navy Pier\, refuel and re-energize with us at Family Sunday Funday at Offshore Rooftop ✨🏙️ \nChildren can enjoy one free meal from our kids’ menu with the purchase of an adult meal every Sunday from 2:30pm to 5:30pm.
URL:https://www.offshorerooftop.com/event/family-sunday-fundays-2-2/2030-11-17/
LOCATION:Offshore Rooftop\, 1000 E. Grand\, Chicago\, IL\, 60611\, United States
ATTACH;FMTTYPE=image/jpeg:https://www.offshorerooftop.com/wp-content/uploads/2026/01/Web_Header-1920x1080-1.jpg
END:VEVENT
BEGIN:VEVENT
DTSTART;TZID=America/Chicago:20301124T143000
DTEND;TZID=America/Chicago:20301124T173000
DTSTAMP:20260421T162058
CREATED:20260410T155949Z
LAST-MODIFIED:20260421T163624Z
UID:10005512-1921761000-1921771800@www.offshorerooftop.com
SUMMARY:Family Sunday Fundays
DESCRIPTION:After enjoying a fun-filled day at Navy Pier\, refuel and re-energize with us at Family Sunday Funday at Offshore Rooftop ✨🏙️ \nChildren can enjoy one free meal from our kids’ menu with the purchase of an adult meal every Sunday from 2:30pm to 5:30pm.
URL:https://www.offshorerooftop.com/event/family-sunday-fundays-2-2/2030-11-24/
LOCATION:Offshore Rooftop\, 1000 E. Grand\, Chicago\, IL\, 60611\, United States
ATTACH;FMTTYPE=image/jpeg:https://www.offshorerooftop.com/wp-content/uploads/2026/01/Web_Header-1920x1080-1.jpg
END:VEVENT
BEGIN:VEVENT
DTSTART;TZID=America/Chicago:20301201T143000
DTEND;TZID=America/Chicago:20301201T173000
DTSTAMP:20260421T162058
CREATED:20260410T155949Z
LAST-MODIFIED:20260421T163624Z
UID:10005513-1922365800-1922376600@www.offshorerooftop.com
SUMMARY:Family Sunday Fundays
DESCRIPTION:After enjoying a fun-filled day at Navy Pier\, refuel and re-energize with us at Family Sunday Funday at Offshore Rooftop ✨🏙️ \nChildren can enjoy one free meal from our kids’ menu with the purchase of an adult meal every Sunday from 2:30pm to 5:30pm.
URL:https://www.offshorerooftop.com/event/family-sunday-fundays-2-2/2030-12-01/
LOCATION:Offshore Rooftop\, 1000 E. Grand\, Chicago\, IL\, 60611\, United States
ATTACH;FMTTYPE=image/jpeg:https://www.offshorerooftop.com/wp-content/uploads/2026/01/Web_Header-1920x1080-1.jpg
END:VEVENT
BEGIN:VEVENT
DTSTART;TZID=America/Chicago:20301208T143000
DTEND;TZID=America/Chicago:20301208T173000
DTSTAMP:20260421T162058
CREATED:20260410T155949Z
LAST-MODIFIED:20260421T163624Z
UID:10005514-1922970600-1922981400@www.offshorerooftop.com
SUMMARY:Family Sunday Fundays
DESCRIPTION:After enjoying a fun-filled day at Navy Pier\, refuel and re-energize with us at Family Sunday Funday at Offshore Rooftop ✨🏙️ \nChildren can enjoy one free meal from our kids’ menu with the purchase of an adult meal every Sunday from 2:30pm to 5:30pm.
URL:https://www.offshorerooftop.com/event/family-sunday-fundays-2-2/2030-12-08/
LOCATION:Offshore Rooftop\, 1000 E. Grand\, Chicago\, IL\, 60611\, United States
ATTACH;FMTTYPE=image/jpeg:https://www.offshorerooftop.com/wp-content/uploads/2026/01/Web_Header-1920x1080-1.jpg
END:VEVENT
BEGIN:VEVENT
DTSTART;TZID=America/Chicago:20301215T143000
DTEND;TZID=America/Chicago:20301215T173000
DTSTAMP:20260421T162058
CREATED:20260410T155949Z
LAST-MODIFIED:20260421T163624Z
UID:10005515-1923575400-1923586200@www.offshorerooftop.com
SUMMARY:Family Sunday Fundays
DESCRIPTION:After enjoying a fun-filled day at Navy Pier\, refuel and re-energize with us at Family Sunday Funday at Offshore Rooftop ✨🏙️ \nChildren can enjoy one free meal from our kids’ menu with the purchase of an adult meal every Sunday from 2:30pm to 5:30pm.
URL:https://www.offshorerooftop.com/event/family-sunday-fundays-2-2/2030-12-15/
LOCATION:Offshore Rooftop\, 1000 E. Grand\, Chicago\, IL\, 60611\, United States
ATTACH;FMTTYPE=image/jpeg:https://www.offshorerooftop.com/wp-content/uploads/2026/01/Web_Header-1920x1080-1.jpg
END:VEVENT
BEGIN:VEVENT
DTSTART;TZID=America/Chicago:20301222T143000
DTEND;TZID=America/Chicago:20301222T173000
DTSTAMP:20260421T162058
CREATED:20260410T155949Z
LAST-MODIFIED:20260421T163624Z
UID:10005516-1924180200-1924191000@www.offshorerooftop.com
SUMMARY:Family Sunday Fundays
DESCRIPTION:After enjoying a fun-filled day at Navy Pier\, refuel and re-energize with us at Family Sunday Funday at Offshore Rooftop ✨🏙️ \nChildren can enjoy one free meal from our kids’ menu with the purchase of an adult meal every Sunday from 2:30pm to 5:30pm.
URL:https://www.offshorerooftop.com/event/family-sunday-fundays-2-2/2030-12-22/
LOCATION:Offshore Rooftop\, 1000 E. Grand\, Chicago\, IL\, 60611\, United States
ATTACH;FMTTYPE=image/jpeg:https://www.offshorerooftop.com/wp-content/uploads/2026/01/Web_Header-1920x1080-1.jpg
END:VEVENT
BEGIN:VEVENT
DTSTART;TZID=America/Chicago:20301229T143000
DTEND;TZID=America/Chicago:20301229T173000
DTSTAMP:20260421T162058
CREATED:20260410T155949Z
LAST-MODIFIED:20260421T163624Z
UID:10005517-1924785000-1924795800@www.offshorerooftop.com
SUMMARY:Family Sunday Fundays
DESCRIPTION:After enjoying a fun-filled day at Navy Pier\, refuel and re-energize with us at Family Sunday Funday at Offshore Rooftop ✨🏙️ \nChildren can enjoy one free meal from our kids’ menu with the purchase of an adult meal every Sunday from 2:30pm to 5:30pm.
URL:https://www.offshorerooftop.com/event/family-sunday-fundays-2-2/2030-12-29/
LOCATION:Offshore Rooftop\, 1000 E. Grand\, Chicago\, IL\, 60611\, United States
ATTACH;FMTTYPE=image/jpeg:https://www.offshorerooftop.com/wp-content/uploads/2026/01/Web_Header-1920x1080-1.jpg
END:VEVENT
BEGIN:VEVENT
DTSTART;TZID=America/Chicago:20310105T143000
DTEND;TZID=America/Chicago:20310105T173000
DTSTAMP:20260421T162058
CREATED:20260410T155949Z
LAST-MODIFIED:20260421T163624Z
UID:10005518-1925389800-1925400600@www.offshorerooftop.com
SUMMARY:Family Sunday Fundays
DESCRIPTION:After enjoying a fun-filled day at Navy Pier\, refuel and re-energize with us at Family Sunday Funday at Offshore Rooftop ✨🏙️ \nChildren can enjoy one free meal from our kids’ menu with the purchase of an adult meal every Sunday from 2:30pm to 5:30pm.
URL:https://www.offshorerooftop.com/event/family-sunday-fundays-2-2/2031-01-05/
LOCATION:Offshore Rooftop\, 1000 E. Grand\, Chicago\, IL\, 60611\, United States
ATTACH;FMTTYPE=image/jpeg:https://www.offshorerooftop.com/wp-content/uploads/2026/01/Web_Header-1920x1080-1.jpg
END:VEVENT
BEGIN:VEVENT
DTSTART;TZID=America/Chicago:20310112T143000
DTEND;TZID=America/Chicago:20310112T173000
DTSTAMP:20260421T162058
CREATED:20260410T155949Z
LAST-MODIFIED:20260421T163624Z
UID:10005519-1925994600-1926005400@www.offshorerooftop.com
SUMMARY:Family Sunday Fundays
DESCRIPTION:After enjoying a fun-filled day at Navy Pier\, refuel and re-energize with us at Family Sunday Funday at Offshore Rooftop ✨🏙️ \nChildren can enjoy one free meal from our kids’ menu with the purchase of an adult meal every Sunday from 2:30pm to 5:30pm.
URL:https://www.offshorerooftop.com/event/family-sunday-fundays-2-2/2031-01-12/
LOCATION:Offshore Rooftop\, 1000 E. Grand\, Chicago\, IL\, 60611\, United States
ATTACH;FMTTYPE=image/jpeg:https://www.offshorerooftop.com/wp-content/uploads/2026/01/Web_Header-1920x1080-1.jpg
END:VEVENT
BEGIN:VEVENT
DTSTART;TZID=America/Chicago:20310119T143000
DTEND;TZID=America/Chicago:20310119T173000
DTSTAMP:20260421T162058
CREATED:20260410T155949Z
LAST-MODIFIED:20260421T163624Z
UID:10005520-1926599400-1926610200@www.offshorerooftop.com
SUMMARY:Family Sunday Fundays
DESCRIPTION:After enjoying a fun-filled day at Navy Pier\, refuel and re-energize with us at Family Sunday Funday at Offshore Rooftop ✨🏙️ \nChildren can enjoy one free meal from our kids’ menu with the purchase of an adult meal every Sunday from 2:30pm to 5:30pm.
URL:https://www.offshorerooftop.com/event/family-sunday-fundays-2-2/2031-01-19/
LOCATION:Offshore Rooftop\, 1000 E. Grand\, Chicago\, IL\, 60611\, United States
ATTACH;FMTTYPE=image/jpeg:https://www.offshorerooftop.com/wp-content/uploads/2026/01/Web_Header-1920x1080-1.jpg
END:VEVENT
BEGIN:VEVENT
DTSTART;TZID=America/Chicago:20310126T143000
DTEND;TZID=America/Chicago:20310126T173000
DTSTAMP:20260421T162058
CREATED:20260410T155949Z
LAST-MODIFIED:20260421T163624Z
UID:10005521-1927204200-1927215000@www.offshorerooftop.com
SUMMARY:Family Sunday Fundays
DESCRIPTION:After enjoying a fun-filled day at Navy Pier\, refuel and re-energize with us at Family Sunday Funday at Offshore Rooftop ✨🏙️ \nChildren can enjoy one free meal from our kids’ menu with the purchase of an adult meal every Sunday from 2:30pm to 5:30pm.
URL:https://www.offshorerooftop.com/event/family-sunday-fundays-2-2/2031-01-26/
LOCATION:Offshore Rooftop\, 1000 E. Grand\, Chicago\, IL\, 60611\, United States
ATTACH;FMTTYPE=image/jpeg:https://www.offshorerooftop.com/wp-content/uploads/2026/01/Web_Header-1920x1080-1.jpg
END:VEVENT
BEGIN:VEVENT
DTSTART;TZID=America/Chicago:20310202T143000
DTEND;TZID=America/Chicago:20310202T173000
DTSTAMP:20260421T162058
CREATED:20260410T155949Z
LAST-MODIFIED:20260421T163624Z
UID:10005522-1927809000-1927819800@www.offshorerooftop.com
SUMMARY:Family Sunday Fundays
DESCRIPTION:After enjoying a fun-filled day at Navy Pier\, refuel and re-energize with us at Family Sunday Funday at Offshore Rooftop ✨🏙️ \nChildren can enjoy one free meal from our kids’ menu with the purchase of an adult meal every Sunday from 2:30pm to 5:30pm.
URL:https://www.offshorerooftop.com/event/family-sunday-fundays-2-2/2031-02-02/
LOCATION:Offshore Rooftop\, 1000 E. Grand\, Chicago\, IL\, 60611\, United States
ATTACH;FMTTYPE=image/jpeg:https://www.offshorerooftop.com/wp-content/uploads/2026/01/Web_Header-1920x1080-1.jpg
END:VEVENT
BEGIN:VEVENT
DTSTART;TZID=America/Chicago:20310209T143000
DTEND;TZID=America/Chicago:20310209T173000
DTSTAMP:20260421T162058
CREATED:20260410T155949Z
LAST-MODIFIED:20260421T163624Z
UID:10005523-1928413800-1928424600@www.offshorerooftop.com
SUMMARY:Family Sunday Fundays
DESCRIPTION:After enjoying a fun-filled day at Navy Pier\, refuel and re-energize with us at Family Sunday Funday at Offshore Rooftop ✨🏙️ \nChildren can enjoy one free meal from our kids’ menu with the purchase of an adult meal every Sunday from 2:30pm to 5:30pm.
URL:https://www.offshorerooftop.com/event/family-sunday-fundays-2-2/2031-02-09/
LOCATION:Offshore Rooftop\, 1000 E. Grand\, Chicago\, IL\, 60611\, United States
ATTACH;FMTTYPE=image/jpeg:https://www.offshorerooftop.com/wp-content/uploads/2026/01/Web_Header-1920x1080-1.jpg
END:VEVENT
BEGIN:VEVENT
DTSTART;TZID=America/Chicago:20310216T143000
DTEND;TZID=America/Chicago:20310216T173000
DTSTAMP:20260421T162058
CREATED:20260410T155949Z
LAST-MODIFIED:20260421T163624Z
UID:10005524-1929018600-1929029400@www.offshorerooftop.com
SUMMARY:Family Sunday Fundays
DESCRIPTION:After enjoying a fun-filled day at Navy Pier\, refuel and re-energize with us at Family Sunday Funday at Offshore Rooftop ✨🏙️ \nChildren can enjoy one free meal from our kids’ menu with the purchase of an adult meal every Sunday from 2:30pm to 5:30pm.
URL:https://www.offshorerooftop.com/event/family-sunday-fundays-2-2/2031-02-16/
LOCATION:Offshore Rooftop\, 1000 E. Grand\, Chicago\, IL\, 60611\, United States
ATTACH;FMTTYPE=image/jpeg:https://www.offshorerooftop.com/wp-content/uploads/2026/01/Web_Header-1920x1080-1.jpg
END:VEVENT
BEGIN:VEVENT
DTSTART;TZID=America/Chicago:20310223T143000
DTEND;TZID=America/Chicago:20310223T173000
DTSTAMP:20260421T162058
CREATED:20260410T155949Z
LAST-MODIFIED:20260421T163624Z
UID:10005525-1929623400-1929634200@www.offshorerooftop.com
SUMMARY:Family Sunday Fundays
DESCRIPTION:After enjoying a fun-filled day at Navy Pier\, refuel and re-energize with us at Family Sunday Funday at Offshore Rooftop ✨🏙️ \nChildren can enjoy one free meal from our kids’ menu with the purchase of an adult meal every Sunday from 2:30pm to 5:30pm.
URL:https://www.offshorerooftop.com/event/family-sunday-fundays-2-2/2031-02-23/
LOCATION:Offshore Rooftop\, 1000 E. Grand\, Chicago\, IL\, 60611\, United States
ATTACH;FMTTYPE=image/jpeg:https://www.offshorerooftop.com/wp-content/uploads/2026/01/Web_Header-1920x1080-1.jpg
END:VEVENT
BEGIN:VEVENT
DTSTART;TZID=America/Chicago:20310302T143000
DTEND;TZID=America/Chicago:20310302T173000
DTSTAMP:20260421T162058
CREATED:20260410T155949Z
LAST-MODIFIED:20260421T163624Z
UID:10005526-1930228200-1930239000@www.offshorerooftop.com
SUMMARY:Family Sunday Fundays
DESCRIPTION:After enjoying a fun-filled day at Navy Pier\, refuel and re-energize with us at Family Sunday Funday at Offshore Rooftop ✨🏙️ \nChildren can enjoy one free meal from our kids’ menu with the purchase of an adult meal every Sunday from 2:30pm to 5:30pm.
URL:https://www.offshorerooftop.com/event/family-sunday-fundays-2-2/2031-03-02/
LOCATION:Offshore Rooftop\, 1000 E. Grand\, Chicago\, IL\, 60611\, United States
ATTACH;FMTTYPE=image/jpeg:https://www.offshorerooftop.com/wp-content/uploads/2026/01/Web_Header-1920x1080-1.jpg
END:VEVENT
END:VCALENDAR