BEGIN:VCALENDAR
VERSION:2.0
PRODID:-//Offshore Rooftop - ECPv6.15.17.1//NONSGML v1.0//EN
CALSCALE:GREGORIAN
METHOD:PUBLISH
X-WR-CALNAME:Offshore Rooftop
X-ORIGINAL-URL:https://www.offshorerooftop.com
X-WR-CALDESC:Events for Offshore Rooftop
REFRESH-INTERVAL;VALUE=DURATION:PT1H
X-Robots-Tag:noindex
X-PUBLISHED-TTL:PT1H
BEGIN:VTIMEZONE
TZID:America/Chicago
BEGIN:DAYLIGHT
TZOFFSETFROM:-0600
TZOFFSETTO:-0500
TZNAME:CDT
DTSTART:20260308T080000
END:DAYLIGHT
BEGIN:STANDARD
TZOFFSETFROM:-0500
TZOFFSETTO:-0600
TZNAME:CST
DTSTART:20261101T070000
END:STANDARD
BEGIN:DAYLIGHT
TZOFFSETFROM:-0600
TZOFFSETTO:-0500
TZNAME:CDT
DTSTART:20270314T080000
END:DAYLIGHT
BEGIN:STANDARD
TZOFFSETFROM:-0500
TZOFFSETTO:-0600
TZNAME:CST
DTSTART:20271107T070000
END:STANDARD
BEGIN:DAYLIGHT
TZOFFSETFROM:-0600
TZOFFSETTO:-0500
TZNAME:CDT
DTSTART:20280312T080000
END:DAYLIGHT
BEGIN:STANDARD
TZOFFSETFROM:-0500
TZOFFSETTO:-0600
TZNAME:CST
DTSTART:20281105T070000
END:STANDARD
BEGIN:DAYLIGHT
TZOFFSETFROM:-0600
TZOFFSETTO:-0500
TZNAME:CDT
DTSTART:20290311T080000
END:DAYLIGHT
BEGIN:STANDARD
TZOFFSETFROM:-0500
TZOFFSETTO:-0600
TZNAME:CST
DTSTART:20291104T070000
END:STANDARD
END:VTIMEZONE
BEGIN:VEVENT
DTSTART;TZID=America/Chicago:20270912T143000
DTEND;TZID=America/Chicago:20270912T173000
DTSTAMP:20260421T213332
CREATED:20260410T155949Z
LAST-MODIFIED:20260421T163624Z
UID:10005345-1820759400-1820770200@www.offshorerooftop.com
SUMMARY:Family Sunday Fundays
DESCRIPTION:After enjoying a fun-filled day at Navy Pier\, refuel and re-energize with us at Family Sunday Funday at Offshore Rooftop ✨🏙️ \nChildren can enjoy one free meal from our kids’ menu with the purchase of an adult meal every Sunday from 2:30pm to 5:30pm.
URL:https://www.offshorerooftop.com/event/family-sunday-fundays-2-2/2027-09-12/
LOCATION:Offshore Rooftop\, 1000 E. Grand\, Chicago\, IL\, 60611\, United States
ATTACH;FMTTYPE=image/jpeg:https://www.offshorerooftop.com/wp-content/uploads/2026/01/Web_Header-1920x1080-1.jpg
END:VEVENT
BEGIN:VEVENT
DTSTART;TZID=America/Chicago:20270919T143000
DTEND;TZID=America/Chicago:20270919T173000
DTSTAMP:20260421T213332
CREATED:20260410T155949Z
LAST-MODIFIED:20260421T163624Z
UID:10005346-1821364200-1821375000@www.offshorerooftop.com
SUMMARY:Family Sunday Fundays
DESCRIPTION:After enjoying a fun-filled day at Navy Pier\, refuel and re-energize with us at Family Sunday Funday at Offshore Rooftop ✨🏙️ \nChildren can enjoy one free meal from our kids’ menu with the purchase of an adult meal every Sunday from 2:30pm to 5:30pm.
URL:https://www.offshorerooftop.com/event/family-sunday-fundays-2-2/2027-09-19/
LOCATION:Offshore Rooftop\, 1000 E. Grand\, Chicago\, IL\, 60611\, United States
ATTACH;FMTTYPE=image/jpeg:https://www.offshorerooftop.com/wp-content/uploads/2026/01/Web_Header-1920x1080-1.jpg
END:VEVENT
BEGIN:VEVENT
DTSTART;TZID=America/Chicago:20270926T143000
DTEND;TZID=America/Chicago:20270926T173000
DTSTAMP:20260421T213332
CREATED:20260410T155949Z
LAST-MODIFIED:20260421T163624Z
UID:10005347-1821969000-1821979800@www.offshorerooftop.com
SUMMARY:Family Sunday Fundays
DESCRIPTION:After enjoying a fun-filled day at Navy Pier\, refuel and re-energize with us at Family Sunday Funday at Offshore Rooftop ✨🏙️ \nChildren can enjoy one free meal from our kids’ menu with the purchase of an adult meal every Sunday from 2:30pm to 5:30pm.
URL:https://www.offshorerooftop.com/event/family-sunday-fundays-2-2/2027-09-26/
LOCATION:Offshore Rooftop\, 1000 E. Grand\, Chicago\, IL\, 60611\, United States
ATTACH;FMTTYPE=image/jpeg:https://www.offshorerooftop.com/wp-content/uploads/2026/01/Web_Header-1920x1080-1.jpg
END:VEVENT
BEGIN:VEVENT
DTSTART;TZID=America/Chicago:20271003T143000
DTEND;TZID=America/Chicago:20271003T173000
DTSTAMP:20260421T213332
CREATED:20260410T155949Z
LAST-MODIFIED:20260421T163624Z
UID:10005348-1822573800-1822584600@www.offshorerooftop.com
SUMMARY:Family Sunday Fundays
DESCRIPTION:After enjoying a fun-filled day at Navy Pier\, refuel and re-energize with us at Family Sunday Funday at Offshore Rooftop ✨🏙️ \nChildren can enjoy one free meal from our kids’ menu with the purchase of an adult meal every Sunday from 2:30pm to 5:30pm.
URL:https://www.offshorerooftop.com/event/family-sunday-fundays-2-2/2027-10-03/
LOCATION:Offshore Rooftop\, 1000 E. Grand\, Chicago\, IL\, 60611\, United States
ATTACH;FMTTYPE=image/jpeg:https://www.offshorerooftop.com/wp-content/uploads/2026/01/Web_Header-1920x1080-1.jpg
END:VEVENT
BEGIN:VEVENT
DTSTART;TZID=America/Chicago:20271010T143000
DTEND;TZID=America/Chicago:20271010T173000
DTSTAMP:20260421T213332
CREATED:20260410T155949Z
LAST-MODIFIED:20260421T163624Z
UID:10005349-1823178600-1823189400@www.offshorerooftop.com
SUMMARY:Family Sunday Fundays
DESCRIPTION:After enjoying a fun-filled day at Navy Pier\, refuel and re-energize with us at Family Sunday Funday at Offshore Rooftop ✨🏙️ \nChildren can enjoy one free meal from our kids’ menu with the purchase of an adult meal every Sunday from 2:30pm to 5:30pm.
URL:https://www.offshorerooftop.com/event/family-sunday-fundays-2-2/2027-10-10/
LOCATION:Offshore Rooftop\, 1000 E. Grand\, Chicago\, IL\, 60611\, United States
ATTACH;FMTTYPE=image/jpeg:https://www.offshorerooftop.com/wp-content/uploads/2026/01/Web_Header-1920x1080-1.jpg
END:VEVENT
BEGIN:VEVENT
DTSTART;TZID=America/Chicago:20271017T143000
DTEND;TZID=America/Chicago:20271017T173000
DTSTAMP:20260421T213332
CREATED:20260410T155949Z
LAST-MODIFIED:20260421T163624Z
UID:10005350-1823783400-1823794200@www.offshorerooftop.com
SUMMARY:Family Sunday Fundays
DESCRIPTION:After enjoying a fun-filled day at Navy Pier\, refuel and re-energize with us at Family Sunday Funday at Offshore Rooftop ✨🏙️ \nChildren can enjoy one free meal from our kids’ menu with the purchase of an adult meal every Sunday from 2:30pm to 5:30pm.
URL:https://www.offshorerooftop.com/event/family-sunday-fundays-2-2/2027-10-17/
LOCATION:Offshore Rooftop\, 1000 E. Grand\, Chicago\, IL\, 60611\, United States
ATTACH;FMTTYPE=image/jpeg:https://www.offshorerooftop.com/wp-content/uploads/2026/01/Web_Header-1920x1080-1.jpg
END:VEVENT
BEGIN:VEVENT
DTSTART;TZID=America/Chicago:20271024T143000
DTEND;TZID=America/Chicago:20271024T173000
DTSTAMP:20260421T213332
CREATED:20260410T155949Z
LAST-MODIFIED:20260421T163624Z
UID:10005351-1824388200-1824399000@www.offshorerooftop.com
SUMMARY:Family Sunday Fundays
DESCRIPTION:After enjoying a fun-filled day at Navy Pier\, refuel and re-energize with us at Family Sunday Funday at Offshore Rooftop ✨🏙️ \nChildren can enjoy one free meal from our kids’ menu with the purchase of an adult meal every Sunday from 2:30pm to 5:30pm.
URL:https://www.offshorerooftop.com/event/family-sunday-fundays-2-2/2027-10-24/
LOCATION:Offshore Rooftop\, 1000 E. Grand\, Chicago\, IL\, 60611\, United States
ATTACH;FMTTYPE=image/jpeg:https://www.offshorerooftop.com/wp-content/uploads/2026/01/Web_Header-1920x1080-1.jpg
END:VEVENT
BEGIN:VEVENT
DTSTART;TZID=America/Chicago:20271031T143000
DTEND;TZID=America/Chicago:20271031T173000
DTSTAMP:20260421T213332
CREATED:20260410T155949Z
LAST-MODIFIED:20260421T163624Z
UID:10005352-1824993000-1825003800@www.offshorerooftop.com
SUMMARY:Family Sunday Fundays
DESCRIPTION:After enjoying a fun-filled day at Navy Pier\, refuel and re-energize with us at Family Sunday Funday at Offshore Rooftop ✨🏙️ \nChildren can enjoy one free meal from our kids’ menu with the purchase of an adult meal every Sunday from 2:30pm to 5:30pm.
URL:https://www.offshorerooftop.com/event/family-sunday-fundays-2-2/2027-10-31/
LOCATION:Offshore Rooftop\, 1000 E. Grand\, Chicago\, IL\, 60611\, United States
ATTACH;FMTTYPE=image/jpeg:https://www.offshorerooftop.com/wp-content/uploads/2026/01/Web_Header-1920x1080-1.jpg
END:VEVENT
BEGIN:VEVENT
DTSTART;TZID=America/Chicago:20271107T143000
DTEND;TZID=America/Chicago:20271107T173000
DTSTAMP:20260421T213332
CREATED:20260410T155949Z
LAST-MODIFIED:20260421T163624Z
UID:10005353-1825597800-1825608600@www.offshorerooftop.com
SUMMARY:Family Sunday Fundays
DESCRIPTION:After enjoying a fun-filled day at Navy Pier\, refuel and re-energize with us at Family Sunday Funday at Offshore Rooftop ✨🏙️ \nChildren can enjoy one free meal from our kids’ menu with the purchase of an adult meal every Sunday from 2:30pm to 5:30pm.
URL:https://www.offshorerooftop.com/event/family-sunday-fundays-2-2/2027-11-07/
LOCATION:Offshore Rooftop\, 1000 E. Grand\, Chicago\, IL\, 60611\, United States
ATTACH;FMTTYPE=image/jpeg:https://www.offshorerooftop.com/wp-content/uploads/2026/01/Web_Header-1920x1080-1.jpg
END:VEVENT
BEGIN:VEVENT
DTSTART;TZID=America/Chicago:20271114T143000
DTEND;TZID=America/Chicago:20271114T173000
DTSTAMP:20260421T213332
CREATED:20260410T155949Z
LAST-MODIFIED:20260421T163624Z
UID:10005354-1826202600-1826213400@www.offshorerooftop.com
SUMMARY:Family Sunday Fundays
DESCRIPTION:After enjoying a fun-filled day at Navy Pier\, refuel and re-energize with us at Family Sunday Funday at Offshore Rooftop ✨🏙️ \nChildren can enjoy one free meal from our kids’ menu with the purchase of an adult meal every Sunday from 2:30pm to 5:30pm.
URL:https://www.offshorerooftop.com/event/family-sunday-fundays-2-2/2027-11-14/
LOCATION:Offshore Rooftop\, 1000 E. Grand\, Chicago\, IL\, 60611\, United States
ATTACH;FMTTYPE=image/jpeg:https://www.offshorerooftop.com/wp-content/uploads/2026/01/Web_Header-1920x1080-1.jpg
END:VEVENT
BEGIN:VEVENT
DTSTART;TZID=America/Chicago:20271121T143000
DTEND;TZID=America/Chicago:20271121T173000
DTSTAMP:20260421T213332
CREATED:20260410T155949Z
LAST-MODIFIED:20260421T163624Z
UID:10005355-1826807400-1826818200@www.offshorerooftop.com
SUMMARY:Family Sunday Fundays
DESCRIPTION:After enjoying a fun-filled day at Navy Pier\, refuel and re-energize with us at Family Sunday Funday at Offshore Rooftop ✨🏙️ \nChildren can enjoy one free meal from our kids’ menu with the purchase of an adult meal every Sunday from 2:30pm to 5:30pm.
URL:https://www.offshorerooftop.com/event/family-sunday-fundays-2-2/2027-11-21/
LOCATION:Offshore Rooftop\, 1000 E. Grand\, Chicago\, IL\, 60611\, United States
ATTACH;FMTTYPE=image/jpeg:https://www.offshorerooftop.com/wp-content/uploads/2026/01/Web_Header-1920x1080-1.jpg
END:VEVENT
BEGIN:VEVENT
DTSTART;TZID=America/Chicago:20271128T143000
DTEND;TZID=America/Chicago:20271128T173000
DTSTAMP:20260421T213332
CREATED:20260410T155949Z
LAST-MODIFIED:20260421T163624Z
UID:10005356-1827412200-1827423000@www.offshorerooftop.com
SUMMARY:Family Sunday Fundays
DESCRIPTION:After enjoying a fun-filled day at Navy Pier\, refuel and re-energize with us at Family Sunday Funday at Offshore Rooftop ✨🏙️ \nChildren can enjoy one free meal from our kids’ menu with the purchase of an adult meal every Sunday from 2:30pm to 5:30pm.
URL:https://www.offshorerooftop.com/event/family-sunday-fundays-2-2/2027-11-28/
LOCATION:Offshore Rooftop\, 1000 E. Grand\, Chicago\, IL\, 60611\, United States
ATTACH;FMTTYPE=image/jpeg:https://www.offshorerooftop.com/wp-content/uploads/2026/01/Web_Header-1920x1080-1.jpg
END:VEVENT
BEGIN:VEVENT
DTSTART;TZID=America/Chicago:20271205T143000
DTEND;TZID=America/Chicago:20271205T173000
DTSTAMP:20260421T213332
CREATED:20260410T155949Z
LAST-MODIFIED:20260421T163624Z
UID:10005357-1828017000-1828027800@www.offshorerooftop.com
SUMMARY:Family Sunday Fundays
DESCRIPTION:After enjoying a fun-filled day at Navy Pier\, refuel and re-energize with us at Family Sunday Funday at Offshore Rooftop ✨🏙️ \nChildren can enjoy one free meal from our kids’ menu with the purchase of an adult meal every Sunday from 2:30pm to 5:30pm.
URL:https://www.offshorerooftop.com/event/family-sunday-fundays-2-2/2027-12-05/
LOCATION:Offshore Rooftop\, 1000 E. Grand\, Chicago\, IL\, 60611\, United States
ATTACH;FMTTYPE=image/jpeg:https://www.offshorerooftop.com/wp-content/uploads/2026/01/Web_Header-1920x1080-1.jpg
END:VEVENT
BEGIN:VEVENT
DTSTART;TZID=America/Chicago:20271212T143000
DTEND;TZID=America/Chicago:20271212T173000
DTSTAMP:20260421T213332
CREATED:20260410T155949Z
LAST-MODIFIED:20260421T163624Z
UID:10005358-1828621800-1828632600@www.offshorerooftop.com
SUMMARY:Family Sunday Fundays
DESCRIPTION:After enjoying a fun-filled day at Navy Pier\, refuel and re-energize with us at Family Sunday Funday at Offshore Rooftop ✨🏙️ \nChildren can enjoy one free meal from our kids’ menu with the purchase of an adult meal every Sunday from 2:30pm to 5:30pm.
URL:https://www.offshorerooftop.com/event/family-sunday-fundays-2-2/2027-12-12/
LOCATION:Offshore Rooftop\, 1000 E. Grand\, Chicago\, IL\, 60611\, United States
ATTACH;FMTTYPE=image/jpeg:https://www.offshorerooftop.com/wp-content/uploads/2026/01/Web_Header-1920x1080-1.jpg
END:VEVENT
BEGIN:VEVENT
DTSTART;TZID=America/Chicago:20271219T143000
DTEND;TZID=America/Chicago:20271219T173000
DTSTAMP:20260421T213332
CREATED:20260410T155949Z
LAST-MODIFIED:20260421T163624Z
UID:10005359-1829226600-1829237400@www.offshorerooftop.com
SUMMARY:Family Sunday Fundays
DESCRIPTION:After enjoying a fun-filled day at Navy Pier\, refuel and re-energize with us at Family Sunday Funday at Offshore Rooftop ✨🏙️ \nChildren can enjoy one free meal from our kids’ menu with the purchase of an adult meal every Sunday from 2:30pm to 5:30pm.
URL:https://www.offshorerooftop.com/event/family-sunday-fundays-2-2/2027-12-19/
LOCATION:Offshore Rooftop\, 1000 E. Grand\, Chicago\, IL\, 60611\, United States
ATTACH;FMTTYPE=image/jpeg:https://www.offshorerooftop.com/wp-content/uploads/2026/01/Web_Header-1920x1080-1.jpg
END:VEVENT
BEGIN:VEVENT
DTSTART;TZID=America/Chicago:20271226T143000
DTEND;TZID=America/Chicago:20271226T173000
DTSTAMP:20260421T213332
CREATED:20260410T155949Z
LAST-MODIFIED:20260421T163624Z
UID:10005360-1829831400-1829842200@www.offshorerooftop.com
SUMMARY:Family Sunday Fundays
DESCRIPTION:After enjoying a fun-filled day at Navy Pier\, refuel and re-energize with us at Family Sunday Funday at Offshore Rooftop ✨🏙️ \nChildren can enjoy one free meal from our kids’ menu with the purchase of an adult meal every Sunday from 2:30pm to 5:30pm.
URL:https://www.offshorerooftop.com/event/family-sunday-fundays-2-2/2027-12-26/
LOCATION:Offshore Rooftop\, 1000 E. Grand\, Chicago\, IL\, 60611\, United States
ATTACH;FMTTYPE=image/jpeg:https://www.offshorerooftop.com/wp-content/uploads/2026/01/Web_Header-1920x1080-1.jpg
END:VEVENT
BEGIN:VEVENT
DTSTART;TZID=America/Chicago:20280102T143000
DTEND;TZID=America/Chicago:20280102T173000
DTSTAMP:20260421T213332
CREATED:20260410T155949Z
LAST-MODIFIED:20260421T163624Z
UID:10005361-1830436200-1830447000@www.offshorerooftop.com
SUMMARY:Family Sunday Fundays
DESCRIPTION:After enjoying a fun-filled day at Navy Pier\, refuel and re-energize with us at Family Sunday Funday at Offshore Rooftop ✨🏙️ \nChildren can enjoy one free meal from our kids’ menu with the purchase of an adult meal every Sunday from 2:30pm to 5:30pm.
URL:https://www.offshorerooftop.com/event/family-sunday-fundays-2-2/2028-01-02/
LOCATION:Offshore Rooftop\, 1000 E. Grand\, Chicago\, IL\, 60611\, United States
ATTACH;FMTTYPE=image/jpeg:https://www.offshorerooftop.com/wp-content/uploads/2026/01/Web_Header-1920x1080-1.jpg
END:VEVENT
BEGIN:VEVENT
DTSTART;TZID=America/Chicago:20280109T143000
DTEND;TZID=America/Chicago:20280109T173000
DTSTAMP:20260421T213332
CREATED:20260410T155949Z
LAST-MODIFIED:20260421T163624Z
UID:10005362-1831041000-1831051800@www.offshorerooftop.com
SUMMARY:Family Sunday Fundays
DESCRIPTION:After enjoying a fun-filled day at Navy Pier\, refuel and re-energize with us at Family Sunday Funday at Offshore Rooftop ✨🏙️ \nChildren can enjoy one free meal from our kids’ menu with the purchase of an adult meal every Sunday from 2:30pm to 5:30pm.
URL:https://www.offshorerooftop.com/event/family-sunday-fundays-2-2/2028-01-09/
LOCATION:Offshore Rooftop\, 1000 E. Grand\, Chicago\, IL\, 60611\, United States
ATTACH;FMTTYPE=image/jpeg:https://www.offshorerooftop.com/wp-content/uploads/2026/01/Web_Header-1920x1080-1.jpg
END:VEVENT
BEGIN:VEVENT
DTSTART;TZID=America/Chicago:20280116T143000
DTEND;TZID=America/Chicago:20280116T173000
DTSTAMP:20260421T213332
CREATED:20260410T155949Z
LAST-MODIFIED:20260421T163624Z
UID:10005363-1831645800-1831656600@www.offshorerooftop.com
SUMMARY:Family Sunday Fundays
DESCRIPTION:After enjoying a fun-filled day at Navy Pier\, refuel and re-energize with us at Family Sunday Funday at Offshore Rooftop ✨🏙️ \nChildren can enjoy one free meal from our kids’ menu with the purchase of an adult meal every Sunday from 2:30pm to 5:30pm.
URL:https://www.offshorerooftop.com/event/family-sunday-fundays-2-2/2028-01-16/
LOCATION:Offshore Rooftop\, 1000 E. Grand\, Chicago\, IL\, 60611\, United States
ATTACH;FMTTYPE=image/jpeg:https://www.offshorerooftop.com/wp-content/uploads/2026/01/Web_Header-1920x1080-1.jpg
END:VEVENT
BEGIN:VEVENT
DTSTART;TZID=America/Chicago:20280123T143000
DTEND;TZID=America/Chicago:20280123T173000
DTSTAMP:20260421T213332
CREATED:20260410T155949Z
LAST-MODIFIED:20260421T163624Z
UID:10005364-1832250600-1832261400@www.offshorerooftop.com
SUMMARY:Family Sunday Fundays
DESCRIPTION:After enjoying a fun-filled day at Navy Pier\, refuel and re-energize with us at Family Sunday Funday at Offshore Rooftop ✨🏙️ \nChildren can enjoy one free meal from our kids’ menu with the purchase of an adult meal every Sunday from 2:30pm to 5:30pm.
URL:https://www.offshorerooftop.com/event/family-sunday-fundays-2-2/2028-01-23/
LOCATION:Offshore Rooftop\, 1000 E. Grand\, Chicago\, IL\, 60611\, United States
ATTACH;FMTTYPE=image/jpeg:https://www.offshorerooftop.com/wp-content/uploads/2026/01/Web_Header-1920x1080-1.jpg
END:VEVENT
BEGIN:VEVENT
DTSTART;TZID=America/Chicago:20280130T143000
DTEND;TZID=America/Chicago:20280130T173000
DTSTAMP:20260421T213332
CREATED:20260410T155949Z
LAST-MODIFIED:20260421T163624Z
UID:10005365-1832855400-1832866200@www.offshorerooftop.com
SUMMARY:Family Sunday Fundays
DESCRIPTION:After enjoying a fun-filled day at Navy Pier\, refuel and re-energize with us at Family Sunday Funday at Offshore Rooftop ✨🏙️ \nChildren can enjoy one free meal from our kids’ menu with the purchase of an adult meal every Sunday from 2:30pm to 5:30pm.
URL:https://www.offshorerooftop.com/event/family-sunday-fundays-2-2/2028-01-30/
LOCATION:Offshore Rooftop\, 1000 E. Grand\, Chicago\, IL\, 60611\, United States
ATTACH;FMTTYPE=image/jpeg:https://www.offshorerooftop.com/wp-content/uploads/2026/01/Web_Header-1920x1080-1.jpg
END:VEVENT
BEGIN:VEVENT
DTSTART;TZID=America/Chicago:20280206T143000
DTEND;TZID=America/Chicago:20280206T173000
DTSTAMP:20260421T213332
CREATED:20260410T155949Z
LAST-MODIFIED:20260421T163624Z
UID:10005366-1833460200-1833471000@www.offshorerooftop.com
SUMMARY:Family Sunday Fundays
DESCRIPTION:After enjoying a fun-filled day at Navy Pier\, refuel and re-energize with us at Family Sunday Funday at Offshore Rooftop ✨🏙️ \nChildren can enjoy one free meal from our kids’ menu with the purchase of an adult meal every Sunday from 2:30pm to 5:30pm.
URL:https://www.offshorerooftop.com/event/family-sunday-fundays-2-2/2028-02-06/
LOCATION:Offshore Rooftop\, 1000 E. Grand\, Chicago\, IL\, 60611\, United States
ATTACH;FMTTYPE=image/jpeg:https://www.offshorerooftop.com/wp-content/uploads/2026/01/Web_Header-1920x1080-1.jpg
END:VEVENT
BEGIN:VEVENT
DTSTART;TZID=America/Chicago:20280213T143000
DTEND;TZID=America/Chicago:20280213T173000
DTSTAMP:20260421T213332
CREATED:20260410T155949Z
LAST-MODIFIED:20260421T163624Z
UID:10005367-1834065000-1834075800@www.offshorerooftop.com
SUMMARY:Family Sunday Fundays
DESCRIPTION:After enjoying a fun-filled day at Navy Pier\, refuel and re-energize with us at Family Sunday Funday at Offshore Rooftop ✨🏙️ \nChildren can enjoy one free meal from our kids’ menu with the purchase of an adult meal every Sunday from 2:30pm to 5:30pm.
URL:https://www.offshorerooftop.com/event/family-sunday-fundays-2-2/2028-02-13/
LOCATION:Offshore Rooftop\, 1000 E. Grand\, Chicago\, IL\, 60611\, United States
ATTACH;FMTTYPE=image/jpeg:https://www.offshorerooftop.com/wp-content/uploads/2026/01/Web_Header-1920x1080-1.jpg
END:VEVENT
BEGIN:VEVENT
DTSTART;TZID=America/Chicago:20280220T143000
DTEND;TZID=America/Chicago:20280220T173000
DTSTAMP:20260421T213332
CREATED:20260410T155949Z
LAST-MODIFIED:20260421T163624Z
UID:10005368-1834669800-1834680600@www.offshorerooftop.com
SUMMARY:Family Sunday Fundays
DESCRIPTION:After enjoying a fun-filled day at Navy Pier\, refuel and re-energize with us at Family Sunday Funday at Offshore Rooftop ✨🏙️ \nChildren can enjoy one free meal from our kids’ menu with the purchase of an adult meal every Sunday from 2:30pm to 5:30pm.
URL:https://www.offshorerooftop.com/event/family-sunday-fundays-2-2/2028-02-20/
LOCATION:Offshore Rooftop\, 1000 E. Grand\, Chicago\, IL\, 60611\, United States
ATTACH;FMTTYPE=image/jpeg:https://www.offshorerooftop.com/wp-content/uploads/2026/01/Web_Header-1920x1080-1.jpg
END:VEVENT
BEGIN:VEVENT
DTSTART;TZID=America/Chicago:20280227T143000
DTEND;TZID=America/Chicago:20280227T173000
DTSTAMP:20260421T213332
CREATED:20260410T155949Z
LAST-MODIFIED:20260421T163624Z
UID:10005369-1835274600-1835285400@www.offshorerooftop.com
SUMMARY:Family Sunday Fundays
DESCRIPTION:After enjoying a fun-filled day at Navy Pier\, refuel and re-energize with us at Family Sunday Funday at Offshore Rooftop ✨🏙️ \nChildren can enjoy one free meal from our kids’ menu with the purchase of an adult meal every Sunday from 2:30pm to 5:30pm.
URL:https://www.offshorerooftop.com/event/family-sunday-fundays-2-2/2028-02-27/
LOCATION:Offshore Rooftop\, 1000 E. Grand\, Chicago\, IL\, 60611\, United States
ATTACH;FMTTYPE=image/jpeg:https://www.offshorerooftop.com/wp-content/uploads/2026/01/Web_Header-1920x1080-1.jpg
END:VEVENT
BEGIN:VEVENT
DTSTART;TZID=America/Chicago:20280305T143000
DTEND;TZID=America/Chicago:20280305T173000
DTSTAMP:20260421T213332
CREATED:20260410T155949Z
LAST-MODIFIED:20260421T163624Z
UID:10005370-1835879400-1835890200@www.offshorerooftop.com
SUMMARY:Family Sunday Fundays
DESCRIPTION:After enjoying a fun-filled day at Navy Pier\, refuel and re-energize with us at Family Sunday Funday at Offshore Rooftop ✨🏙️ \nChildren can enjoy one free meal from our kids’ menu with the purchase of an adult meal every Sunday from 2:30pm to 5:30pm.
URL:https://www.offshorerooftop.com/event/family-sunday-fundays-2-2/2028-03-05/
LOCATION:Offshore Rooftop\, 1000 E. Grand\, Chicago\, IL\, 60611\, United States
ATTACH;FMTTYPE=image/jpeg:https://www.offshorerooftop.com/wp-content/uploads/2026/01/Web_Header-1920x1080-1.jpg
END:VEVENT
BEGIN:VEVENT
DTSTART;TZID=America/Chicago:20280312T143000
DTEND;TZID=America/Chicago:20280312T173000
DTSTAMP:20260421T213332
CREATED:20260410T155949Z
LAST-MODIFIED:20260421T163624Z
UID:10005371-1836484200-1836495000@www.offshorerooftop.com
SUMMARY:Family Sunday Fundays
DESCRIPTION:After enjoying a fun-filled day at Navy Pier\, refuel and re-energize with us at Family Sunday Funday at Offshore Rooftop ✨🏙️ \nChildren can enjoy one free meal from our kids’ menu with the purchase of an adult meal every Sunday from 2:30pm to 5:30pm.
URL:https://www.offshorerooftop.com/event/family-sunday-fundays-2-2/2028-03-12/
LOCATION:Offshore Rooftop\, 1000 E. Grand\, Chicago\, IL\, 60611\, United States
ATTACH;FMTTYPE=image/jpeg:https://www.offshorerooftop.com/wp-content/uploads/2026/01/Web_Header-1920x1080-1.jpg
END:VEVENT
BEGIN:VEVENT
DTSTART;TZID=America/Chicago:20280319T143000
DTEND;TZID=America/Chicago:20280319T173000
DTSTAMP:20260421T213332
CREATED:20260410T155949Z
LAST-MODIFIED:20260421T163624Z
UID:10005372-1837089000-1837099800@www.offshorerooftop.com
SUMMARY:Family Sunday Fundays
DESCRIPTION:After enjoying a fun-filled day at Navy Pier\, refuel and re-energize with us at Family Sunday Funday at Offshore Rooftop ✨🏙️ \nChildren can enjoy one free meal from our kids’ menu with the purchase of an adult meal every Sunday from 2:30pm to 5:30pm.
URL:https://www.offshorerooftop.com/event/family-sunday-fundays-2-2/2028-03-19/
LOCATION:Offshore Rooftop\, 1000 E. Grand\, Chicago\, IL\, 60611\, United States
ATTACH;FMTTYPE=image/jpeg:https://www.offshorerooftop.com/wp-content/uploads/2026/01/Web_Header-1920x1080-1.jpg
END:VEVENT
BEGIN:VEVENT
DTSTART;TZID=America/Chicago:20280326T143000
DTEND;TZID=America/Chicago:20280326T173000
DTSTAMP:20260421T213332
CREATED:20260410T155949Z
LAST-MODIFIED:20260421T163624Z
UID:10005373-1837693800-1837704600@www.offshorerooftop.com
SUMMARY:Family Sunday Fundays
DESCRIPTION:After enjoying a fun-filled day at Navy Pier\, refuel and re-energize with us at Family Sunday Funday at Offshore Rooftop ✨🏙️ \nChildren can enjoy one free meal from our kids’ menu with the purchase of an adult meal every Sunday from 2:30pm to 5:30pm.
URL:https://www.offshorerooftop.com/event/family-sunday-fundays-2-2/2028-03-26/
LOCATION:Offshore Rooftop\, 1000 E. Grand\, Chicago\, IL\, 60611\, United States
ATTACH;FMTTYPE=image/jpeg:https://www.offshorerooftop.com/wp-content/uploads/2026/01/Web_Header-1920x1080-1.jpg
END:VEVENT
BEGIN:VEVENT
DTSTART;TZID=America/Chicago:20280402T143000
DTEND;TZID=America/Chicago:20280402T173000
DTSTAMP:20260421T213332
CREATED:20260410T155949Z
LAST-MODIFIED:20260421T163624Z
UID:10005374-1838298600-1838309400@www.offshorerooftop.com
SUMMARY:Family Sunday Fundays
DESCRIPTION:After enjoying a fun-filled day at Navy Pier\, refuel and re-energize with us at Family Sunday Funday at Offshore Rooftop ✨🏙️ \nChildren can enjoy one free meal from our kids’ menu with the purchase of an adult meal every Sunday from 2:30pm to 5:30pm.
URL:https://www.offshorerooftop.com/event/family-sunday-fundays-2-2/2028-04-02/
LOCATION:Offshore Rooftop\, 1000 E. Grand\, Chicago\, IL\, 60611\, United States
ATTACH;FMTTYPE=image/jpeg:https://www.offshorerooftop.com/wp-content/uploads/2026/01/Web_Header-1920x1080-1.jpg
END:VEVENT
END:VCALENDAR