BEGIN:VCALENDAR
VERSION:2.0
PRODID:-//Offshore Rooftop - ECPv6.15.17.1//NONSGML v1.0//EN
CALSCALE:GREGORIAN
METHOD:PUBLISH
X-ORIGINAL-URL:https://www.offshorerooftop.com
X-WR-CALDESC:Events for Offshore Rooftop
REFRESH-INTERVAL;VALUE=DURATION:PT1H
X-Robots-Tag:noindex
X-PUBLISHED-TTL:PT1H
BEGIN:VTIMEZONE
TZID:America/Chicago
BEGIN:DAYLIGHT
TZOFFSETFROM:-0600
TZOFFSETTO:-0500
TZNAME:CDT
DTSTART:20250309T080000
END:DAYLIGHT
BEGIN:STANDARD
TZOFFSETFROM:-0500
TZOFFSETTO:-0600
TZNAME:CST
DTSTART:20251102T070000
END:STANDARD
BEGIN:DAYLIGHT
TZOFFSETFROM:-0600
TZOFFSETTO:-0500
TZNAME:CDT
DTSTART:20260308T080000
END:DAYLIGHT
BEGIN:STANDARD
TZOFFSETFROM:-0500
TZOFFSETTO:-0600
TZNAME:CST
DTSTART:20261101T070000
END:STANDARD
BEGIN:DAYLIGHT
TZOFFSETFROM:-0600
TZOFFSETTO:-0500
TZNAME:CDT
DTSTART:20270314T080000
END:DAYLIGHT
BEGIN:STANDARD
TZOFFSETFROM:-0500
TZOFFSETTO:-0600
TZNAME:CST
DTSTART:20271107T070000
END:STANDARD
END:VTIMEZONE
BEGIN:VEVENT
DTSTART;VALUE=DATE:20260612
DTEND;VALUE=DATE:20260613
DTSTAMP:20260424T185229
CREATED:20260421T165313Z
LAST-MODIFIED:20260421T165313Z
UID:10005575-1781222400-1781308799@www.offshorerooftop.com
SUMMARY:Closed for Private Event
DESCRIPTION:Offshore will be closed to the public on Friday\, June 12th\, due to a private event. We apologize for the inconvenience\, but we look forward to welcoming you in soon!
URL:https://www.offshorerooftop.com/event/closed-for-private-event-96/
LOCATION:Offshore Rooftop\, 1000 E. Grand\, Chicago\, IL\, 60611\, United States
CATEGORIES:Offshore Closed
END:VEVENT
BEGIN:VEVENT
DTSTART;VALUE=DATE:20260617
DTEND;VALUE=DATE:20260618
DTSTAMP:20260424T185229
CREATED:20260421T165656Z
LAST-MODIFIED:20260421T165804Z
UID:10005576-1781654400-1781740799@www.offshorerooftop.com
SUMMARY:Closed for Private Event
DESCRIPTION:Offshore will be closed to the public on Wednesday\, June 17th\, due to a private event. We apologize for the inconvenience\, but we look forward to welcoming you in soon!
URL:https://www.offshorerooftop.com/event/closed-for-private-event-97/
LOCATION:Offshore Rooftop\, 1000 E. Grand\, Chicago\, IL\, 60611\, United States
CATEGORIES:Offshore Closed
END:VEVENT
BEGIN:VEVENT
DTSTART;VALUE=DATE:20260620
DTEND;VALUE=DATE:20260621
DTSTAMP:20260424T185229
CREATED:20260421T165921Z
LAST-MODIFIED:20260421T165921Z
UID:10005577-1781913600-1781999999@www.offshorerooftop.com
SUMMARY:Closed for Private Event
DESCRIPTION:Offshore will be closed to the public on Saturday\, June 20th\, due to a private event. We apologize for the inconvenience\, but we look forward to welcoming you in soon!
URL:https://www.offshorerooftop.com/event/closed-for-private-event-98/
LOCATION:Offshore Rooftop\, 1000 E. Grand\, Chicago\, IL\, 60611\, United States
CATEGORIES:Offshore Closed
END:VEVENT
BEGIN:VEVENT
DTSTART;VALUE=DATE:20260623
DTEND;VALUE=DATE:20260624
DTSTAMP:20260424T185229
CREATED:20260421T170215Z
LAST-MODIFIED:20260421T170215Z
UID:10005578-1782172800-1782259199@www.offshorerooftop.com
SUMMARY:Closed for Private Event
DESCRIPTION:Offshore will be closed to the public on Tuesday\, June 23rd\, due to a private event. We apologize for the inconvenience\, but we look forward to welcoming you in soon!
URL:https://www.offshorerooftop.com/event/closed-for-private-event-99/
LOCATION:Offshore Rooftop\, 1000 E. Grand\, Chicago\, IL\, 60611\, United States
CATEGORIES:Offshore Closed
END:VEVENT
BEGIN:VEVENT
DTSTART;VALUE=DATE:20260624
DTEND;VALUE=DATE:20260625
DTSTAMP:20260424T185229
CREATED:20260421T170459Z
LAST-MODIFIED:20260421T170459Z
UID:10005579-1782259200-1782345599@www.offshorerooftop.com
SUMMARY:Closed for Private Event
DESCRIPTION:Offshore will be closed to the public on Wednesday\, June 24th\, due to a private event. We apologize for the inconvenience\, but we look forward to welcoming you in soon!
URL:https://www.offshorerooftop.com/event/closed-for-private-event-100/
LOCATION:Offshore Rooftop\, 1000 E. Grand\, Chicago\, IL\, 60611\, United States
CATEGORIES:Offshore Closed
END:VEVENT
BEGIN:VEVENT
DTSTART;VALUE=DATE:20260625
DTEND;VALUE=DATE:20260626
DTSTAMP:20260424T185229
CREATED:20260421T172007Z
LAST-MODIFIED:20260421T172007Z
UID:10005580-1782345600-1782431999@www.offshorerooftop.com
SUMMARY:Closed for Private Event
DESCRIPTION:Offshore will be closed to the public on Thursday\, June 25th\, due to a private event. We apologize for the inconvenience\, but we look forward to welcoming you in soon!
URL:https://www.offshorerooftop.com/event/closed-for-private-event-101/
LOCATION:Offshore Rooftop\, 1000 E. Grand\, Chicago\, IL\, 60611\, United States
CATEGORIES:Offshore Closed
END:VEVENT
BEGIN:VEVENT
DTSTART;VALUE=DATE:20260627
DTEND;VALUE=DATE:20260628
DTSTAMP:20260424T185229
CREATED:20260421T172250Z
LAST-MODIFIED:20260421T172250Z
UID:10005581-1782518400-1782604799@www.offshorerooftop.com
SUMMARY:Closed for Private Event
DESCRIPTION:Offshore will be closed to the public on Saturday\, June 27th\, due to a private event. We apologize for the inconvenience\, but we look forward to welcoming you in soon!
URL:https://www.offshorerooftop.com/event/closed-for-private-event-102/
LOCATION:Offshore Rooftop\, 1000 E. Grand\, Chicago\, IL\, 60611\, United States
CATEGORIES:Offshore Closed
END:VEVENT
END:VCALENDAR