BEGIN:VCALENDAR
VERSION:2.0
PRODID:-//Offshore Rooftop - ECPv6.15.17.1//NONSGML v1.0//EN
CALSCALE:GREGORIAN
METHOD:PUBLISH
X-ORIGINAL-URL:https://www.offshorerooftop.com
X-WR-CALDESC:Events for Offshore Rooftop
REFRESH-INTERVAL;VALUE=DURATION:PT1H
X-Robots-Tag:noindex
X-PUBLISHED-TTL:PT1H
BEGIN:VTIMEZONE
TZID:America/Chicago
BEGIN:DAYLIGHT
TZOFFSETFROM:-0600
TZOFFSETTO:-0500
TZNAME:CDT
DTSTART:20220313T080000
END:DAYLIGHT
BEGIN:STANDARD
TZOFFSETFROM:-0500
TZOFFSETTO:-0600
TZNAME:CST
DTSTART:20221106T070000
END:STANDARD
BEGIN:DAYLIGHT
TZOFFSETFROM:-0600
TZOFFSETTO:-0500
TZNAME:CDT
DTSTART:20230312T080000
END:DAYLIGHT
BEGIN:STANDARD
TZOFFSETFROM:-0500
TZOFFSETTO:-0600
TZNAME:CST
DTSTART:20231105T070000
END:STANDARD
BEGIN:DAYLIGHT
TZOFFSETFROM:-0600
TZOFFSETTO:-0500
TZNAME:CDT
DTSTART:20240310T080000
END:DAYLIGHT
BEGIN:STANDARD
TZOFFSETFROM:-0500
TZOFFSETTO:-0600
TZNAME:CST
DTSTART:20241103T070000
END:STANDARD
BEGIN:DAYLIGHT
TZOFFSETFROM:-0600
TZOFFSETTO:-0500
TZNAME:CDT
DTSTART:20250309T080000
END:DAYLIGHT
BEGIN:STANDARD
TZOFFSETFROM:-0500
TZOFFSETTO:-0600
TZNAME:CST
DTSTART:20251102T070000
END:STANDARD
END:VTIMEZONE
BEGIN:VEVENT
DTSTART;TZID=America/Chicago:20231231T210000
DTEND;TZID=America/Chicago:20240101T010000
DTSTAMP:20260419T155109
CREATED:20231013T161315Z
LAST-MODIFIED:20231229T180353Z
UID:10000166-1704056400-1704070800@www.offshorerooftop.com
SUMMARY:NYE 2024 at Offshore Rooftop
DESCRIPTION:Celebrate the start of 2024 with a Firework Show at Offshore Rooftop! \nThis exclusive event will be the place to celebrate as we ring in the New Year. Enjoy a spectacular evening with amazing views of Chicago’s skyline and the spectacular Navy Pier fireworks show. \nTickets include a 4-hour premium bar\, heavy passed bites\, midnight fireworks show and champagne toast\, and more! \nAll-Inclusive Event \n\nNavy Pier Firework Show at Midnight\n4-hour Premium Open Bar\nHeavy Passed Appetizers\nDJ\nMidnight Ball Drop on TV Screens\nChampagne Toast at Midnight\nViews of the Chicago Skyline\nComplimentary Coat Check Available\n\nDress Code: Cocktail Attire \nVALID PHOTO ID REQUIRED FOR ENTRY (21+) \nGET YOUR TICKETS \n  \n  \n 
URL:https://www.offshorerooftop.com/event/nye-2024-at-offshore-rooftop/
END:VEVENT
END:VCALENDAR