BEGIN:VCALENDAR
VERSION:2.0
PRODID:-//Offshore Rooftop - ECPv6.15.17.1//NONSGML v1.0//EN
CALSCALE:GREGORIAN
METHOD:PUBLISH
X-WR-CALNAME:Offshore Rooftop
X-ORIGINAL-URL:https://www.offshorerooftop.com
X-WR-CALDESC:Events for Offshore Rooftop
REFRESH-INTERVAL;VALUE=DURATION:PT1H
X-Robots-Tag:noindex
X-PUBLISHED-TTL:PT1H
BEGIN:VTIMEZONE
TZID:America/Chicago
BEGIN:DAYLIGHT
TZOFFSETFROM:-0600
TZOFFSETTO:-0500
TZNAME:CDT
DTSTART:20220313T080000
END:DAYLIGHT
BEGIN:STANDARD
TZOFFSETFROM:-0500
TZOFFSETTO:-0600
TZNAME:CST
DTSTART:20221106T070000
END:STANDARD
BEGIN:DAYLIGHT
TZOFFSETFROM:-0600
TZOFFSETTO:-0500
TZNAME:CDT
DTSTART:20230312T080000
END:DAYLIGHT
BEGIN:STANDARD
TZOFFSETFROM:-0500
TZOFFSETTO:-0600
TZNAME:CST
DTSTART:20231105T070000
END:STANDARD
BEGIN:DAYLIGHT
TZOFFSETFROM:-0600
TZOFFSETTO:-0500
TZNAME:CDT
DTSTART:20240310T080000
END:DAYLIGHT
BEGIN:STANDARD
TZOFFSETFROM:-0500
TZOFFSETTO:-0600
TZNAME:CST
DTSTART:20241103T070000
END:STANDARD
END:VTIMEZONE
BEGIN:VEVENT
DTSTART;TZID=America/Chicago:20230514T110000
DTEND;TZID=America/Chicago:20230514T143000
DTSTAMP:20260420T083429
CREATED:20230417T145815Z
LAST-MODIFIED:20230417T145815Z
UID:10000100-1684062000-1684074600@www.offshorerooftop.com
SUMMARY:Offshore Rooftop's Mother's Day Brunch!
DESCRIPTION:Treat the world’s greatest mom to brunch at the world’s largest rooftop bar! \nLeave the florals to us! \nSt. Germain will be providing flower bouquets for all moms who dine with us for Mother’s Day brunch. In addition to our brunch menu\, we will be offering specialty items just for Mother’s Day. \nWe will also be offering specialty cocktails featuring St. Germain! \n  \nDate: 5/14 | Time: 11am-2:30pm  \n \nBook Now
URL:https://www.offshorerooftop.com/event/offshore-rooftops-mothers-day-brunch/
LOCATION:Offshore Rooftop\, 1000 E. Grand\, Chicago\, IL\, 60611\, United States
END:VEVENT
END:VCALENDAR