BEGIN:VCALENDAR
VERSION:2.0
PRODID:-//Offshore Rooftop - ECPv6.15.17.1//NONSGML v1.0//EN
CALSCALE:GREGORIAN
METHOD:PUBLISH
X-WR-CALNAME:Offshore Rooftop
X-ORIGINAL-URL:https://www.offshorerooftop.com
X-WR-CALDESC:Events for Offshore Rooftop
REFRESH-INTERVAL;VALUE=DURATION:PT1H
X-Robots-Tag:noindex
X-PUBLISHED-TTL:PT1H
BEGIN:VTIMEZONE
TZID:America/Chicago
BEGIN:DAYLIGHT
TZOFFSETFROM:-0600
TZOFFSETTO:-0500
TZNAME:CDT
DTSTART:20220313T080000
END:DAYLIGHT
BEGIN:STANDARD
TZOFFSETFROM:-0500
TZOFFSETTO:-0600
TZNAME:CST
DTSTART:20221106T070000
END:STANDARD
BEGIN:DAYLIGHT
TZOFFSETFROM:-0600
TZOFFSETTO:-0500
TZNAME:CDT
DTSTART:20230312T080000
END:DAYLIGHT
BEGIN:STANDARD
TZOFFSETFROM:-0500
TZOFFSETTO:-0600
TZNAME:CST
DTSTART:20231105T070000
END:STANDARD
BEGIN:DAYLIGHT
TZOFFSETFROM:-0600
TZOFFSETTO:-0500
TZNAME:CDT
DTSTART:20240310T080000
END:DAYLIGHT
BEGIN:STANDARD
TZOFFSETFROM:-0500
TZOFFSETTO:-0600
TZNAME:CST
DTSTART:20241103T070000
END:STANDARD
END:VTIMEZONE
BEGIN:VEVENT
DTSTART;VALUE=DATE:20230430
DTEND;VALUE=DATE:20230501
DTSTAMP:20260420T070709
CREATED:20230322T220743Z
LAST-MODIFIED:20230425T192436Z
UID:10000082-1682812800-1682899199@www.offshorerooftop.com
SUMMARY:WELLNESS ON THE WATER: Group Fitness and Brunch
DESCRIPTION:Offshore Rooftop is starting the new year strong with Wellness on the Water! G﻿roup fitness and brunch is the best way to kick off 2023! \nCHECK OUT THE LINEUP: \nS﻿UNDAY\, APRIL 30 | Kickboxing with David Robertson (Chicago Athletic Clubs/Fitness Formula Clubs)\nS﻿UNDAY\, MAY 7 | Presence and Flow with Nikki Snow (Cultiv8 + CAC)\nSATURDAY\, MAY 20 | Bodyweight Bootcamp with Kelly Amshoff (I’m With Kelly)\nS﻿UNDAY\, JUNE 3 | Total Body Hit With Audrey Smith (East Bank Club/Kinema Fitness)\nS﻿UNDAY\, JUNE 10 | Vinyasa Flow With Guinn Peace (Fly Chicago) \nSCHEDULE:\n1﻿0:00 – 10:50 am: Fitness Class\nBrunch to follow \nTICKETS INCLUDE:\nGroup Fitness Class\nHampton Water Rosé Y﻿oga Mat\nChoice of Hampton Water Rosé or Mimosa\nSelection of Coffee & Tea\nBrunch Food Stations with Avocado Toast\, Yogurt & Granola Parfaits\, Salmon Board with Bagels\, Scrambled Eggs\, Bacon\, and more \n**Please email info@offshorerooftop.com for any dietary restriction accommodations \nYoga mats will be provided!\n*﻿18% gratuity is included in the ticket price\n*﻿Tickets are non-refundable and non-transferable \n$50
URL:https://www.offshorerooftop.com/event/wellness-on-the-water-group-fitness-and-brunch-8/
END:VEVENT
END:VCALENDAR