BEGIN:VCALENDAR
VERSION:2.0
PRODID:-//Offshore Rooftop - ECPv6.15.17.1//NONSGML v1.0//EN
CALSCALE:GREGORIAN
METHOD:PUBLISH
X-ORIGINAL-URL:https://www.offshorerooftop.com
X-WR-CALDESC:Events for Offshore Rooftop
REFRESH-INTERVAL;VALUE=DURATION:PT1H
X-Robots-Tag:noindex
X-PUBLISHED-TTL:PT1H
BEGIN:VTIMEZONE
TZID:America/Chicago
BEGIN:DAYLIGHT
TZOFFSETFROM:-0600
TZOFFSETTO:-0500
TZNAME:CDT
DTSTART:20220313T080000
END:DAYLIGHT
BEGIN:STANDARD
TZOFFSETFROM:-0500
TZOFFSETTO:-0600
TZNAME:CST
DTSTART:20221106T070000
END:STANDARD
BEGIN:DAYLIGHT
TZOFFSETFROM:-0600
TZOFFSETTO:-0500
TZNAME:CDT
DTSTART:20230312T080000
END:DAYLIGHT
BEGIN:STANDARD
TZOFFSETFROM:-0500
TZOFFSETTO:-0600
TZNAME:CST
DTSTART:20231105T070000
END:STANDARD
BEGIN:DAYLIGHT
TZOFFSETFROM:-0600
TZOFFSETTO:-0500
TZNAME:CDT
DTSTART:20240310T080000
END:DAYLIGHT
BEGIN:STANDARD
TZOFFSETFROM:-0500
TZOFFSETTO:-0600
TZNAME:CST
DTSTART:20241103T070000
END:STANDARD
END:VTIMEZONE
BEGIN:VEVENT
DTSTART;VALUE=DATE:20230122
DTEND;VALUE=DATE:20230123
DTSTAMP:20260421T131241
CREATED:20230105T221003Z
LAST-MODIFIED:20230112T031952Z
UID:10000074-1674345600-1674431999@www.offshorerooftop.com
SUMMARY:WELLNESS ON THE WATER: Group Fitness and Brunch
DESCRIPTION:Offshore Rooftop is stating the new year strong with Wellness on the Water! Group fitness and brunch is the best way to kick off 2023!  \nCHECK OUT THE LINEUP: \nJANUARY 22 – MARISSA FREEMAN from The Bar Method Gold Coast\nFEBRUARY 5 – Kickboxing with David Robertson  \nSCHEDULE:\n10:00-10:50 AM: Fitness Class\nBrunch to follow!  \nTICKETS INCLUDE:\nGroup Fitness Class\nMinuty Rose Yoga Mat\nChoice of Minuty Rose or Mimosa\nSelection of Coffee & Tea\nBrunch food stations with avocado toast\, yogurt and granola parfaits\, salmon board with bagels\, scrambled eggs\, bacon\, and more!  \n**Please email info@offshorerooftop.com for any dietary restriction accommodations.  \nYoga mats will be provided!\n*18% gratuity is included in the ticket price.\n*Tickets are non-refúndale and non-transferable.  \n$50
URL:https://www.offshorerooftop.com/event/wellness-on-the-water-group-fitness-and-brunch/
LOCATION:IL
END:VEVENT
END:VCALENDAR