BEGIN:VCALENDAR
VERSION:2.0
PRODID:-//Offshore Rooftop - ECPv6.15.17.1//NONSGML v1.0//EN
CALSCALE:GREGORIAN
METHOD:PUBLISH
X-WR-CALNAME:Offshore Rooftop
X-ORIGINAL-URL:https://www.offshorerooftop.com
X-WR-CALDESC:Events for Offshore Rooftop
REFRESH-INTERVAL;VALUE=DURATION:PT1H
X-Robots-Tag:noindex
X-PUBLISHED-TTL:PT1H
BEGIN:VTIMEZONE
TZID:America/Chicago
BEGIN:DAYLIGHT
TZOFFSETFROM:-0600
TZOFFSETTO:-0500
TZNAME:CDT
DTSTART:20210314T080000
END:DAYLIGHT
BEGIN:STANDARD
TZOFFSETFROM:-0500
TZOFFSETTO:-0600
TZNAME:CST
DTSTART:20211107T070000
END:STANDARD
BEGIN:DAYLIGHT
TZOFFSETFROM:-0600
TZOFFSETTO:-0500
TZNAME:CDT
DTSTART:20220313T080000
END:DAYLIGHT
BEGIN:STANDARD
TZOFFSETFROM:-0500
TZOFFSETTO:-0600
TZNAME:CST
DTSTART:20221106T070000
END:STANDARD
BEGIN:DAYLIGHT
TZOFFSETFROM:-0600
TZOFFSETTO:-0500
TZNAME:CDT
DTSTART:20230312T080000
END:DAYLIGHT
BEGIN:STANDARD
TZOFFSETFROM:-0500
TZOFFSETTO:-0600
TZNAME:CST
DTSTART:20231105T070000
END:STANDARD
BEGIN:DAYLIGHT
TZOFFSETFROM:-0600
TZOFFSETTO:-0500
TZNAME:CDT
DTSTART:20240310T080000
END:DAYLIGHT
BEGIN:STANDARD
TZOFFSETFROM:-0500
TZOFFSETTO:-0600
TZNAME:CST
DTSTART:20241103T070000
END:STANDARD
END:VTIMEZONE
BEGIN:VEVENT
DTSTART;TZID=America/Chicago:20221231T210000
DTEND;TZID=America/Chicago:20230101T010000
DTSTAMP:20260421T131124
CREATED:20221005T160953Z
LAST-MODIFIED:20221129T205155Z
UID:10000070-1672520400-1672534800@www.offshorerooftop.com
SUMMARY:Offshore Rooftop's Glitz & Glam New Year's Eve Party!
DESCRIPTION:Celebrate the start of 2023 at Offshore Rooftop! \nThis exclusive event will be the place to celebrate as we ring in the New Year. Enjoy a spectacular evening with amazing views of Chicago’s skyline and the spectacular Navy Pier fireworks show. \n  \nDate: 12/31 | Time: 9pm-1am | Ticket Price: $225 \n  \nAll-Inclusive Event \n\nNavy Pier Firework Show at Midnight\n4-hour premium open bar\nPassed Appetizers\nDJ\nCountdown & Champagne Toast at Midnight\nMidnight Ball Drop on TV Screens\nViews of the Chicago Skyline\nCoat Check Available\n\n  \nDress Code: Dress to impress. Formal preferred\, cocktail required.\nVALID PHOTO ID REQUIRED FOR ENTRY (21+) \n  \nSECURITY NOTE:\nAll guests are subject to a bag check and wanding prior to entry.
URL:https://www.offshorerooftop.com/event/offshore-rooftops-new-years-eve-party/
LOCATION:Offshore Rooftop\, 1000 E. Grand\, Chicago\, IL\, 60611\, United States
END:VEVENT
END:VCALENDAR